        BEGIN:VCALENDAR
VERSION:2.0
PRODID:-//Gujarat Electricity Regulatory Commission - ECPv5.3.0//NONSGML v1.0//EN
CALSCALE:GREGORIAN
METHOD:PUBLISH
X-WR-CALNAME:Gujarat Electricity Regulatory Commission
X-ORIGINAL-URL:https://gercin.org
X-WR-CALDESC:Events for Gujarat Electricity Regulatory Commission
BEGIN:VTIMEZONE
TZID:Asia/Kolkata
BEGIN:STANDARD
TZOFFSETFROM:+0530
TZOFFSETTO:+0530
TZNAME:IST
DTSTART:20250101T000000
END:STANDARD
END:VTIMEZONE
BEGIN:VEVENT
DTSTART;TZID=Asia/Kolkata:20250528T113000
DTEND;TZID=Asia/Kolkata:20250528T170000
DTSTAMP:20260420T042943
CREATED:20250520T094253Z
LAST-MODIFIED:20250520T094253Z
UID:41654-1748431800-1748451600@gercin.org
SUMMARY:OMB/AHM/24/2025
DESCRIPTION:New Connection
URL:https://gercin.org/hearing-schedule/omb-ahm-24-2025-2/
CATEGORIES:Ombudsman Hearing Schedule Ahmedabad
END:VEVENT
BEGIN:VEVENT
DTSTART;TZID=Asia/Kolkata:20250528T113000
DTEND;TZID=Asia/Kolkata:20250528T170000
DTSTAMP:20260420T042943
CREATED:20250520T094410Z
LAST-MODIFIED:20250520T094410Z
UID:41656-1748431800-1748451600@gercin.org
SUMMARY:OMB/AHM/25/2025
DESCRIPTION:Billing Related
URL:https://gercin.org/hearing-schedule/omb-ahm-25-2025/
CATEGORIES:Ombudsman Hearing Schedule Ahmedabad
END:VEVENT
BEGIN:VEVENT
DTSTART;TZID=Asia/Kolkata:20250528T113000
DTEND;TZID=Asia/Kolkata:20250528T170000
DTSTAMP:20260420T042943
CREATED:20250520T094513Z
LAST-MODIFIED:20250520T094513Z
UID:41658-1748431800-1748451600@gercin.org
SUMMARY:OMB/AHM/26/2025
DESCRIPTION:New Connection
URL:https://gercin.org/hearing-schedule/omb-ahm-26-2025/
CATEGORIES:Ombudsman Hearing Schedule Ahmedabad
END:VEVENT
BEGIN:VEVENT
DTSTART;TZID=Asia/Kolkata:20250528T113000
DTEND;TZID=Asia/Kolkata:20250528T170000
DTSTAMP:20260420T042943
CREATED:20250520T094601Z
LAST-MODIFIED:20250520T094601Z
UID:41660-1748431800-1748451600@gercin.org
SUMMARY:OMB/AHM/27/2025
DESCRIPTION:New Connection
URL:https://gercin.org/hearing-schedule/omb-ahm-27-2025/
CATEGORIES:Ombudsman Hearing Schedule Ahmedabad
END:VEVENT
END:VCALENDAR