        BEGIN:VCALENDAR
VERSION:2.0
PRODID:-//Gujarat Electricity Regulatory Commission - ECPv5.3.0//NONSGML v1.0//EN
CALSCALE:GREGORIAN
METHOD:PUBLISH
X-WR-CALNAME:Gujarat Electricity Regulatory Commission
X-ORIGINAL-URL:https://gercin.org
X-WR-CALDESC:Events for Gujarat Electricity Regulatory Commission
BEGIN:VTIMEZONE
TZID:Asia/Kolkata
BEGIN:STANDARD
TZOFFSETFROM:+0530
TZOFFSETTO:+0530
TZNAME:IST
DTSTART:20250101T000000
END:STANDARD
END:VTIMEZONE
BEGIN:VEVENT
DTSTART;TZID=Asia/Kolkata:20250408T113000
DTEND;TZID=Asia/Kolkata:20250408T170000
DTSTAMP:20260421T155435
CREATED:20250329T122750Z
LAST-MODIFIED:20250329T122750Z
UID:41069-1744111800-1744131600@gercin.org
SUMMARY:OMB/AHM/14/2025
DESCRIPTION:Supplementary Bill and Meter Testing Related
URL:https://gercin.org/hearing-schedule/omb-ahm-14-2025/
CATEGORIES:Ombudsman Hearing Schedule Ahmedabad
END:VEVENT
BEGIN:VEVENT
DTSTART;TZID=Asia/Kolkata:20250408T113000
DTEND;TZID=Asia/Kolkata:20250408T170000
DTSTAMP:20260421T155435
CREATED:20250329T122836Z
LAST-MODIFIED:20250329T122836Z
UID:41071-1744111800-1744131600@gercin.org
SUMMARY:OMB/AHM/15/2025
DESCRIPTION:Interest on refund amount
URL:https://gercin.org/hearing-schedule/omb-ahm-15-2025/
CATEGORIES:Ombudsman Hearing Schedule Ahmedabad
END:VEVENT
BEGIN:VEVENT
DTSTART;TZID=Asia/Kolkata:20250408T113000
DTEND;TZID=Asia/Kolkata:20250408T170000
DTSTAMP:20260421T155435
CREATED:20250329T122931Z
LAST-MODIFIED:20250329T122931Z
UID:41073-1744111800-1744131600@gercin.org
SUMMARY:OMB/AHM/16/2025
DESCRIPTION:Interest on refund amount
URL:https://gercin.org/hearing-schedule/omb-ahm-16-2025/
CATEGORIES:Ombudsman Hearing Schedule Ahmedabad
END:VEVENT
BEGIN:VEVENT
DTSTART;TZID=Asia/Kolkata:20250408T113000
DTEND;TZID=Asia/Kolkata:20250408T170000
DTSTAMP:20260421T155435
CREATED:20250329T123018Z
LAST-MODIFIED:20250329T123018Z
UID:41075-1744111800-1744131600@gercin.org
SUMMARY:OMB/AHM/17/2025
DESCRIPTION:Interest on refund amount
URL:https://gercin.org/hearing-schedule/omb-ahm-17-2025/
CATEGORIES:Ombudsman Hearing Schedule Ahmedabad
END:VEVENT
END:VCALENDAR