        BEGIN:VCALENDAR
VERSION:2.0
PRODID:-//Gujarat Electricity Regulatory Commission - ECPv5.3.0//NONSGML v1.0//EN
CALSCALE:GREGORIAN
METHOD:PUBLISH
X-WR-CALNAME:Gujarat Electricity Regulatory Commission
X-ORIGINAL-URL:https://gercin.org
X-WR-CALDESC:Events for Gujarat Electricity Regulatory Commission
BEGIN:VTIMEZONE
TZID:Asia/Kolkata
BEGIN:STANDARD
TZOFFSETFROM:+0530
TZOFFSETTO:+0530
TZNAME:IST
DTSTART:20230101T000000
END:STANDARD
END:VTIMEZONE
BEGIN:VEVENT
DTSTART;TZID=Asia/Kolkata:20230822T113000
DTEND;TZID=Asia/Kolkata:20230822T170000
DTSTAMP:20260421T083245
CREATED:20230811T092553Z
LAST-MODIFIED:20230811T092553Z
UID:35411-1692703800-1692723600@gercin.org
SUMMARY:OMB/22/2023
DESCRIPTION:Representation Admission stage Hearing
URL:https://gercin.org/hearing-schedule/omb-22-2023/
CATEGORIES:Ombudsman Hearing Schedule Ahmedabad
END:VEVENT
BEGIN:VEVENT
DTSTART;TZID=Asia/Kolkata:20230822T113000
DTEND;TZID=Asia/Kolkata:20230822T170000
DTSTAMP:20260421T083245
CREATED:20230811T092648Z
LAST-MODIFIED:20230811T092648Z
UID:35413-1692703800-1692723600@gercin.org
SUMMARY:OMB/23/2023
DESCRIPTION:Billing Related
URL:https://gercin.org/hearing-schedule/omb-23-2023/
CATEGORIES:Ombudsman Hearing Schedule Ahmedabad
END:VEVENT
BEGIN:VEVENT
DTSTART;TZID=Asia/Kolkata:20230822T113000
DTEND;TZID=Asia/Kolkata:20230822T170000
DTSTAMP:20260421T083245
CREATED:20230811T092853Z
LAST-MODIFIED:20230811T092853Z
UID:35415-1692703800-1692723600@gercin.org
SUMMARY:OMB/24/2023
DESCRIPTION:Billing Related
URL:https://gercin.org/hearing-schedule/omb-24-2023/
CATEGORIES:Ombudsman Hearing Schedule Ahmedabad
END:VEVENT
BEGIN:VEVENT
DTSTART;TZID=Asia/Kolkata:20230822T150000
DTEND;TZID=Asia/Kolkata:20230822T170000
DTSTAMP:20260421T083245
CREATED:20230811T093015Z
LAST-MODIFIED:20230811T093015Z
UID:35417-1692716400-1692723600@gercin.org
SUMMARY:OMB/25/2023
DESCRIPTION:Disconnection of Power Supply
URL:https://gercin.org/hearing-schedule/omb-25-2023/
CATEGORIES:Ombudsman Hearing Schedule Ahmedabad
END:VEVENT
BEGIN:VEVENT
DTSTART;TZID=Asia/Kolkata:20230822T150000
DTEND;TZID=Asia/Kolkata:20230822T170000
DTSTAMP:20260421T083245
CREATED:20230811T093153Z
LAST-MODIFIED:20230811T093153Z
UID:35419-1692716400-1692723600@gercin.org
SUMMARY:OMB/26/2023
DESCRIPTION:Agreement Related
URL:https://gercin.org/hearing-schedule/omb-26-2023/
CATEGORIES:Ombudsman Hearing Schedule Ahmedabad
END:VEVENT
BEGIN:VEVENT
DTSTART;TZID=Asia/Kolkata:20230822T150000
DTEND;TZID=Asia/Kolkata:20230822T170000
DTSTAMP:20260421T083245
CREATED:20230818T082742Z
LAST-MODIFIED:20230818T082742Z
UID:35439-1692716400-1692723600@gercin.org
SUMMARY:OMB/8/2023
DESCRIPTION:Estimate Related
URL:https://gercin.org/hearing-schedule/omb-8-2023-2/
CATEGORIES:Ombudsman Hearing Schedule Ahmedabad
END:VEVENT
END:VCALENDAR