        BEGIN:VCALENDAR
VERSION:2.0
PRODID:-//Gujarat Electricity Regulatory Commission - ECPv5.3.0//NONSGML v1.0//EN
CALSCALE:GREGORIAN
METHOD:PUBLISH
X-WR-CALNAME:Gujarat Electricity Regulatory Commission
X-ORIGINAL-URL:https://gercin.org
X-WR-CALDESC:Events for Gujarat Electricity Regulatory Commission
BEGIN:VTIMEZONE
TZID:Asia/Kolkata
BEGIN:STANDARD
TZOFFSETFROM:+0530
TZOFFSETTO:+0530
TZNAME:IST
DTSTART:20230101T000000
END:STANDARD
END:VTIMEZONE
BEGIN:VEVENT
DTSTART;TZID=Asia/Kolkata:20230518T113000
DTEND;TZID=Asia/Kolkata:20230518T170000
DTSTAMP:20260424T053311
CREATED:20230504T054140Z
LAST-MODIFIED:20230504T054140Z
UID:34107-1684409400-1684429200@gercin.org
SUMMARY:OMB/5/2023
DESCRIPTION:Billing Related
URL:https://gercin.org/hearing-schedule/omb-5-2023/
CATEGORIES:Ombudsman Hearing Schedule Ahmedabad
END:VEVENT
BEGIN:VEVENT
DTSTART;TZID=Asia/Kolkata:20230518T113000
DTEND;TZID=Asia/Kolkata:20230518T170000
DTSTAMP:20260424T053311
CREATED:20230504T054240Z
LAST-MODIFIED:20230504T054240Z
UID:34109-1684409400-1684429200@gercin.org
SUMMARY:OMB/6/2023
DESCRIPTION:Estimate Related
URL:https://gercin.org/hearing-schedule/omb-6-2023/
CATEGORIES:Ombudsman Hearing Schedule Ahmedabad
END:VEVENT
BEGIN:VEVENT
DTSTART;TZID=Asia/Kolkata:20230518T120000
DTEND;TZID=Asia/Kolkata:20230518T170000
DTSTAMP:20260424T053311
CREATED:20230504T054327Z
LAST-MODIFIED:20230504T054327Z
UID:34111-1684411200-1684429200@gercin.org
SUMMARY:OMB/7/2023
DESCRIPTION:Representation Admission stage Hearing
URL:https://gercin.org/hearing-schedule/omb-7-2023/
CATEGORIES:Ombudsman Hearing Schedule Ahmedabad
END:VEVENT
BEGIN:VEVENT
DTSTART;TZID=Asia/Kolkata:20230518T120000
DTEND;TZID=Asia/Kolkata:20230518T170000
DTSTAMP:20260424T053311
CREATED:20230504T054414Z
LAST-MODIFIED:20230504T054414Z
UID:34113-1684411200-1684429200@gercin.org
SUMMARY:OMB/8/2023
DESCRIPTION:Estimate Related
URL:https://gercin.org/hearing-schedule/omb-8-2023/
CATEGORIES:Ombudsman Hearing Schedule Ahmedabad
END:VEVENT
BEGIN:VEVENT
DTSTART;TZID=Asia/Kolkata:20230518T123000
DTEND;TZID=Asia/Kolkata:20230518T170000
DTSTAMP:20260424T053311
CREATED:20230510T063825Z
LAST-MODIFIED:20230510T063825Z
UID:34147-1684413000-1684429200@gercin.org
SUMMARY:OMB/1/2023
DESCRIPTION:New Connection
URL:https://gercin.org/hearing-schedule/omb-1-2023-3/
CATEGORIES:Ombudsman Hearing Schedule Ahmedabad
END:VEVENT
END:VCALENDAR