        BEGIN:VCALENDAR
VERSION:2.0
PRODID:-//Gujarat Electricity Regulatory Commission - ECPv5.3.0//NONSGML v1.0//EN
CALSCALE:GREGORIAN
METHOD:PUBLISH
X-WR-CALNAME:Gujarat Electricity Regulatory Commission
X-ORIGINAL-URL:https://gercin.org
X-WR-CALDESC:Events for Gujarat Electricity Regulatory Commission
BEGIN:VTIMEZONE
TZID:Asia/Kolkata
BEGIN:STANDARD
TZOFFSETFROM:+0530
TZOFFSETTO:+0530
TZNAME:IST
DTSTART:20260101T000000
END:STANDARD
END:VTIMEZONE
BEGIN:VEVENT
DTSTART;TZID=Asia/Kolkata:20260204T113000
DTEND;TZID=Asia/Kolkata:20260204T170000
DTSTAMP:20260425T050211
CREATED:20260127T110932Z
LAST-MODIFIED:20260127T110932Z
UID:44751-1770204600-1770224400@gercin.org
SUMMARY:1520/2015
DESCRIPTION:Petition under Section 86\, 129 read with Section 146 of the Electricity Act\, 2003.
URL:https://gercin.org/hearing-schedule/1520-2015-6/
CATEGORIES:Hearing Schedule
END:VEVENT
BEGIN:VEVENT
DTSTART;TZID=Asia/Kolkata:20260204T113000
DTEND;TZID=Asia/Kolkata:20260204T170000
DTSTAMP:20260425T050211
CREATED:20260127T111025Z
LAST-MODIFIED:20260127T111025Z
UID:44753-1770204600-1770224400@gercin.org
SUMMARY:1773/2018
DESCRIPTION:Petition for determination of APCC of the Respondents for each year starting from FY 2009-10 and to direct Respondents to comply with the directions given by the Commission vide its Order dated 1.7.2015 in Petition No. 1363 of 2013 as upheld by the Hon’ble APTEL vide Order dated 6.12.2018 in Appeal No. 209 of 2015.
URL:https://gercin.org/hearing-schedule/1773-2018-3/
CATEGORIES:Hearing Schedule
END:VEVENT
BEGIN:VEVENT
DTSTART;TZID=Asia/Kolkata:20260204T113000
DTEND;TZID=Asia/Kolkata:20260204T170000
DTSTAMP:20260425T050211
CREATED:20260127T111101Z
LAST-MODIFIED:20260127T111101Z
UID:44755-1770204600-1770224400@gercin.org
SUMMARY:2288/2023
DESCRIPTION:Petition under Section 86 of the EA\, 2003 seeking clarification on the procedure for grant of connectivity to projects based on RE Sources to Intra-State Transmission System.
URL:https://gercin.org/hearing-schedule/2288-2023-3/
CATEGORIES:Hearing Schedule
END:VEVENT
BEGIN:VEVENT
DTSTART;TZID=Asia/Kolkata:20260204T113000
DTEND;TZID=Asia/Kolkata:20260204T170000
DTSTAMP:20260425T050211
CREATED:20260127T111146Z
LAST-MODIFIED:20260127T111146Z
UID:44757-1770204600-1770224400@gercin.org
SUMMARY:2329/2024 & IAs
DESCRIPTION:Petition under Sections 61 (h)\, 62 (1) (a)\, 62 (4)\, 62 (6) and Section 86 (1) (a) and Section 86 (1) (e) of EA\, 2003 r/w Regulations 23 and 80 of GERC (Conduct of Business) Regulations\, 2004 seeking issuance of Tariff Order for implementation of Gujarat RE Policy\, 2023.
URL:https://gercin.org/hearing-schedule/2329-2024-ias-2/
CATEGORIES:Hearing Schedule
END:VEVENT
BEGIN:VEVENT
DTSTART;TZID=Asia/Kolkata:20260204T113000
DTEND;TZID=Asia/Kolkata:20260204T170000
DTSTAMP:20260425T050211
CREATED:20260127T111220Z
LAST-MODIFIED:20260127T111220Z
UID:44759-1770204600-1770224400@gercin.org
SUMMARY:2601/2026
DESCRIPTION:Petition seeking for approval of adoption of tariff discovered through transparent reverse bidding process under Section 63 of EA\, 2003\, with Rs. 2.95 per unit as ceiling tariff in continuation to the Commission’s Order dated 06.05.2025 in Petition No. 2247/2023\, filed under Section 86 and other applicable provisions of EA\, 2003 for approval of prefixed levelized tariff for purchase of power from Decentralize Ground/Stilt Mounted Grid Connected Solar/other RE based power plants under Component-A of the PM-KUSUM scheme as per GoG’ GR No. SLR/11/2020/mini-185/BI dated 11.12.2020&GR No. SLR/e-file/20/2022/BI dated 30.01.2023.
URL:https://gercin.org/hearing-schedule/2601-2026-2/
CATEGORIES:Hearing Schedule
END:VEVENT
BEGIN:VEVENT
DTSTART;TZID=Asia/Kolkata:20260204T113000
DTEND;TZID=Asia/Kolkata:20260204T170000
DTSTAMP:20260425T050211
CREATED:20260127T111257Z
LAST-MODIFIED:20260127T111257Z
UID:44761-1770204600-1770224400@gercin.org
SUMMARY:2602/2026
DESCRIPTION:Petition seeking for approval of adoption of tariff discovered through transparent reverse bidding process under Section 63 of EA\, 2003\, with Rs. 2.95 per unit as ceiling tariff in continuation to the Commission’s Order dated 06.05.2025 in Petition No. 2247/2023\, filed under Section 86 and other applicable provisions of EA\, 2003 for approval of prefixed levelized tariff for purchase of power from Decentralize Ground/Stilt Mounted Grid Connected Solar/other RE based power plants under Component-A of the PM-KUSUM scheme as per GoG’ GR No. SLR/11/2020/mini-185/BI dated 11.12.2020&GR No. SLR/e-file/20/2022/BI dated 30.01.2023.
URL:https://gercin.org/hearing-schedule/2602-2026-2/
CATEGORIES:Hearing Schedule
END:VEVENT
BEGIN:VEVENT
DTSTART;TZID=Asia/Kolkata:20260204T113000
DTEND;TZID=Asia/Kolkata:20260204T170000
DTSTAMP:20260425T050211
CREATED:20260127T111339Z
LAST-MODIFIED:20260127T111339Z
UID:44763-1770204600-1770224400@gercin.org
SUMMARY:2612/2026
DESCRIPTION:Petition under Section 63 read with Section 86 (1) (b) of the Electricity Act\, 2003 for seeking adoption of tariff discovered under Competitive Bidding Process conducted vide RfS No. GUVNL/ BESS/ Phase VII dated 23.07.2025 issued by GUVNL for purchase of power through Competitive Bidding Process (followed by e-reverse auction) for setting up of Projects of 2000 MW/4000 Mwh standalone Battery Energy Storage Systems in Gujarat under Tariff based Global Competitive Bidding with Viability Gap Funding supported through PSDF (Phase – VII).
URL:https://gercin.org/hearing-schedule/2612-2026/
CATEGORIES:Hearing Schedule
END:VEVENT
END:VCALENDAR