        BEGIN:VCALENDAR
VERSION:2.0
PRODID:-//Gujarat Electricity Regulatory Commission - ECPv5.3.0//NONSGML v1.0//EN
CALSCALE:GREGORIAN
METHOD:PUBLISH
X-WR-CALNAME:Gujarat Electricity Regulatory Commission
X-ORIGINAL-URL:https://gercin.org
X-WR-CALDESC:Events for Gujarat Electricity Regulatory Commission
BEGIN:VTIMEZONE
TZID:Asia/Kolkata
BEGIN:STANDARD
TZOFFSETFROM:+0530
TZOFFSETTO:+0530
TZNAME:IST
DTSTART:20150101T000000
END:STANDARD
END:VTIMEZONE
BEGIN:VEVENT
DTSTART;TZID=Asia/Kolkata:20150801T113000
DTEND;TZID=Asia/Kolkata:20150801T180000
DTSTAMP:20260422T211456
CREATED:20190826T132835Z
LAST-MODIFIED:20190826T132835Z
UID:6746-1438428600-1438452000@gercin.org
SUMMARY:1480/2015
DESCRIPTION:In the matter of devising a mechanism for recovery of compensatory charges from entity (ies) who are in deviation to schedule and for whom a generating station of any entity is scheduled by State Load Dispatch Centre to ensure over drawl/under drawl at regional periphery as stipulated by Central Commission.
URL:https://gercin.org/hearing-schedule/1480-2015-5/
CATEGORIES:Hearing Schedule
END:VEVENT
BEGIN:VEVENT
DTSTART;TZID=Asia/Kolkata:20150801T113000
DTEND;TZID=Asia/Kolkata:20150801T180000
DTSTAMP:20260422T211456
CREATED:20190826T132835Z
LAST-MODIFIED:20190826T132835Z
UID:6747-1438428600-1438452000@gercin.org
SUMMARY:I.A. No. 04 of2015 inPetition No.1480 of 2015
DESCRIPTION:In the matter of filing Interlocutory Application in Petition No. 1480 of 2015 seeking for transposition of GUVNL and Discoms from Respondents to Co-Petitioners.
URL:https://gercin.org/hearing-schedule/i-a-no-04-of2015-inpetition-no-1480-of-2015/
CATEGORIES:Hearing Schedule
END:VEVENT
BEGIN:VEVENT
DTSTART;TZID=Asia/Kolkata:20150801T113000
DTEND;TZID=Asia/Kolkata:20150801T180000
DTSTAMP:20260422T211456
CREATED:20190826T132850Z
LAST-MODIFIED:20190826T132850Z
UID:6769-1438428600-1438452000@gercin.org
SUMMARY:1459/2014
DESCRIPTION:In the matter of adjudication of disputes between GUVNL and M/s. Nitash Co-Generation Pvt. Limited under section 86 and 142 of the Electricity Act\, 2003 and Regulation 86 of the GERC (Conduct of Business) Regulations\, 2004 for execution of the order dated 06.11.2012 passed by the Commission in Petition No. 1202 of 2012.
URL:https://gercin.org/hearing-schedule/1459-2014-11/
CATEGORIES:Hearing Schedule
END:VEVENT
BEGIN:VEVENT
DTSTART;TZID=Asia/Kolkata:20150801T113000
DTEND;TZID=Asia/Kolkata:20150801T180000
DTSTAMP:20260422T211456
CREATED:20190826T132850Z
LAST-MODIFIED:20190826T132850Z
UID:6771-1438428600-1438452000@gercin.org
SUMMARY:1495/2015
DESCRIPTION:In the matter of filing petition for illegal denial of NOC by SLDC for Short Term Open Access for purchase of Power through Collective Transactions\, to be given as per the Electricity Act\, 2003 read with regulation 16 of GERC Notification 3 of 2011 for the month of May 2014 and thereafter
URL:https://gercin.org/hearing-schedule/1495-2015-2/
CATEGORIES:Hearing Schedule
END:VEVENT
BEGIN:VEVENT
DTSTART;TZID=Asia/Kolkata:20150801T113000
DTEND;TZID=Asia/Kolkata:20150801T180000
DTSTAMP:20260422T211456
CREATED:20190826T132905Z
LAST-MODIFIED:20190826T132905Z
UID:6782-1438428600-1438452000@gercin.org
SUMMARY:1489/2015
DESCRIPTION:In the matter of petition under sections 86 (1) (f) of the Electricity Act\, 2003 read with Gujarat Electricity Regulatory Commission (Power Procurement from Renewable Sources) Regulation.
URL:https://gercin.org/hearing-schedule/1489-2015-3/
CATEGORIES:Hearing Schedule
END:VEVENT
BEGIN:VEVENT
DTSTART;TZID=Asia/Kolkata:20150801T113000
DTEND;TZID=Asia/Kolkata:20150801T180000
DTSTAMP:20260422T211456
CREATED:20190826T132905Z
LAST-MODIFIED:20190826T132905Z
UID:6783-1438428600-1438452000@gercin.org
SUMMARY:1458/2015
DESCRIPTION:In the matter of filing petition for retention of 100% service line & delay in Prorata Deposit by GETCO in EHT Bill finalization due to termination of demand by MGVCL
URL:https://gercin.org/hearing-schedule/1458-2015/
CATEGORIES:Hearing Schedule
END:VEVENT
BEGIN:VEVENT
DTSTART;TZID=Asia/Kolkata:20150801T113000
DTEND;TZID=Asia/Kolkata:20150801T180000
DTSTAMP:20260422T211456
CREATED:20190826T132905Z
LAST-MODIFIED:20190826T132905Z
UID:6784-1438428600-1438452000@gercin.org
SUMMARY:1509/2015
DESCRIPTION:In the matter of filing a petition for determination of tariff for FY 2015-16 under GERC regulation 2011.
URL:https://gercin.org/hearing-schedule/1509-2015/
CATEGORIES:Hearing Schedule
END:VEVENT
BEGIN:VEVENT
DTSTART;TZID=Asia/Kolkata:20150801T113000
DTEND;TZID=Asia/Kolkata:20150801T180000
DTSTAMP:20260422T211456
CREATED:20190826T132905Z
LAST-MODIFIED:20190826T132905Z
UID:6785-1438428600-1438452000@gercin.org
SUMMARY:1477/2015 & I.A.No 1/2015
DESCRIPTION:Petition  under  S ection  86  (1)  (c)  and  (f)  of  the  Electricity  Act\,  2003 read  with  Regulation  45  of  GERC  (Terms  and  Conditions  of  Intra – State  Open  Access)  Regulations\,  2011 and Regulations  80  and  82  of  GERC  (Conduct  of  Business)  Regulations\,  2004 .
URL:https://gercin.org/hearing-schedule/1477-2015-i-a-no-1-2015/
CATEGORIES:Hearing Schedule
END:VEVENT
END:VCALENDAR