        BEGIN:VCALENDAR
VERSION:2.0
PRODID:-//Gujarat Electricity Regulatory Commission - ECPv5.3.0//NONSGML v1.0//EN
CALSCALE:GREGORIAN
METHOD:PUBLISH
X-WR-CALNAME:Gujarat Electricity Regulatory Commission
X-ORIGINAL-URL:https://gercin.org
X-WR-CALDESC:Events for Gujarat Electricity Regulatory Commission
BEGIN:VTIMEZONE
TZID:Asia/Kolkata
BEGIN:STANDARD
TZOFFSETFROM:+0530
TZOFFSETTO:+0530
TZNAME:IST
DTSTART:20150101T000000
END:STANDARD
END:VTIMEZONE
BEGIN:VEVENT
DTSTART;TZID=Asia/Kolkata:20150424T113000
DTEND;TZID=Asia/Kolkata:20150424T180000
DTSTAMP:20260421T135416
CREATED:20190826T132735Z
LAST-MODIFIED:20190826T132735Z
UID:6657-1429875000-1429898400@gercin.org
SUMMARY:1456/2014 and I.A. No.09/2014
DESCRIPTION:In the matter of filing petition for wrongful levy of Parallel Operation Charges by PGVCL from Essar Oil Limited under section 86 (1) (f) of the Electricity Act\, 2003 read with Clause 6 of the Settlement Agreement dated 11.12.2009 executed between Essar Oil Limited and GETCO.
URL:https://gercin.org/hearing-schedule/1456-2014-and-i-a-no-09-2014/
CATEGORIES:Hearing Schedule
END:VEVENT
BEGIN:VEVENT
DTSTART;TZID=Asia/Kolkata:20150424T113000
DTEND;TZID=Asia/Kolkata:20150424T180000
DTSTAMP:20260421T135416
CREATED:20190826T132735Z
LAST-MODIFIED:20190826T132735Z
UID:6658-1429875000-1429898400@gercin.org
SUMMARY:1475/2015
DESCRIPTION:In the matter of petition under section 86 of the Electricity Act\, 2003 read with Regulations 23 and 80 of the GERC (Conduct of Business) Regulations\, 2004 read with Clause 5 of the agreement dated 23.12.2009 executed by the parties and for directions/clarification in regard to the nonapplicability of the further/other POC on increased capacity of the Captive Power Plant at the Petitioner’s Dahej unit in view of the agreement dated 23.12.2009 executed between the parties
URL:https://gercin.org/hearing-schedule/1475-2015/
CATEGORIES:Hearing Schedule
END:VEVENT
BEGIN:VEVENT
DTSTART;TZID=Asia/Kolkata:20150424T113000
DTEND;TZID=Asia/Kolkata:20150424T180000
DTSTAMP:20260421T135416
CREATED:20190826T132735Z
LAST-MODIFIED:20190826T132735Z
UID:6659-1429875000-1429898400@gercin.org
SUMMARY:1429/2014
DESCRIPTION:In the matter of petition under section 86 (1) (f) of the Electricity Act\, 2003 for unlawful recovery of Parallel Operation Charges by PGVCL qua Essar Oil Limited’s Captive Power Plant operating in parallel with GETCO’s grid for the period from 13.09.2006 till 01.06.2011.
URL:https://gercin.org/hearing-schedule/1429-2014-9/
CATEGORIES:Hearing Schedule
END:VEVENT
BEGIN:VEVENT
DTSTART;TZID=Asia/Kolkata:20150424T113000
DTEND;TZID=Asia/Kolkata:20150424T180000
DTSTAMP:20260421T135416
CREATED:20190826T132735Z
LAST-MODIFIED:20190826T132735Z
UID:6660-1429875000-1429898400@gercin.org
SUMMARY:1401/2014
DESCRIPTION:In the matter of filing petition under section 86 (1) (f) of the Electricity Act\, 2003 for refund of Parallel Operation Charges
URL:https://gercin.org/hearing-schedule/1401-2014-11/
CATEGORIES:Hearing Schedule
END:VEVENT
BEGIN:VEVENT
DTSTART;TZID=Asia/Kolkata:20150424T113000
DTEND;TZID=Asia/Kolkata:20150424T180000
DTSTAMP:20260421T135416
CREATED:20190826T132750Z
LAST-MODIFIED:20190826T132750Z
UID:6674-1429875000-1429898400@gercin.org
SUMMARY:1480/2015
DESCRIPTION:In the matter of devising a mechanism for recovery of compensatory charges from entity (ies) who are in deviation to schedule and for whom a generating station of any entity is scheduled by State Load Dispatch Centre to ensure over drawl/under drawl at regional periphery as stipulated by Central Commission.
URL:https://gercin.org/hearing-schedule/1480-2015-3/
CATEGORIES:Hearing Schedule
END:VEVENT
END:VCALENDAR