        BEGIN:VCALENDAR
VERSION:2.0
PRODID:-//Gujarat Electricity Regulatory Commission - ECPv5.3.0//NONSGML v1.0//EN
CALSCALE:GREGORIAN
METHOD:PUBLISH
X-WR-CALNAME:Gujarat Electricity Regulatory Commission
X-ORIGINAL-URL:https://gercin.org
X-WR-CALDESC:Events for Gujarat Electricity Regulatory Commission
BEGIN:VTIMEZONE
TZID:Asia/Kolkata
BEGIN:STANDARD
TZOFFSETFROM:+0530
TZOFFSETTO:+0530
TZNAME:IST
DTSTART:20150101T000000
END:STANDARD
END:VTIMEZONE
BEGIN:VEVENT
DTSTART;TZID=Asia/Kolkata:20150418T000000
DTEND;TZID=Asia/Kolkata:20150418T063000
DTSTAMP:20260419T183104
CREATED:20190826T132720Z
LAST-MODIFIED:20190826T132720Z
UID:6638-1429315200-1429338600@gercin.org
SUMMARY:1478/2015
DESCRIPTION:In the matter of petition under section 61\, 62\, 64\, 86 and other applicable provisions of the Electricity Act\, 2003 for Petitioner’s Electric Connection No. HT-18088 for construction purpose and in the matter of the applicable tariff rate HTP – I instead of tariff rate HTP –III as per the relevant tariff order and the regulations
URL:https://gercin.org/hearing-schedule/1478-2015-2/
CATEGORIES:Hearing Schedule
END:VEVENT
BEGIN:VEVENT
DTSTART;TZID=Asia/Kolkata:20150418T113000
DTEND;TZID=Asia/Kolkata:20150418T180000
DTSTAMP:20260419T183104
CREATED:20190826T132705Z
LAST-MODIFIED:20190826T132705Z
UID:6626-1429356600-1429380000@gercin.org
SUMMARY:1450/2014
DESCRIPTION:In the matter of filing petition for adjudication of the dispute between the petitioner and respondent and directing the respondents to (i) to allow the petitioner to connect the Solar PV Power Project of 0.750 MW with the distribution network of Respondent No. 2 (MGVCL)\, (ii) to direct GEDA and other respondents to grant commissioning of the project and accreditate and register the petitioner Solar Power Project under REC Scheme.
URL:https://gercin.org/hearing-schedule/1450-2014-6/
CATEGORIES:Hearing Schedule
END:VEVENT
BEGIN:VEVENT
DTSTART;TZID=Asia/Kolkata:20150418T113000
DTEND;TZID=Asia/Kolkata:20150418T180000
DTSTAMP:20260419T183104
CREATED:20190826T132705Z
LAST-MODIFIED:20190826T132705Z
UID:6627-1429356600-1429380000@gercin.org
SUMMARY:1451/2014
DESCRIPTION:In the matter of filing petition for adjudication of the dispute between the petitioner and respondent and directing the respondents to (i) to allow the petitioner to connect the Solar PV Power Project of 0.500 MW with the distribution network of Respondent No. 2 (MGVCL) \, (ii) to direct GEDA and other respondents to grant commissioning of the project and accreditate and register the petitioner Solar Power Project under REC Scheme.
URL:https://gercin.org/hearing-schedule/1451-2014-6/
CATEGORIES:Hearing Schedule
END:VEVENT
BEGIN:VEVENT
DTSTART;TZID=Asia/Kolkata:20150418T113000
DTEND;TZID=Asia/Kolkata:20150418T180000
DTSTAMP:20260419T183104
CREATED:20190826T132705Z
LAST-MODIFIED:20190826T132705Z
UID:6631-1429356600-1429380000@gercin.org
SUMMARY:1452/2014
DESCRIPTION:In the matter of filing petition for adjudication of the dispute between the petitioner and respondent and directing the respondents to (i) to allow the petitioner to connect the Solar PV Power Project of 0.250 MW with the distribution network of Respondent No. 2 (MGVCL)\, (ii) to direct GEDA and other respondents to grant commissioning of the project and accreditate and register the petitioner Solar Power Project under REC Scheme.
URL:https://gercin.org/hearing-schedule/1452-2014-6/
CATEGORIES:Hearing Schedule
END:VEVENT
BEGIN:VEVENT
DTSTART;TZID=Asia/Kolkata:20150418T113000
DTEND;TZID=Asia/Kolkata:20150418T180000
DTSTAMP:20260419T183104
CREATED:20190826T132705Z
LAST-MODIFIED:20190826T132705Z
UID:6632-1429356600-1429380000@gercin.org
SUMMARY:1458/2014
DESCRIPTION:In the matter of filing petition for retention of 100% service line & delay in Prorata Deposit by GETCO in EHT Bill finalization due to termination of demand by MGVCL.
URL:https://gercin.org/hearing-schedule/1458-2014-5/
CATEGORIES:Hearing Schedule
END:VEVENT
BEGIN:VEVENT
DTSTART;TZID=Asia/Kolkata:20150418T113000
DTEND;TZID=Asia/Kolkata:20150418T180000
DTSTAMP:20260419T183104
CREATED:20190826T132705Z
LAST-MODIFIED:20190826T132705Z
UID:6633-1429356600-1429380000@gercin.org
SUMMARY:1472/2014
DESCRIPTION:In the matter of filing the petition for compliance of the Commission’s order dated 08.08.2013 in Petition No. 1305 of 2013 and additional request.
URL:https://gercin.org/hearing-schedule/1472-2014-5/
CATEGORIES:Hearing Schedule
END:VEVENT
BEGIN:VEVENT
DTSTART;TZID=Asia/Kolkata:20150418T113000
DTEND;TZID=Asia/Kolkata:20150418T180000
DTSTAMP:20260419T183104
CREATED:20190826T132720Z
LAST-MODIFIED:20190826T132720Z
UID:6634-1429356600-1429380000@gercin.org
SUMMARY:1459/2014
DESCRIPTION:In the matter of adjudication of disputes between GUVNL and M/s. Nitash Co-Generation Pvt. Limited under section 86 and 142 of the Electricity Act\, 2003 and Regulation 86 of the GERC (Conduct of Business) Regulations\, 2004 for execution of the order dated 06.11.2012 passed by the Commission in Petition No. 1202 of 2012.
URL:https://gercin.org/hearing-schedule/1459-2014-7/
CATEGORIES:Hearing Schedule
END:VEVENT
BEGIN:VEVENT
DTSTART;TZID=Asia/Kolkata:20150418T113000
DTEND;TZID=Asia/Kolkata:20150418T180000
DTSTAMP:20260419T183104
CREATED:20190826T132720Z
LAST-MODIFIED:20190826T132720Z
UID:6635-1429356600-1429380000@gercin.org
SUMMARY:1420/2014andI.A. No. 07/2014.
DESCRIPTION:In the matter of filing petition under section 86 (1) (f) of the Electricity Act\, 2003\, seeking adjudication of the dispute between the parties with respect to levy of cross subsidy surcharge in terms of section 42 (2) of the Electricity Act\, 2003 read with Rule 3 of the Electricity Rules\, 2005
URL:https://gercin.org/hearing-schedule/1420-2014andi-a-no-07-2014-3/
CATEGORIES:Hearing Schedule
END:VEVENT
BEGIN:VEVENT
DTSTART;TZID=Asia/Kolkata:20150418T113000
DTEND;TZID=Asia/Kolkata:20150418T180000
DTSTAMP:20260419T183104
CREATED:20190826T132720Z
LAST-MODIFIED:20190826T132720Z
UID:6636-1429356600-1429380000@gercin.org
SUMMARY:1405/2014
DESCRIPTION:In the matter under section 86 (1) (f) of the Electricity Act\, 2003 to direct Respondent No. 1 to refund the liquidated damages that illegally charged to the Petitioner since no loss was caused to the Respondent No.1.
URL:https://gercin.org/hearing-schedule/1405-2014-8/
CATEGORIES:Hearing Schedule
END:VEVENT
BEGIN:VEVENT
DTSTART;TZID=Asia/Kolkata:20150418T113000
DTEND;TZID=Asia/Kolkata:20150418T180000
DTSTAMP:20260419T183104
CREATED:20190826T132720Z
LAST-MODIFIED:20190826T132720Z
UID:6637-1429356600-1429380000@gercin.org
SUMMARY:1457/2014
DESCRIPTION:In the matter of preparing and publishing the separate regulation related to the matters pertaining to the farmers having and /or applying for agricultural electricity connections and to direct/order to GUVNL and DISCOMs to prepare and publish the Consumer charter for the agricultural category of consumers
URL:https://gercin.org/hearing-schedule/1457-2014-3/
CATEGORIES:Hearing Schedule
END:VEVENT
BEGIN:VEVENT
DTSTART;TZID=Asia/Kolkata:20150418T113000
DTEND;TZID=Asia/Kolkata:20150418T180000
DTSTAMP:20260419T183104
CREATED:20190826T132720Z
LAST-MODIFIED:20190826T132720Z
UID:6639-1429356600-1429380000@gercin.org
SUMMARY:1480/2015
DESCRIPTION:In the matter of devising a mechanism for recovery of compensatory charges from entity (ies) who are in deviation to schedule and for whom a generating station of any entity is scheduled by State Load Dispatch Centre to ensure over drawl/under drawl at regional periphery as stipulated by Central Commission.
URL:https://gercin.org/hearing-schedule/1480-2015-2/
CATEGORIES:Hearing Schedule
END:VEVENT
BEGIN:VEVENT
DTSTART;TZID=Asia/Kolkata:20150418T113000
DTEND;TZID=Asia/Kolkata:20150418T180000
DTSTAMP:20260419T183104
CREATED:20190826T132720Z
LAST-MODIFIED:20190826T132720Z
UID:6643-1429356600-1429380000@gercin.org
SUMMARY:1482/2015
DESCRIPTION:In the matter of petition under regulations 62 and 64 of the GERC (Conduct of Business) Regulations\, 2004 read with sections 86 (1) (f) and 142 of the Electricity Act\, 2003 for enforcement of Order No.1 of 2012 dated 27.01.2014 and Order dated 08.08.2013 passed by the Commission in Petition No. 1270 of 2012 in the matter of adjudication of disputes under the PPA dated 09.12.2010 and supplementary PPA dated 07.05.2011 between EMCO Limited and GUVNL.
URL:https://gercin.org/hearing-schedule/1482-2015/
CATEGORIES:Hearing Schedule
END:VEVENT
BEGIN:VEVENT
DTSTART;TZID=Asia/Kolkata:20150418T113000
DTEND;TZID=Asia/Kolkata:20150418T180000
DTSTAMP:20260419T183104
CREATED:20190826T132720Z
LAST-MODIFIED:20190826T132720Z
UID:6644-1429356600-1429380000@gercin.org
SUMMARY:1483/2015
DESCRIPTION:In the matter of petition under regulations 62 and 64 of the GERC (Conduct of Business) Regulations\, 2004 read with sections 86 (1) (f) and 142 of the Electricity Act\, 2003 for enforcement of Order No.1 of 2012 dated 27.01.2014 and Order dated 08.08.2013 passed by the Commission in Petition No. 1270 of 2012 in the matter of adjudication of disputes under the PPA dated 09.12.2010 and supplementary PPA dated 07.05.2011 between EMCO Limited and GUVNL.
URL:https://gercin.org/hearing-schedule/1483-2015/
CATEGORIES:Hearing Schedule
END:VEVENT
BEGIN:VEVENT
DTSTART;TZID=Asia/Kolkata:20150418T113000
DTEND;TZID=Asia/Kolkata:20150418T180000
DTSTAMP:20260419T183104
CREATED:20190826T132720Z
LAST-MODIFIED:20190826T132720Z
UID:6645-1429356600-1429380000@gercin.org
SUMMARY:1484/2015
DESCRIPTION:In the matter of petition under regulations 62 and 64 of the GERC (Conduct of Business) Regulations\, 2004 read with sections 86 (1) (f) and 142 of the Electricity Act\, 2003 for enforcement of Order No.1 of 2012 dated 27.01.2014 and Order dated 08.08.2013 passed by the Commission in Petition No. 1270 of 2012 in the matter of adjudication of disputes under the PPA dated 09.12.2010 and supplementary PPA dated 07.05.2011 between EMCO Limited and GUVNL.
URL:https://gercin.org/hearing-schedule/1484-2015/
CATEGORIES:Hearing Schedule
END:VEVENT
BEGIN:VEVENT
DTSTART;TZID=Asia/Kolkata:20150418T113000
DTEND;TZID=Asia/Kolkata:20150418T180000
DTSTAMP:20260419T183104
CREATED:20190826T132720Z
LAST-MODIFIED:20190826T132720Z
UID:6646-1429356600-1429380000@gercin.org
SUMMARY:1485/2015
DESCRIPTION:In the matter of petition under regulations 62 and 64 of the GERC (Conduct of Business) Regulations\, 2004 read with sections 86 (1) (f) and 142 of the Electricity Act\, 2003 for enforcement of Order No.1 of 2012 dated 27.01.2014 and Order dated 08.08.2013 passed by the Commission in Petition No. 1270 of 2012 in the matter of adjudication of disputes under the PPA dated 09.12.2010 and supplementary PPA dated 07.05.2011 between EMCO Limited and GUVNL.
URL:https://gercin.org/hearing-schedule/1485-2015/
CATEGORIES:Hearing Schedule
END:VEVENT
BEGIN:VEVENT
DTSTART;TZID=Asia/Kolkata:20150418T113000
DTEND;TZID=Asia/Kolkata:20150418T180000
DTSTAMP:20260419T183104
CREATED:20190826T132720Z
LAST-MODIFIED:20190826T132720Z
UID:6648-1429356600-1429380000@gercin.org
SUMMARY:1486/2015
DESCRIPTION:In the matter of petition under regulations 62 and 64 of the GERC (Conduct of Business) Regulations\, 2004 read with sections 86 (1) (f) and 142 of the Electricity Act\, 2003 for enforcement of Order No.1 of 2012 dated 27.01.2014 and Order dated 08.08.2013 passed by the Commission in Petition No. 1270 of 2012 in the matter of adjudication of disputes under the PPA dated 09.12.2010 and supplementary PPA dated 07.05.2011 between EMCO Limited and GUVNL.
URL:https://gercin.org/hearing-schedule/1486-2015/
CATEGORIES:Hearing Schedule
END:VEVENT
BEGIN:VEVENT
DTSTART;TZID=Asia/Kolkata:20150418T113000
DTEND;TZID=Asia/Kolkata:20150418T180000
DTSTAMP:20260419T183104
CREATED:20190826T132720Z
LAST-MODIFIED:20190826T132720Z
UID:6649-1429356600-1429380000@gercin.org
SUMMARY:1487/2015
DESCRIPTION:In the matter of petition under regulations 62 and 64 of the GERC (Conduct of Business) Regulations\, 2004 read with sections 86 (1) (f) and 142 of the Electricity Act\, 2003 for enforcement of Order No.1 of 2012 dated 27.01.2014 and Order dated 08.08.2013 passed by the Commission in Petition No. 1270 of 2012 in the matter of adjudication of disputes under the PPA dated 09.12.2010 and supplementary PPA dated 07.05.2011 between EMCO Limited and GUVNL.
URL:https://gercin.org/hearing-schedule/1487-2015/
CATEGORIES:Hearing Schedule
END:VEVENT
BEGIN:VEVENT
DTSTART;TZID=Asia/Kolkata:20150418T113000
DTEND;TZID=Asia/Kolkata:20150418T180000
DTSTAMP:20260419T183104
CREATED:20190826T132735Z
LAST-MODIFIED:20190826T132735Z
UID:6654-1429356600-1429380000@gercin.org
SUMMARY:1488/2015
DESCRIPTION:In the matter of petition under regulations 62 and 64 of the GERC (Conduct of Business) Regulations\, 2004 read with sections 86 (1) (f) and 142 of the Electricity Act\, 2003 for enforcement of Order No.1 of 2012 dated 27.01.2014 and Order dated 08.08.2013 passed by the Commission in Petition No. 1270 of 2012 in the matter of adjudication of disputes under the PPA dated 09.12.2010 and supplementary PPA dated 07.05.2011 between EMCO Limited and GUVNL.
URL:https://gercin.org/hearing-schedule/1488-2015-2/
CATEGORIES:Hearing Schedule
END:VEVENT
BEGIN:VEVENT
DTSTART;TZID=Asia/Kolkata:20150418T113000
DTEND;TZID=Asia/Kolkata:20150418T180000
DTSTAMP:20260419T183104
CREATED:20190826T132735Z
LAST-MODIFIED:20190826T132735Z
UID:6655-1429356600-1429380000@gercin.org
SUMMARY:1477/2015 and I.A. No. 1/2015
DESCRIPTION:In the matter of petition under section 86 (1) (c) and (f) of the Electricity Act\, 2003 read with Regulation 45 of the GERC (Terms and Conditions of Intra-State Open Access) Regulations\, 2011 and Regulations 80 and 82 of the GERC (Conduct of Business) Regulations\, 2004 and extension of the effective date of payment of transmission charges under Bulk Power Transmission Agreement dated 21.12.2010 executed between the OPGS Power Gujarat Private Limited and Gujarat Energy Transmission Corporation Limited.
URL:https://gercin.org/hearing-schedule/1477-2015-and-i-a-no-1-2015/
CATEGORIES:Hearing Schedule
END:VEVENT
BEGIN:VEVENT
DTSTART;TZID=Asia/Kolkata:20150418T113000
DTEND;TZID=Asia/Kolkata:20150418T180000
DTSTAMP:20260419T183104
CREATED:20190826T132735Z
LAST-MODIFIED:20190826T132735Z
UID:6656-1429356600-1429380000@gercin.org
SUMMARY:1424/2014
DESCRIPTION:In the matter of petition of adjudication of dispute under section 86(1) (f) of the Electricity Act\, 2003 read with Article 8 of the Power Purchase Agreement dated 07.08.2008 executed between the petitioner and GUVNL\, regarding wrongful levy of liquidated damage/ penalty amount of Rs. 44 Lakhs due to non- availability of the targeted generation during the FY 2012-2013 was a Force Majeure event as per the provisions of the PPA.
URL:https://gercin.org/hearing-schedule/1424-2014-10/
CATEGORIES:Hearing Schedule
END:VEVENT
END:VCALENDAR