        BEGIN:VCALENDAR
VERSION:2.0
PRODID:-//Gujarat Electricity Regulatory Commission - ECPv5.3.0//NONSGML v1.0//EN
CALSCALE:GREGORIAN
METHOD:PUBLISH
X-WR-CALNAME:Gujarat Electricity Regulatory Commission
X-ORIGINAL-URL:https://gercin.org
X-WR-CALDESC:Events for Gujarat Electricity Regulatory Commission
BEGIN:VTIMEZONE
TZID:Asia/Kolkata
BEGIN:STANDARD
TZOFFSETFROM:+0530
TZOFFSETTO:+0530
TZNAME:IST
DTSTART:20140101T000000
END:STANDARD
END:VTIMEZONE
BEGIN:VEVENT
DTSTART;TZID=Asia/Kolkata:20140607T113000
DTEND;TZID=Asia/Kolkata:20140607T180000
DTSTAMP:20260419T221737
CREATED:20190826T132236Z
LAST-MODIFIED:20190826T132236Z
UID:6258-1402140600-1402164000@gercin.org
SUMMARY:1411/2014
DESCRIPTION:In the matter of filing petition for approval of Capital Cost for 500 MW Ukai Unit No. 6 in respects to the PPA between GSECL and GUVNL.
URL:https://gercin.org/hearing-schedule/1411-2014/
CATEGORIES:Hearing Schedule
END:VEVENT
BEGIN:VEVENT
DTSTART;TZID=Asia/Kolkata:20140607T113000
DTEND;TZID=Asia/Kolkata:20140607T180000
DTSTAMP:20260419T221737
CREATED:20190826T132305Z
LAST-MODIFIED:20190826T132305Z
UID:6296-1402140600-1402164000@gercin.org
SUMMARY:1362/2013
DESCRIPTION:In the matter of filing of petition seeking adjudication of the dispute under section 86 (1) (f) of the Electricity Act\, 2003 between the parties with respect to the nonapplicability of levy of additional surcharge in terms of Section 42 (4) of the Electricity Act\, 2003 read with Regulation 25 of the GERC (Terms and Conditions of Intra-State Open Access) Regulations\, 2011.
URL:https://gercin.org/hearing-schedule/1362-2013-8/
CATEGORIES:Hearing Schedule
END:VEVENT
BEGIN:VEVENT
DTSTART;TZID=Asia/Kolkata:20140607T113000
DTEND;TZID=Asia/Kolkata:20140607T180000
DTSTAMP:20260419T221737
CREATED:20190826T132305Z
LAST-MODIFIED:20190826T132305Z
UID:6297-1402140600-1402164000@gercin.org
SUMMARY:I. A. No. 06/2014 in Petition No. 1362/2014
DESCRIPTION:In the matter of filing an Interim application under section 86 (1) (f) of the Electricity Act\, 2003\, seeking stay against levy of additional surcharge in terms of section 42 (4) of the Electricity Act\, 2003 read with Regulation 25 of the GERC (Terms and Conditions of Intra-State Open Access) Regulations\, 2011.
URL:https://gercin.org/hearing-schedule/i-a-no-06-2014-in-petition-no-1362-2014/
CATEGORIES:Hearing Schedule
END:VEVENT
BEGIN:VEVENT
DTSTART;TZID=Asia/Kolkata:20140607T113000
DTEND;TZID=Asia/Kolkata:20140607T180000
DTSTAMP:20260419T221737
CREATED:20190826T132305Z
LAST-MODIFIED:20190826T132305Z
UID:6298-1402140600-1402164000@gercin.org
SUMMARY:Review Petition No. 1399 /2014
DESCRIPTION:In the matter of filing review petition under section 94 (1) (f) of the Electricity Act\, 2003 read with clause 72 (1) of the GERC (Conduct of Business) Regulations\, 2004 against the Commission’s Order dated 25.11.2013 in Petition No. 1331 of 2013\, to avail intra-state open access.
URL:https://gercin.org/hearing-schedule/review-petition-no-1399-2014-3/
CATEGORIES:Hearing Schedule
END:VEVENT
BEGIN:VEVENT
DTSTART;TZID=Asia/Kolkata:20140607T113000
DTEND;TZID=Asia/Kolkata:20140607T180000
DTSTAMP:20260419T221737
CREATED:20190826T132305Z
LAST-MODIFIED:20190826T132305Z
UID:6303-1402140600-1402164000@gercin.org
SUMMARY:1401/2014
DESCRIPTION:n the matter of filing petition under section 86 (1) (f) of the Electricity Act\, 2003 for refund of Parallel Operation Charges.
URL:https://gercin.org/hearing-schedule/1401-2014-3/
CATEGORIES:Hearing Schedule
END:VEVENT
BEGIN:VEVENT
DTSTART;TZID=Asia/Kolkata:20140607T113000
DTEND;TZID=Asia/Kolkata:20140607T180000
DTSTAMP:20260419T221737
CREATED:20190826T132305Z
LAST-MODIFIED:20190826T132305Z
UID:6304-1402140600-1402164000@gercin.org
SUMMARY:1406/2014
DESCRIPTION:In the matter under section 94 of the Electricity Act\, 2003 read with regulation 26.1 of GERC Regulation\, 2 of 2004 to get refund of development charges from MGVCL as per estimate given to the Petitioner.
URL:https://gercin.org/hearing-schedule/1406-2014-2/
CATEGORIES:Hearing Schedule
END:VEVENT
BEGIN:VEVENT
DTSTART;TZID=Asia/Kolkata:20140607T113000
DTEND;TZID=Asia/Kolkata:20140607T180000
DTSTAMP:20260419T221737
CREATED:20190826T132305Z
LAST-MODIFIED:20190826T132305Z
UID:6305-1402140600-1402164000@gercin.org
SUMMARY:1407/2014
DESCRIPTION:In the matter of withdrawl/denial of Short Term Open Access (STOA) from 20.03.2014 due to rise in the Demand leading to grid constraint in the upstream network and denial of STOA from 01.04.2014 by SLDC; GETCO for Collective Transmissions and other Open Access related issues.
URL:https://gercin.org/hearing-schedule/1407-2014-2/
CATEGORIES:Hearing Schedule
END:VEVENT
BEGIN:VEVENT
DTSTART;TZID=Asia/Kolkata:20140607T113000
DTEND;TZID=Asia/Kolkata:20140607T180000
DTSTAMP:20260419T221737
CREATED:20190826T132305Z
LAST-MODIFIED:20190826T132305Z
UID:6306-1402140600-1402164000@gercin.org
SUMMARY:1408/2014
DESCRIPTION:In the matter of withdrawl/denial of Short Term Open Access (STOA) from 20.03.2014 due to rise in the Demand leading to grid constraint in the upstream network and denial of STOA from 01.04.2014 by SLDC; GETCO for Collective Transmissions and other Open Access related issues.
URL:https://gercin.org/hearing-schedule/1408-2014-2/
CATEGORIES:Hearing Schedule
END:VEVENT
BEGIN:VEVENT
DTSTART;TZID=Asia/Kolkata:20140607T113000
DTEND;TZID=Asia/Kolkata:20140607T180000
DTSTAMP:20260419T221737
CREATED:20190826T132305Z
LAST-MODIFIED:20190826T132305Z
UID:6307-1402140600-1402164000@gercin.org
SUMMARY:1409/2014
DESCRIPTION:In the matter of withdrawl/denial of Short Term Open Access (STOA) from 20.03.2014 due to rise in the Demand leading to grid constraint in the upstream network and denial of STOA from 01.04.2014 by SLDC; GETCO for Collective Transmissions and other Open Access related issues.
URL:https://gercin.org/hearing-schedule/1409-2014-2/
CATEGORIES:Hearing Schedule
END:VEVENT
BEGIN:VEVENT
DTSTART;TZID=Asia/Kolkata:20140607T113000
DTEND;TZID=Asia/Kolkata:20140607T180000
DTSTAMP:20260419T221737
CREATED:20190826T132305Z
LAST-MODIFIED:20190826T132305Z
UID:6308-1402140600-1402164000@gercin.org
SUMMARY:1410/2014
DESCRIPTION:In the matter of withdrawl/denial of Short Term Open Access (STOA) from 20.03.2014 due to rise in the Demand leading to grid constraint in the upstream network and denial of STOA from 01.04.2014 by SLDC; GETCO for Collective Transmissions and other Open Access related issues.
URL:https://gercin.org/hearing-schedule/1410-2014-2/
CATEGORIES:Hearing Schedule
END:VEVENT
BEGIN:VEVENT
DTSTART;TZID=Asia/Kolkata:20140607T113000
DTEND;TZID=Asia/Kolkata:20140607T180000
DTSTAMP:20260419T221737
CREATED:20190826T132305Z
LAST-MODIFIED:20190826T132305Z
UID:6311-1402140600-1402164000@gercin.org
SUMMARY:1412/2014
DESCRIPTION:In the matter of filing petition under section 94 of the Electricity Act\, 2003 read with Regulation 26.1 of GERC Regulation 2 of 2004\, read with GERC Regulation 3 of 2011 for intra-State Open Access Regulation\, 2011\, against notice issued by PGVCL for withdrawal of consent granted for short term Open Access under provision of CERC ( DSM and Related Matters) Regulation\, 2014.
URL:https://gercin.org/hearing-schedule/1412-2014/
CATEGORIES:Hearing Schedule
END:VEVENT
BEGIN:VEVENT
DTSTART;TZID=Asia/Kolkata:20140607T113000
DTEND;TZID=Asia/Kolkata:20140607T180000
DTSTAMP:20260419T221737
CREATED:20190826T132305Z
LAST-MODIFIED:20190826T132305Z
UID:6312-1402140600-1402164000@gercin.org
SUMMARY:1413/2014
DESCRIPTION:In the matter of filing petition under section 94 of the Electricity Act\, 2003 read with Regulation 26.1 of GERC Regulation 2 of 2004\, read with GERC Regulation 3 of 2011 for intra-State Open Access Regulation\, 2011\, against notice issued by PGVCL for withdrawal of consent granted for short term Open Access under provision of CERC ( DSM and Related Matters) Regulation\, 2014.
URL:https://gercin.org/hearing-schedule/1413-2014/
CATEGORIES:Hearing Schedule
END:VEVENT
BEGIN:VEVENT
DTSTART;TZID=Asia/Kolkata:20140607T113000
DTEND;TZID=Asia/Kolkata:20140607T180000
DTSTAMP:20260419T221737
CREATED:20190826T132320Z
LAST-MODIFIED:20190826T132320Z
UID:6315-1402140600-1402164000@gercin.org
SUMMARY:1414/2014
DESCRIPTION:In the matter of filing petition under section 94 of the Electricity Act\, 2003 read with Regulation 26.1 of GERC Regulation 2 of 2004\, read with GERC Regulation 3 of 2011 for intra-State Open Access Regulation\, 2011\, against notice issued by PGVCL for withdrawal of consent granted for short term Open Access under provision of CERC ( DSM and Related Matters) Regulation\, 2014.
URL:https://gercin.org/hearing-schedule/1414-2014/
CATEGORIES:Hearing Schedule
END:VEVENT
BEGIN:VEVENT
DTSTART;TZID=Asia/Kolkata:20140607T113000
DTEND;TZID=Asia/Kolkata:20140607T180000
DTSTAMP:20260419T221737
CREATED:20190826T132320Z
LAST-MODIFIED:20190826T132320Z
UID:6316-1402140600-1402164000@gercin.org
SUMMARY:1415/2014
DESCRIPTION:In the matter of filing petition under section 86 (i) (c)\, (e)\, (f) of the Electricity Act\, 2003 read with GERC (Terms and Conditions of Intra-State Open Access) Regulations\, 2011 and  GERC Wind Tariff Orders dated 11.08.2006 & 30.01.2010 and Wind Power Policy notified by the Government of Gujarat.
URL:https://gercin.org/hearing-schedule/1415-2014/
CATEGORIES:Hearing Schedule
END:VEVENT
BEGIN:VEVENT
DTSTART;TZID=Asia/Kolkata:20140607T113000
DTEND;TZID=Asia/Kolkata:20140607T180000
DTSTAMP:20260419T221737
CREATED:20190826T132320Z
LAST-MODIFIED:20190826T132320Z
UID:6317-1402140600-1402164000@gercin.org
SUMMARY:1416/2014
DESCRIPTION:In the matter of filing petition under section 42 (2) and 86 (i) (c) (3) of the Electricity Act\, 2003 read with GERC (Terms and Conditions of Intra-State Open Access) Regulations\, 2011 for arbitrary\, illegal and discriminatory action to discontinue the access of electricity through Short Term Open Access from 00:00 Hours from 20.03.2014.
URL:https://gercin.org/hearing-schedule/1416-2014/
CATEGORIES:Hearing Schedule
END:VEVENT
BEGIN:VEVENT
DTSTART;TZID=Asia/Kolkata:20140607T113000
DTEND;TZID=Asia/Kolkata:20140607T180000
DTSTAMP:20260419T221737
CREATED:20190826T132320Z
LAST-MODIFIED:20190826T132320Z
UID:6318-1402140600-1402164000@gercin.org
SUMMARY:1417/2014
DESCRIPTION:In the matter of filing petition under section 42 (2) and 86 (i) (c) (3) of the Electricity Act\, 2003 read with GERC (Terms and Conditions of Intra-State Open Access) Regulations\, 2011 for arbitrary\, illegal and discriminatory action to discontinue the access of electricity through Short Term Open Access from 00:00 Hours from 20.03.2014.
URL:https://gercin.org/hearing-schedule/1417-2014/
CATEGORIES:Hearing Schedule
END:VEVENT
BEGIN:VEVENT
DTSTART;TZID=Asia/Kolkata:20140607T113000
DTEND;TZID=Asia/Kolkata:20140607T180000
DTSTAMP:20260419T221737
CREATED:20190826T132320Z
LAST-MODIFIED:20190826T132320Z
UID:6319-1402140600-1402164000@gercin.org
SUMMARY:1418/2014
DESCRIPTION:In the matter of filing petition for approval of purchase of power to be generated from Rooftop Solar Power Generation Projects at 14 different sites by Surat Municipal Corporation aggregating to installed capacity of 750 KWp on a Long-Term basis at the tariff to be determined by the GERC under section 86 (1) (b) read with section 86 (1) (e) of the Electricity Act\, 2003.
URL:https://gercin.org/hearing-schedule/1418-2014/
CATEGORIES:Hearing Schedule
END:VEVENT
BEGIN:VEVENT
DTSTART;TZID=Asia/Kolkata:20140607T113000
DTEND;TZID=Asia/Kolkata:20140607T180000
DTSTAMP:20260419T221737
CREATED:20190826T132320Z
LAST-MODIFIED:20190826T132320Z
UID:6320-1402140600-1402164000@gercin.org
SUMMARY:1419/2014
DESCRIPTION:In the matter of filing petition under section 42 (2) and 86 (i) (c) (3) of the Electricity Act\, 2003 read with GERC (Terms and Conditions of Intra-State Open Access) Regulations\, 2011 for arbitrary\, illegal and discriminatory action to discontinue the access of electricity through Short Term Open Access from 00:00 Hours from 20.03.2014.
URL:https://gercin.org/hearing-schedule/1419-2014/
CATEGORIES:Hearing Schedule
END:VEVENT
BEGIN:VEVENT
DTSTART;TZID=Asia/Kolkata:20140607T113000
DTEND;TZID=Asia/Kolkata:20140607T180000
DTSTAMP:20260419T221737
CREATED:20190826T132320Z
LAST-MODIFIED:20190826T132320Z
UID:6334-1402140600-1402164000@gercin.org
SUMMARY:1422/2014
DESCRIPTION:In the matter of approval of short term power purchase arrangement for sourcing of power from M/s GUVNL to cater to the demand of Dahej license area under the provisions of the Guidelines for Power Procurement by Distribution licensee issued by the Hon’ble Commission read with Section 86 (1) (b) of the Electricity Act 2003.
URL:https://gercin.org/hearing-schedule/1422-2014/
CATEGORIES:Hearing Schedule
END:VEVENT
BEGIN:VEVENT
DTSTART;TZID=Asia/Kolkata:20140607T153000
DTEND;TZID=Asia/Kolkata:20140607T220000
DTSTAMP:20260419T221737
CREATED:20190826T132320Z
LAST-MODIFIED:20190826T132320Z
UID:6333-1402155000-1402178400@gercin.org
SUMMARY:1296/2013
DESCRIPTION:01.	07.06.2014 15:30 Hours	1296 of 2013	In the matter of adjustment of tariff under Article 13 of the PPA dated 26.02.2007 entered into the GUVNL and Essar Power Gujarat Limited.	Essar Power Gujarat Limited  V/s. GUVNL
URL:https://gercin.org/hearing-schedule/1296-2013-13/
CATEGORIES:Hearing Schedule
END:VEVENT
END:VCALENDAR