        BEGIN:VCALENDAR
VERSION:2.0
PRODID:-//Gujarat Electricity Regulatory Commission - ECPv5.3.0//NONSGML v1.0//EN
CALSCALE:GREGORIAN
METHOD:PUBLISH
X-WR-CALNAME:Gujarat Electricity Regulatory Commission
X-ORIGINAL-URL:https://gercin.org
X-WR-CALDESC:Events for Gujarat Electricity Regulatory Commission
BEGIN:VTIMEZONE
TZID:Asia/Kolkata
BEGIN:STANDARD
TZOFFSETFROM:+0530
TZOFFSETTO:+0530
TZNAME:IST
DTSTART:20130101T000000
END:STANDARD
END:VTIMEZONE
BEGIN:VEVENT
DTSTART;TZID=Asia/Kolkata:20131130T113000
DTEND;TZID=Asia/Kolkata:20131130T180000
DTSTAMP:20260419T183147
CREATED:20190826T131926Z
LAST-MODIFIED:20190826T131926Z
UID:5995-1385811000-1385834400@gercin.org
SUMMARY:1221/2012
DESCRIPTION:Petition of adjusting the tariff fixed by the Commission in order on determination of tariff for procurement of power by dist. Licensees from WEG & other commercial issues dated 30.01.2010 due to petitioner not availing accelerated depreciation.
URL:https://gercin.org/hearing-schedule/1221-2012-11/
CATEGORIES:Hearing Schedule
END:VEVENT
BEGIN:VEVENT
DTSTART;TZID=Asia/Kolkata:20131130T113000
DTEND;TZID=Asia/Kolkata:20131130T180000
DTSTAMP:20260419T183147
CREATED:20190826T131926Z
LAST-MODIFIED:20190826T131926Z
UID:5996-1385811000-1385834400@gercin.org
SUMMARY:1322/2013
DESCRIPTION:In the matter of adoption of tariff determined by the Hon’ble CERC under section 62 (1) (a) read with section 79 (1) (b) of the Electricity Act\, 2003 for sourcing 278 MW power from brownfield expansion of existing SUGEN generation Plant (UNOSUGEN) for Ahmedabad/Gandhinagar and Surat License Areas under the provisions of the Electricity Act\, 2003.
URL:https://gercin.org/hearing-schedule/1322-2013-3/
CATEGORIES:Hearing Schedule
END:VEVENT
BEGIN:VEVENT
DTSTART;TZID=Asia/Kolkata:20131130T113000
DTEND;TZID=Asia/Kolkata:20131130T180000
DTSTAMP:20260419T183147
CREATED:20190826T131926Z
LAST-MODIFIED:20190826T131926Z
UID:6000-1385811000-1385834400@gercin.org
SUMMARY:1338/2013
DESCRIPTION:In the matter of filing of petition under section 94 of the Electricity Act\, 2003 read with Regulation 10.2 of GERC Regulation 1 of 2011 and Regulation 26.1 of the GERC Regulation 2 of 2004 to reduce and determine the demand charges in HT connection for steel industries units under recessionary conditions.
URL:https://gercin.org/hearing-schedule/1338-2013-3/
CATEGORIES:Hearing Schedule
END:VEVENT
BEGIN:VEVENT
DTSTART;TZID=Asia/Kolkata:20131130T113000
DTEND;TZID=Asia/Kolkata:20131130T180000
DTSTAMP:20260419T183147
CREATED:20190826T131926Z
LAST-MODIFIED:20190826T131926Z
UID:6001-1385811000-1385834400@gercin.org
SUMMARY:1348/2013
DESCRIPTION:In the matter of filing of petition for reduction in fees and charges under section 86 (1) (g) of the Electricity Act\, 2003 and clause 8 of Notification 4 of 2005.
URL:https://gercin.org/hearing-schedule/1348-2013-2/
CATEGORIES:Hearing Schedule
END:VEVENT
BEGIN:VEVENT
DTSTART;TZID=Asia/Kolkata:20131130T113000
DTEND;TZID=Asia/Kolkata:20131130T180000
DTSTAMP:20260419T183147
CREATED:20190826T131926Z
LAST-MODIFIED:20190826T131926Z
UID:6002-1385811000-1385834400@gercin.org
SUMMARY:Review Petition No. 1349 of 2013
DESCRIPTION:In the matter of filing the review petition under section 94 (1) (f) of the Electricity Act\, 2003 read with Regulation 72 (1) of the GERC (Conduct of Business) Regulation\, 2004 seeking review of the order of the Commission dated 23.07.2013 in Case No. 1291/2013 filed by the M/s. Aarvee Denims and Exports Limited to avail Intra-State Open Access.
URL:https://gercin.org/hearing-schedule/review-petition-no-1349-of-2013/
CATEGORIES:Hearing Schedule
END:VEVENT
BEGIN:VEVENT
DTSTART;TZID=Asia/Kolkata:20131130T113000
DTEND;TZID=Asia/Kolkata:20131130T180000
DTSTAMP:20260419T183147
CREATED:20190826T131926Z
LAST-MODIFIED:20190826T131926Z
UID:6003-1385811000-1385834400@gercin.org
SUMMARY:1351/2013
DESCRIPTION:In the matter of filing of petition for denial of Open Access by DGVCL/GETCO to JKPL with 3 Minutes Integration Period Meter POC Option.
URL:https://gercin.org/hearing-schedule/1351-2013-2/
CATEGORIES:Hearing Schedule
END:VEVENT
END:VCALENDAR