        BEGIN:VCALENDAR
VERSION:2.0
PRODID:-//Gujarat Electricity Regulatory Commission - ECPv5.3.0//NONSGML v1.0//EN
CALSCALE:GREGORIAN
METHOD:PUBLISH
X-WR-CALNAME:Gujarat Electricity Regulatory Commission
X-ORIGINAL-URL:https://gercin.org
X-WR-CALDESC:Events for Gujarat Electricity Regulatory Commission
BEGIN:VTIMEZONE
TZID:Asia/Kolkata
BEGIN:STANDARD
TZOFFSETFROM:+0530
TZOFFSETTO:+0530
TZNAME:IST
DTSTART:20130101T000000
END:STANDARD
END:VTIMEZONE
BEGIN:VEVENT
DTSTART;TZID=Asia/Kolkata:20131116T113000
DTEND;TZID=Asia/Kolkata:20131116T180000
DTSTAMP:20260420T041134
CREATED:20190826T131856Z
LAST-MODIFIED:20190826T131856Z
UID:5959-1384601400-1384624800@gercin.org
SUMMARY:1296/2013
DESCRIPTION:In the matter of adjustment of tariff under Article 13 of the Power Purchase Agreement dated 26.02.2007 entered into the Gujarat Urja Vikas Nigam Limited and Essar Power Gujarat Limited.
URL:https://gercin.org/hearing-schedule/1296-2013-7/
CATEGORIES:Hearing Schedule
END:VEVENT
BEGIN:VEVENT
DTSTART;TZID=Asia/Kolkata:20131116T113000
DTEND;TZID=Asia/Kolkata:20131116T180000
DTSTAMP:20260420T041134
CREATED:20190826T131856Z
LAST-MODIFIED:20190826T131856Z
UID:5960-1384601400-1384624800@gercin.org
SUMMARY:1301/2013
DESCRIPTION:In the matter of petition under section 86 (1) (c) and (f) of the Electricity Act\, 2003 read with Regulation 45 of the GERC (Terms and Conditions of Intra-State Open Access) Regulations\, 2011 and Regulations 80 and 82 of the GERC (Conduct of Business) Regulations\, 2004 and extension of the effective date of Bulk Power Transmission Agreement dated 21.12.2010 executed between the OPGS Power Gujarat Private Limited and Gujarat Energy Transmission Corporation Limited.
URL:https://gercin.org/hearing-schedule/1301-2013-7/
CATEGORIES:Hearing Schedule
END:VEVENT
BEGIN:VEVENT
DTSTART;TZID=Asia/Kolkata:20131116T113000
DTEND;TZID=Asia/Kolkata:20131116T180000
DTSTAMP:20260420T041134
CREATED:20190826T131856Z
LAST-MODIFIED:20190826T131856Z
UID:5961-1384601400-1384624800@gercin.org
SUMMARY:1302/2013
DESCRIPTION:In the matter under GERC (Terms and Conditions of the Intra-State Open Access)\, Regulations\, 2011 for determination of additional surcharge payable by open access consumers availing power under open access.
URL:https://gercin.org/hearing-schedule/1302-2013-6/
CATEGORIES:Hearing Schedule
END:VEVENT
BEGIN:VEVENT
DTSTART;TZID=Asia/Kolkata:20131116T113000
DTEND;TZID=Asia/Kolkata:20131116T180000
DTSTAMP:20260420T041134
CREATED:20190826T131856Z
LAST-MODIFIED:20190826T131856Z
UID:5964-1384601400-1384624800@gercin.org
SUMMARY:1188/2012
DESCRIPTION:Petition under regulation 80 of the GERC (Conduct of Business) Regulations\, 2004 read with section 86 of the Electricity Act\, 2003 for extension of the “Control Period” as defined by the Commission through its Tariff Order dated 29.01.2010\, passed in Order No. 2 of 2010.
URL:https://gercin.org/hearing-schedule/1188-2012-5/
CATEGORIES:Hearing Schedule
END:VEVENT
BEGIN:VEVENT
DTSTART;TZID=Asia/Kolkata:20131116T113000
DTEND;TZID=Asia/Kolkata:20131116T180000
DTSTAMP:20260420T041134
CREATED:20190826T131856Z
LAST-MODIFIED:20190826T131856Z
UID:5968-1384601400-1384624800@gercin.org
SUMMARY:1244/2012
DESCRIPTION:In the matter under section 86(1) (f) of the Electricity Act\, 2003 for directions to the respondents to pay the amounts due to the petitioner in terms of the invoices raised and for re-determination of fuel cost\, fixation of tariff of the biomass based 10 MW power plant at Bhavnagar under section 62 read with section 81(1) (a)\, (b) of the Electricity Act\, 2003.
URL:https://gercin.org/hearing-schedule/1244-2012-9/
CATEGORIES:Hearing Schedule
END:VEVENT
BEGIN:VEVENT
DTSTART;TZID=Asia/Kolkata:20131116T113000
DTEND;TZID=Asia/Kolkata:20131116T180000
DTSTAMP:20260420T041134
CREATED:20190826T131856Z
LAST-MODIFIED:20190826T131856Z
UID:5969-1384601400-1384624800@gercin.org
SUMMARY:1333/2013
DESCRIPTION:In the matter of seeking adjudication of dispute under section 86 (1)(f) of the Electricity Act\, 2003 in terms of the Power Purchase Agreement dated 30.04.2010 for 25 MW Solar Power Project of M/s Cargo Solar Power Gujarat Pvt. Limited with GUVNL regarding (i) considering the period from 07.04.2012 to 31.07.2013 as Force Majeure Event; and (ii) changes in the definition of Construction Default Date\, Schedule Commercial Operation Date (SCOD)\, Article 2.2 pertaining to Licences\, permits and conditions precedents\, Article 4.3 pertaining to liquidated damages for delay in commissioning the project/solar thermal grid interconnectivity power plant beyond Schedule Commercial Operation Date and extend the time limit for Schedule Commercial Operation Date from 31.07.2013 to 31.12.2014.
URL:https://gercin.org/hearing-schedule/1333-2013-3/
CATEGORIES:Hearing Schedule
END:VEVENT
BEGIN:VEVENT
DTSTART;TZID=Asia/Kolkata:20131116T113000
DTEND;TZID=Asia/Kolkata:20131116T180000
DTSTAMP:20260420T041134
CREATED:20190826T131856Z
LAST-MODIFIED:20190826T131856Z
UID:5970-1384601400-1384624800@gercin.org
SUMMARY:1334/2013
DESCRIPTION:In the matter under sections 62 and 64 of the Electricity Act\, 2003 for initiation of proceedings by the Commission for deciding on the matters concerning the approval of tariff and other commercial issues for sale of power to Distribution Licensees and Others in the State of Gujarat from its Waste-to-Energy Power Plant based on Municipal Solid Waste (MSW).
URL:https://gercin.org/hearing-schedule/1334-2013-2/
CATEGORIES:Hearing Schedule
END:VEVENT
BEGIN:VEVENT
DTSTART;TZID=Asia/Kolkata:20131116T113000
DTEND;TZID=Asia/Kolkata:20131116T180000
DTSTAMP:20260420T041134
CREATED:20190826T131856Z
LAST-MODIFIED:20190826T131856Z
UID:5971-1384601400-1384624800@gercin.org
SUMMARY:1335/2013
DESCRIPTION:In the matter under section 94 of the Electricity Act\, 2003 read with the Regulations 80\, 81\, 82 and 83 of the GERC (Conduct of Business) Regulations\, 2004 seeking clarifications/rectification of the Commission’s Order dated 27.05.2013 in Case No. 1280 of 2013 for Truing Up of FY 2011-12 and Determination of Tariff for FY 2013-14 for its Distribution Business in the Dahej Supply Area.
URL:https://gercin.org/hearing-schedule/1335-2013-2/
CATEGORIES:Hearing Schedule
END:VEVENT
BEGIN:VEVENT
DTSTART;TZID=Asia/Kolkata:20131116T113000
DTEND;TZID=Asia/Kolkata:20131116T180000
DTSTAMP:20260420T041134
CREATED:20190826T131856Z
LAST-MODIFIED:20190826T131856Z
UID:5972-1384601400-1384624800@gercin.org
SUMMARY:1337/2013
DESCRIPTION:In the matter of adjudication of disputes under Power Purchase Agreement dated 30.04.2010 and Supplementary Power Purchase Agreements dated 27.10.2010 and 10.05.2011 between Solar Semiconductor Power Company (India) Private Limited and Gujarat Urja Vikas Nigam Limited under section 86 (1) (f) of the Electricity Act\, 2003.
URL:https://gercin.org/hearing-schedule/1337-2013-2/
CATEGORIES:Hearing Schedule
END:VEVENT
BEGIN:VEVENT
DTSTART;TZID=Asia/Kolkata:20131116T113000
DTEND;TZID=Asia/Kolkata:20131116T180000
DTSTAMP:20260420T041134
CREATED:20190826T131911Z
LAST-MODIFIED:20190826T131911Z
UID:5977-1384601400-1384624800@gercin.org
SUMMARY:Miscellaneous Application No.01/2013
DESCRIPTION:In the matter of filing of Miscellaneous Application seeking separate date of hearing for considering the objections of the Essar Steel India Limited in Petition No. 1302/2013 for determination of additional surcharge payable by the Open Access consumers availing power under Open access.
URL:https://gercin.org/hearing-schedule/miscellaneous-application-no-01-2013/
CATEGORIES:Hearing Schedule
END:VEVENT
BEGIN:VEVENT
DTSTART;TZID=Asia/Kolkata:20131116T113000
DTEND;TZID=Asia/Kolkata:20131116T180000
DTSTAMP:20260420T041134
CREATED:20190826T131911Z
LAST-MODIFIED:20190826T131911Z
UID:5984-1384601400-1384624800@gercin.org
SUMMARY:1343/2013
DESCRIPTION:In the matter of filing of Miscellaneous Petition for seeking directives from the Commission to allow coal based units of GSECL to operate to the extent of coal linkage under must run condition.
URL:https://gercin.org/hearing-schedule/1343-2013-2/
CATEGORIES:Hearing Schedule
END:VEVENT
END:VCALENDAR