        BEGIN:VCALENDAR
VERSION:2.0
PRODID:-//Gujarat Electricity Regulatory Commission - ECPv5.3.0//NONSGML v1.0//EN
CALSCALE:GREGORIAN
METHOD:PUBLISH
X-WR-CALNAME:Gujarat Electricity Regulatory Commission
X-ORIGINAL-URL:https://gercin.org
X-WR-CALDESC:Events for Gujarat Electricity Regulatory Commission
BEGIN:VTIMEZONE
TZID:Asia/Kolkata
BEGIN:STANDARD
TZOFFSETFROM:+0530
TZOFFSETTO:+0530
TZNAME:IST
DTSTART:20130101T000000
END:STANDARD
END:VTIMEZONE
BEGIN:VEVENT
DTSTART;TZID=Asia/Kolkata:20131011T113000
DTEND;TZID=Asia/Kolkata:20131011T180000
DTSTAMP:20260421T045902
CREATED:20190826T131842Z
LAST-MODIFIED:20190826T131842Z
UID:5941-1381491000-1381514400@gercin.org
SUMMARY:Review Petition No. 1336/ 2013
DESCRIPTION:In the matter of filing of Review Petition on the Tariff Order No. 4 of 2013 dated 08.08.2013 on “Determination of Tariff for Procurement of Power by Distribution Licensees and others from Biomass based Power Projects and Bagassee based cogeneration projects for the State of Gujarat
URL:https://gercin.org/hearing-schedule/review-petition-no-1336-2013/
CATEGORIES:Hearing Schedule
END:VEVENT
BEGIN:VEVENT
DTSTART;TZID=Asia/Kolkata:20131011T113000
DTEND;TZID=Asia/Kolkata:20131011T180000
DTSTAMP:20260421T045902
CREATED:20190826T131842Z
LAST-MODIFIED:20190826T131842Z
UID:5942-1381491000-1381514400@gercin.org
SUMMARY:1338/2013
DESCRIPTION:In the matter of filing of petition under section 94 of the Electricity Act\, 2003 read with Regulation 10.2 of GERC Regulation 1 of 2011 and Regulation 26.1 of the GERC Regulation 2 of 2004 to reduce and determine the demand charges in HT connection for steel industries units under recessionary conditions.
URL:https://gercin.org/hearing-schedule/1338-2013/
CATEGORIES:Hearing Schedule
END:VEVENT
BEGIN:VEVENT
DTSTART;TZID=Asia/Kolkata:20131011T113000
DTEND;TZID=Asia/Kolkata:20131011T180000
DTSTAMP:20260421T045902
CREATED:20190826T131842Z
LAST-MODIFIED:20190826T131842Z
UID:5945-1381491000-1381514400@gercin.org
SUMMARY:1339/2013
DESCRIPTION:In the matter filing of petition under section 86 (1) (f) of the Electricity Act\, 2003 read with Regulation 80\, 81 and 82 of Gujarat Electricity Regulatory Commission (Conduct of Business) Regulations\, 2004 for illegal recovery of Parallel Operation Charges (POC) from the petitioner for the period April 2007 to August 2012.
URL:https://gercin.org/hearing-schedule/1339-2013/
CATEGORIES:Hearing Schedule
END:VEVENT
BEGIN:VEVENT
DTSTART;TZID=Asia/Kolkata:20131011T113000
DTEND;TZID=Asia/Kolkata:20131011T180000
DTSTAMP:20260421T045902
CREATED:20190826T131842Z
LAST-MODIFIED:20190826T131842Z
UID:5946-1381491000-1381514400@gercin.org
SUMMARY:Review Petition No. 1340/ 2013
DESCRIPTION:In the matter of filing of the Review Petition for True-Up of FY 2011-12 and determination of tariff for FY 2013-14 under GERC (Conduct of Business) Regulations\, 2004 along with other guidelines and directions issued by the GERC from time to time and under Part-X (section 94) of the Electricity Act\, 2003 read with the relevant Guidelines.
URL:https://gercin.org/hearing-schedule/review-petition-no-1340-2013/
CATEGORIES:Hearing Schedule
END:VEVENT
END:VCALENDAR