        BEGIN:VCALENDAR
VERSION:2.0
PRODID:-//Gujarat Electricity Regulatory Commission - ECPv5.3.0//NONSGML v1.0//EN
CALSCALE:GREGORIAN
METHOD:PUBLISH
X-WR-CALNAME:Gujarat Electricity Regulatory Commission
X-ORIGINAL-URL:https://gercin.org
X-WR-CALDESC:Events for Gujarat Electricity Regulatory Commission
BEGIN:VTIMEZONE
TZID:Asia/Kolkata
BEGIN:STANDARD
TZOFFSETFROM:+0530
TZOFFSETTO:+0530
TZNAME:IST
DTSTART:20130101T000000
END:STANDARD
END:VTIMEZONE
BEGIN:VEVENT
DTSTART;TZID=Asia/Kolkata:20130910T113000
DTEND;TZID=Asia/Kolkata:20130910T180000
DTSTAMP:20260419T235619
CREATED:20190826T131826Z
LAST-MODIFIED:20190826T131826Z
UID:5917-1378812600-1378836000@gercin.org
SUMMARY:1204/2012
DESCRIPTION:Non implementation of the Order passed by the Electricity Ombudsman Ahmedabad in case No. 82 / 2011 up to the expiry of 30 days period from date of issue of the Order\, by the respondent Executive Engineer (O&M) Dakshin Gujarat Vij. Co. Ltd.\, Surat Urban Division\, Pandesara\, Surat\, hence this petition under clause 3.46 of Consumer Grievances Redressal Forum & Ombudsman Regulation 2011\, Notification No. 2 of 2011.
URL:https://gercin.org/hearing-schedule/1204-2012-8/
CATEGORIES:Hearing Schedule
END:VEVENT
BEGIN:VEVENT
DTSTART;TZID=Asia/Kolkata:20130910T113000
DTEND;TZID=Asia/Kolkata:20130910T180000
DTSTAMP:20260419T235619
CREATED:20190826T131826Z
LAST-MODIFIED:20190826T131826Z
UID:5919-1378812600-1378836000@gercin.org
SUMMARY:1328/2013
DESCRIPTION:In the matter under Clauses (a)\, (b) (e) and (f) of sub-section (1) of section 86 of the Electricity Act\, 2003 and Arbitrary clause (6) of wheeling agreement entered into with PGVCL dated 24.12.2009\, treatment of wind energy generation units injected in the grid from the date of commissioning of Wind Turbine Generator (WTG) vide letter of GEDA dated 14.10.2009 to the date of signing agreement with PGVCL dated 24.12.2009 and set-off wind energy generation units injected in the grid against consumption to be given from the date of commissioning of WTGs and commercial settlement mechanism for treatment to excess injection during the respective months.
URL:https://gercin.org/hearing-schedule/1328-2013/
CATEGORIES:Hearing Schedule
END:VEVENT
BEGIN:VEVENT
DTSTART;TZID=Asia/Kolkata:20130910T113000
DTEND;TZID=Asia/Kolkata:20130910T180000
DTSTAMP:20260419T235619
CREATED:20190826T131826Z
LAST-MODIFIED:20190826T131826Z
UID:5920-1378812600-1378836000@gercin.org
SUMMARY:1329/2013
DESCRIPTION:In the matter under Clauses (a)\, (b) (e) and (f) of sub-section (1) of section 86 of the Electricity Act\, 2003 and Arbitrary clause (6) of wheeling agreement entered into with PGVCL dated 24.12.2009\, treatment of wind energy generation units injected in the grid from the date of commissioning of Wind Turbine Generator (WTG) vide letter of GEDA dated 14.10.2009 to the date of signing agreement with PGVCL dated 24.12.2009 and set-off wind energy generation units injected in the grid against consumption to be given from the date of commissioning of WTGs and commercial settlement mechanism for treatment to excess injection during the respective months.
URL:https://gercin.org/hearing-schedule/1329-2013/
CATEGORIES:Hearing Schedule
END:VEVENT
BEGIN:VEVENT
DTSTART;TZID=Asia/Kolkata:20130910T113000
DTEND;TZID=Asia/Kolkata:20130910T180000
DTSTAMP:20260419T235619
CREATED:20190826T131826Z
LAST-MODIFIED:20190826T131826Z
UID:5921-1378812600-1378836000@gercin.org
SUMMARY:1330/2013
DESCRIPTION:In the matter under Clauses (a)\, (b) (e) and (f) of sub-section (1) of section 86 of the Electricity Act\, 2003 and Arbitrary clause (6) of wheeling agreement entered into with PGVCL dated 24.12.2009\, treatment of wind energy generation units injected in the grid from the date of commissioning of Wind Turbine Generator (WTG) vide letter of GEDA dated 14.10.2009 to the date of signing agreement with PGVCL dated 24.12.2009 and set-off wind energy generation units injected in the grid against consumption to be given from the date of commissioning of WTGs and commercial settlement mechanism for treatment to excess injection during the respective months.
URL:https://gercin.org/hearing-schedule/1330-2013/
CATEGORIES:Hearing Schedule
END:VEVENT
BEGIN:VEVENT
DTSTART;TZID=Asia/Kolkata:20130910T113000
DTEND;TZID=Asia/Kolkata:20130910T180000
DTSTAMP:20260419T235619
CREATED:20190826T131826Z
LAST-MODIFIED:20190826T131826Z
UID:5922-1378812600-1378836000@gercin.org
SUMMARY:1331/2013
DESCRIPTION:In the Petition under section 42 (2)\, section 86 (1) read with section 94 (1) (g) of the Electricity Act\, 2003 and Regulation 3 (p) of the Gujarat Electricity Regulatory Commission (Terms and Conditions of Intra-State Open Access) Regulations\, 2011 for granting NOC for Open Access and denial of NOC for Open Access is absolutely illegal\, discriminatory\, arbitrary and in violation of GERC (Terms and Conditions of Intra-State Open Access) Regulations\, 2011 and strict interpretation of regulations incorporated in GERC (Terms and Conditions of Intra-State Open Access) Regulations\, 2011 Notification No. 3 of 2011 in context with Open Access.
URL:https://gercin.org/hearing-schedule/1331-2013/
CATEGORIES:Hearing Schedule
END:VEVENT
BEGIN:VEVENT
DTSTART;TZID=Asia/Kolkata:20130910T113000
DTEND;TZID=Asia/Kolkata:20130910T180000
DTSTAMP:20260419T235619
CREATED:20190826T131826Z
LAST-MODIFIED:20190826T131826Z
UID:5926-1378812600-1378836000@gercin.org
SUMMARY:1333/2013
DESCRIPTION:In the matter of seeking adjudication of dispute under section 86 (1)(f) of the Electricity Act\, 2003 in terms of the Power Purchase Agreement dated 30.04.2010 for 25 MW Solar Power Project of M/s Cargo Solar Power Gujarat Pvt. Limited with GUVNL regarding (i) considering the period from 07.04.2012 to 31.07.2013 as Force Majeure Event; and (ii) changes in the definition of Construction Default Date\, Schedule Commercial Operation Date (SCOD)\, Article 2.2 pertaining to Licences\, permits and conditions precedents\, Article 4.3 pertaining to liquidated damages for delay in commissioning the project/solar thermal grid interconnectivity power plant beyond Schedule Commercial Operation Date and extend the time limit for Schedule Commercial Operation Date from 31.07.2013 to 31.12.2014.
URL:https://gercin.org/hearing-schedule/1333-2013/
CATEGORIES:Hearing Schedule
END:VEVENT
END:VCALENDAR