        BEGIN:VCALENDAR
VERSION:2.0
PRODID:-//Gujarat Electricity Regulatory Commission - ECPv5.3.0//NONSGML v1.0//EN
CALSCALE:GREGORIAN
METHOD:PUBLISH
X-WR-CALNAME:Gujarat Electricity Regulatory Commission
X-ORIGINAL-URL:https://gercin.org
X-WR-CALDESC:Events for Gujarat Electricity Regulatory Commission
BEGIN:VTIMEZONE
TZID:Asia/Kolkata
BEGIN:STANDARD
TZOFFSETFROM:+0530
TZOFFSETTO:+0530
TZNAME:IST
DTSTART:20130101T000000
END:STANDARD
END:VTIMEZONE
BEGIN:VEVENT
DTSTART;TZID=Asia/Kolkata:20130831T113000
DTEND;TZID=Asia/Kolkata:20130831T180000
DTSTAMP:20260420T070138
CREATED:20190826T131812Z
LAST-MODIFIED:20190826T131812Z
UID:5900-1377948600-1377972000@gercin.org
SUMMARY:1296/2013
DESCRIPTION:In the matter of adjustment of tariff under Article 13 of the Power Purchase Agreement dated 26.02.2007 entered into the Gujarat Urja Vikas Nigam Limited and Essar Power Gujarat Limited.
URL:https://gercin.org/hearing-schedule/1296-2013-5/
CATEGORIES:Hearing Schedule
END:VEVENT
BEGIN:VEVENT
DTSTART;TZID=Asia/Kolkata:20130831T113000
DTEND;TZID=Asia/Kolkata:20130831T180000
DTSTAMP:20260420T070138
CREATED:20190826T131812Z
LAST-MODIFIED:20190826T131812Z
UID:5901-1377948600-1377972000@gercin.org
SUMMARY:1301/2013
DESCRIPTION:In the matter of petition under section 86 (1) (c) and (f) of the Electricity Act\, 2003 read with Regulation 45 of the GERC (Terms and Conditions of Intra-State Open Access) Regulations\, 2011 and Regulations 80 and 82 of the GERC (Conduct of Business) Regulations\, 2004 and extension of the effective date of Bulk Power Transmission Agreement dated 21.12.2010 executed between the OPGS Power Gujarat Private Limited and Gujarat Energy Transmission Corporation Limited.
URL:https://gercin.org/hearing-schedule/1301-2013-5/
CATEGORIES:Hearing Schedule
END:VEVENT
BEGIN:VEVENT
DTSTART;TZID=Asia/Kolkata:20130831T113000
DTEND;TZID=Asia/Kolkata:20130831T180000
DTSTAMP:20260420T070138
CREATED:20190826T131812Z
LAST-MODIFIED:20190826T131812Z
UID:5905-1377948600-1377972000@gercin.org
SUMMARY:1306/2013
DESCRIPTION:In the matter under section 86 of the Electricity Act\, 2003\,read with Regulations of the GERC (Conduct of Business) Regulations\, 2004\, to adjudicate upon the disputes between the licensee and the generating company arising out of the Order No. 1 of 2010 dated 30.01.2010 of the GERC (Determination of tariff for procurement of Power by the Distribution licensees from Wind energy based Power Generator and Other Commercial Issues) and the CERC (Terms and conditions of Recognizing of Issuance of Renewable energy Certificate for Renewable Power Generation) Regulation\, 2010
URL:https://gercin.org/hearing-schedule/1306-2013-4/
CATEGORIES:Hearing Schedule
END:VEVENT
BEGIN:VEVENT
DTSTART;TZID=Asia/Kolkata:20130831T113000
DTEND;TZID=Asia/Kolkata:20130831T180000
DTSTAMP:20260420T070138
CREATED:20190826T131812Z
LAST-MODIFIED:20190826T131812Z
UID:5907-1377948600-1377972000@gercin.org
SUMMARY:1311/2013
DESCRIPTION:In the matter of filing of Miscellaneous Petition seeking approval of the Hon’ble Commission to retire Vatva Gas based generating station in accordance with the provisions of section of 86 of the Electricity Act\, 2003.
URL:https://gercin.org/hearing-schedule/1311-2013-2/
CATEGORIES:Hearing Schedule
END:VEVENT
BEGIN:VEVENT
DTSTART;TZID=Asia/Kolkata:20130831T113000
DTEND;TZID=Asia/Kolkata:20130831T180000
DTSTAMP:20260420T070138
CREATED:20190826T131812Z
LAST-MODIFIED:20190826T131812Z
UID:5908-1377948600-1377972000@gercin.org
SUMMARY:Review Petititon No.1321/2013
DESCRIPTION:Petition No. 1321 of 2013\, in the matter of an application under section 94 (1) (f) of the Electricity Act\, 2003.
URL:https://gercin.org/hearing-schedule/review-petititon-no-1321-2013/
CATEGORIES:Hearing Schedule
END:VEVENT
BEGIN:VEVENT
DTSTART;TZID=Asia/Kolkata:20130831T113000
DTEND;TZID=Asia/Kolkata:20130831T180000
DTSTAMP:20260420T070138
CREATED:20190826T131812Z
LAST-MODIFIED:20190826T131812Z
UID:5909-1377948600-1377972000@gercin.org
SUMMARY:1322/2013
DESCRIPTION:In the matter of adoption of tariff determined by the Hon’ble CERC under section 62 (1) (a) read with section 79 (1) (b) of the Electricity Act\, 2003 for sourcing 278 MW power from brownfield expansion of existing SUGEN generation Plant (UNOSUGEN) for Ahmedabad/Gandhinagar and Surat License Areas under the provisions of the Electricity Act\, 2003.
URL:https://gercin.org/hearing-schedule/1322-2013/
CATEGORIES:Hearing Schedule
END:VEVENT
BEGIN:VEVENT
DTSTART;TZID=Asia/Kolkata:20130831T113000
DTEND;TZID=Asia/Kolkata:20130831T180000
DTSTAMP:20260420T070138
CREATED:20190826T131812Z
LAST-MODIFIED:20190826T131812Z
UID:5910-1377948600-1377972000@gercin.org
SUMMARY:1323/2013
DESCRIPTION:In the matter under section 94 of the Electricity Act\, 2003 read with Regulation 80\, 81\, 82\, and 83 of the Gujarat Electricity Regulatory Commission (Conduct of Business)\, Regulations\, 2004 seeking clarifications/ rectification of the Hon’ble Commission’s order dated 16.04.2013 in Case No. 1267 of 2013 for Truing up for FY 2011-012 and determination of tariff for FY 2013-14 for it distribution Business of Surat Supply Area.
URL:https://gercin.org/hearing-schedule/1323-2013/
CATEGORIES:Hearing Schedule
END:VEVENT
BEGIN:VEVENT
DTSTART;TZID=Asia/Kolkata:20130831T113000
DTEND;TZID=Asia/Kolkata:20130831T180000
DTSTAMP:20260420T070138
CREATED:20190826T131812Z
LAST-MODIFIED:20190826T131812Z
UID:5911-1377948600-1377972000@gercin.org
SUMMARY:1324/2013
DESCRIPTION:In the matter under section 94 of the Electricity Act\, 2003 read with Regulation 80\, 81\, 82\, and 83 of the Gujarat Electricity Regulatory Commission (Conduct of Business)\, Regulations\, 2004 seeking clarifications/ rectification of the Hon’ble Commission’s order dated 16.04.2013 in Case No. 1268 of 2013 for Truing up for FY 2011-012 and determination of tariff for FY 2013-14 for it distribution Business of Surat Supply Area.
URL:https://gercin.org/hearing-schedule/1324-2013/
CATEGORIES:Hearing Schedule
END:VEVENT
BEGIN:VEVENT
DTSTART;TZID=Asia/Kolkata:20130831T113000
DTEND;TZID=Asia/Kolkata:20130831T180000
DTSTAMP:20260420T070138
CREATED:20190826T131812Z
LAST-MODIFIED:20190826T131812Z
UID:5912-1377948600-1377972000@gercin.org
SUMMARY:1325/2013
DESCRIPTION:In the matter of application seeking clarification/implementation of Gujarat Electricity Regulatory Commission Regulation No. 3/2011 dated 01.06.2011 read with clause 45 of these regulations.
URL:https://gercin.org/hearing-schedule/1325-2013/
CATEGORIES:Hearing Schedule
END:VEVENT
BEGIN:VEVENT
DTSTART;TZID=Asia/Kolkata:20130831T113000
DTEND;TZID=Asia/Kolkata:20130831T180000
DTSTAMP:20260420T070138
CREATED:20190826T131812Z
LAST-MODIFIED:20190826T131812Z
UID:5913-1377948600-1377972000@gercin.org
SUMMARY:1326/2013
DESCRIPTION:In the matter of application seeking clarification/implementation of Gujarat Electricity Regulatory Commission Regulation No. 3/2011 dated 01.06.2011 read with clause 45 of these regulations.
URL:https://gercin.org/hearing-schedule/1326-2013/
CATEGORIES:Hearing Schedule
END:VEVENT
BEGIN:VEVENT
DTSTART;TZID=Asia/Kolkata:20130831T113000
DTEND;TZID=Asia/Kolkata:20130831T180000
DTSTAMP:20260420T070138
CREATED:20190826T131812Z
LAST-MODIFIED:20190826T131812Z
UID:5914-1377948600-1377972000@gercin.org
SUMMARY:1327/2013
DESCRIPTION:In the matter of application seeking clarification/implementation of Gujarat Electricity Regulatory Commission Regulation No. 3/2011 dated 01.06.2011 read with clause 45 of these regulations.
URL:https://gercin.org/hearing-schedule/1327-2013/
CATEGORIES:Hearing Schedule
END:VEVENT
BEGIN:VEVENT
DTSTART;TZID=Asia/Kolkata:20130831T113000
DTEND;TZID=Asia/Kolkata:20130831T180000
DTSTAMP:20260420T070138
CREATED:20190826T131826Z
LAST-MODIFIED:20190826T131826Z
UID:5915-1377948600-1377972000@gercin.org
SUMMARY:Review Petititon No 1304/2013
DESCRIPTION:In the matter of Appeal being aggrieved by the Order dated 15.03.2013 passes by the Respondent No. 2 regarding land of the appellant.
URL:https://gercin.org/hearing-schedule/review-petititon-no-1304-2013/
CATEGORIES:Hearing Schedule
END:VEVENT
BEGIN:VEVENT
DTSTART;TZID=Asia/Kolkata:20130831T113000
DTEND;TZID=Asia/Kolkata:20130831T180000
DTSTAMP:20260420T070138
CREATED:20190826T131826Z
LAST-MODIFIED:20190826T131826Z
UID:5916-1377948600-1377972000@gercin.org
SUMMARY:1332 /2013
DESCRIPTION:In the matter under section 94 (f) of the Electricity Act\, 2003 for review of the Order dated 26.06.2013 in Petition No. 1265 of 2012 passed by the Commission.
URL:https://gercin.org/hearing-schedule/1332-2013/
CATEGORIES:Hearing Schedule
END:VEVENT
END:VCALENDAR