        BEGIN:VCALENDAR
VERSION:2.0
PRODID:-//Gujarat Electricity Regulatory Commission - ECPv5.3.0//NONSGML v1.0//EN
CALSCALE:GREGORIAN
METHOD:PUBLISH
X-WR-CALNAME:Gujarat Electricity Regulatory Commission
X-ORIGINAL-URL:https://gercin.org
X-WR-CALDESC:Events for Gujarat Electricity Regulatory Commission
BEGIN:VTIMEZONE
TZID:Asia/Kolkata
BEGIN:STANDARD
TZOFFSETFROM:+0530
TZOFFSETTO:+0530
TZNAME:IST
DTSTART:20130101T000000
END:STANDARD
END:VTIMEZONE
BEGIN:VEVENT
DTSTART;TZID=Asia/Kolkata:20130615T113000
DTEND;TZID=Asia/Kolkata:20130615T180000
DTSTAMP:20260419T231806
CREATED:20190826T131643Z
LAST-MODIFIED:20190826T131643Z
UID:5779-1371295800-1371319200@gercin.org
SUMMARY:1305/2013
DESCRIPTION:In the matter to decide the correct applicable tariff to the consumer.
URL:https://gercin.org/hearing-schedule/1305-2013/
CATEGORIES:Hearing Schedule
END:VEVENT
BEGIN:VEVENT
DTSTART;TZID=Asia/Kolkata:20130615T113000
DTEND;TZID=Asia/Kolkata:20130615T180000
DTSTAMP:20260419T231806
CREATED:20190826T131742Z
LAST-MODIFIED:20190826T131742Z
UID:5858-1371295800-1371319200@gercin.org
SUMMARY:1310/2013
DESCRIPTION:In the matter of non-implementation of the order passed by the Electricity Ombudsman\, Ahmedabad in Case No. 26 of 2012\, on the expiry of 30 days period from the date of receipt of the order by the respondent and hence the petition under clause 3.46 of Consumer Grievances Redressal Forum and Ombudsman Regulation 2011\, Notification No. 2 of 2011.
URL:https://gercin.org/hearing-schedule/1310-2013-2/
CATEGORIES:Hearing Schedule
END:VEVENT
BEGIN:VEVENT
DTSTART;TZID=Asia/Kolkata:20130615T113000
DTEND;TZID=Asia/Kolkata:20130615T180000
DTSTAMP:20260419T231806
CREATED:20190826T131742Z
LAST-MODIFIED:20190826T131742Z
UID:5859-1371295800-1371319200@gercin.org
SUMMARY:1259/2012
DESCRIPTION:Petition under section 86 (1) (a) of the Electricity Act\, 2003 with Regulation 32 of  the GERC (Terms and Conditions of Intra-State Open Access)\, Regulations\, 2011and Regulation 8 of the GERC (Electricity Supply Code and Related Matters) Regulations\, 2005 for declaration and waiver of Demand Charges.
URL:https://gercin.org/hearing-schedule/1259-2012-6/
CATEGORIES:Hearing Schedule
END:VEVENT
END:VCALENDAR