        BEGIN:VCALENDAR
VERSION:2.0
PRODID:-//Gujarat Electricity Regulatory Commission - ECPv5.3.0//NONSGML v1.0//EN
CALSCALE:GREGORIAN
METHOD:PUBLISH
X-WR-CALNAME:Gujarat Electricity Regulatory Commission
X-ORIGINAL-URL:https://gercin.org
X-WR-CALDESC:Events for Gujarat Electricity Regulatory Commission
BEGIN:VTIMEZONE
TZID:Asia/Kolkata
BEGIN:STANDARD
TZOFFSETFROM:+0530
TZOFFSETTO:+0530
TZNAME:IST
DTSTART:20130101T000000
END:STANDARD
END:VTIMEZONE
BEGIN:VEVENT
DTSTART;TZID=Asia/Kolkata:20130504T113000
DTEND;TZID=Asia/Kolkata:20130504T180000
DTSTAMP:20260420T143308
CREATED:20190826T131643Z
LAST-MODIFIED:20190826T131643Z
UID:5793-1367667000-1367690400@gercin.org
SUMMARY:1198/2012
DESCRIPTION:Determination of tariff under section 62 read with section 64 of the Electricity Act\, 2003.
URL:https://gercin.org/hearing-schedule/1198-2012-11/
CATEGORIES:Hearing Schedule
END:VEVENT
BEGIN:VEVENT
DTSTART;TZID=Asia/Kolkata:20130504T113000
DTEND;TZID=Asia/Kolkata:20130504T180000
DTSTAMP:20260420T143308
CREATED:20190826T131643Z
LAST-MODIFIED:20190826T131643Z
UID:5794-1367667000-1367690400@gercin.org
SUMMARY:1246 /2012
DESCRIPTION:Petition under Regulation 80 of GERC (Conduct of Business) Regulation\, 2004 read with section 86 of Electricity Act\, 2003.
URL:https://gercin.org/hearing-schedule/1246-2012-5/
CATEGORIES:Hearing Schedule
END:VEVENT
BEGIN:VEVENT
DTSTART;TZID=Asia/Kolkata:20130504T113000
DTEND;TZID=Asia/Kolkata:20130504T180000
DTSTAMP:20260420T143308
CREATED:20190826T131657Z
LAST-MODIFIED:20190826T131657Z
UID:5795-1367667000-1367690400@gercin.org
SUMMARY:1305/2013
DESCRIPTION:In the matter to decide the correct applicable tariff to the consumer.
URL:https://gercin.org/hearing-schedule/1305-2013-3/
CATEGORIES:Hearing Schedule
END:VEVENT
BEGIN:VEVENT
DTSTART;TZID=Asia/Kolkata:20130504T113000
DTEND;TZID=Asia/Kolkata:20130504T180000
DTSTAMP:20260420T143308
CREATED:20190826T131657Z
LAST-MODIFIED:20190826T131657Z
UID:5800-1367667000-1367690400@gercin.org
SUMMARY:1301/2013
DESCRIPTION:In the matter of petition under section 86 (1) (c) and (f) of the Electricity Act\, 2003 read with Regulation 45 of the GERC (Terms and Conditions of Intra-State Open Access) Regulations\, 2011 and Regulations 80 and 82 of the GERC (Conduct of Business) Regulations\, 2004 and extension of the effective date of Bulk Power Transmission Agreement dated 21.12.2010 executed between the OPGS Power Gujarat Private Limited and Gujarat Energy Transmission Corporation Limited.
URL:https://gercin.org/hearing-schedule/1301-2013/
CATEGORIES:Hearing Schedule
END:VEVENT
BEGIN:VEVENT
DTSTART;TZID=Asia/Kolkata:20130504T113000
DTEND;TZID=Asia/Kolkata:20130504T180000
DTSTAMP:20260420T143308
CREATED:20190826T131657Z
LAST-MODIFIED:20190826T131657Z
UID:5801-1367667000-1367690400@gercin.org
SUMMARY:1302/2013
DESCRIPTION:In the matter under GERC (Terms and Conditions of the Intra-State Open Access)\, Regulations\, 2011 for determination of additional surcharge payable by open access consumers availing power under open access.
URL:https://gercin.org/hearing-schedule/1302-2013/
CATEGORIES:Hearing Schedule
END:VEVENT
BEGIN:VEVENT
DTSTART;TZID=Asia/Kolkata:20130504T113000
DTEND;TZID=Asia/Kolkata:20130504T180000
DTSTAMP:20260420T143308
CREATED:20190826T131657Z
LAST-MODIFIED:20190826T131657Z
UID:5802-1367667000-1367690400@gercin.org
SUMMARY:1287/2013
DESCRIPTION:In the matter of resolution of dispute regarding invoices raised by the respondent in terms of the Power Purchase Agreement dated 08.12.2010 with respect to tariff for imported energy.
URL:https://gercin.org/hearing-schedule/1287-2013-2/
CATEGORIES:Hearing Schedule
END:VEVENT
BEGIN:VEVENT
DTSTART;TZID=Asia/Kolkata:20130504T113000
DTEND;TZID=Asia/Kolkata:20130504T180000
DTSTAMP:20260420T143308
CREATED:20190826T131657Z
LAST-MODIFIED:20190826T131657Z
UID:5803-1367667000-1367690400@gercin.org
SUMMARY:1303/2013
DESCRIPTION:In the matter of initiation of proceedings for amendment of the GERC (Terms and Conditions of Intra-State Open Access) Regulations\, 2011 and revision of the Short Term Open Access Charges applicable in State of Gujarat.
URL:https://gercin.org/hearing-schedule/1303-2013-2/
CATEGORIES:Hearing Schedule
END:VEVENT
BEGIN:VEVENT
DTSTART;TZID=Asia/Kolkata:20130504T113000
DTEND;TZID=Asia/Kolkata:20130504T180000
DTSTAMP:20260420T143308
CREATED:20190826T131657Z
LAST-MODIFIED:20190826T131657Z
UID:5813-1367667000-1367690400@gercin.org
SUMMARY:1244/2012
DESCRIPTION:Petition under section 86 (1) (f) of the Electricity Act\, 2003 for directions to the respondents to pay the amounts due to the Petitioner in terms of the invoices raised and for determination of fuel cost\, fixation of tariff of the biomass based 10 MW power plant at Bhavnagar under section 62 read with section 81 (1) (a) of the Electricity Act\, 2003.
URL:https://gercin.org/hearing-schedule/1244-2012-7/
CATEGORIES:Hearing Schedule
END:VEVENT
BEGIN:VEVENT
DTSTART;TZID=Asia/Kolkata:20130504T113000
DTEND;TZID=Asia/Kolkata:20130504T180000
DTSTAMP:20260420T143308
CREATED:20190826T131657Z
LAST-MODIFIED:20190826T131657Z
UID:5814-1367667000-1367690400@gercin.org
SUMMARY:1304/2013
DESCRIPTION:In the matter of Appeal being aggrieved by the Order dated 15.03.2013 passes by the Respondent No. 2 regarding land of the appellant.
URL:https://gercin.org/hearing-schedule/1304-2013/
CATEGORIES:Hearing Schedule
END:VEVENT
END:VCALENDAR