        BEGIN:VCALENDAR
VERSION:2.0
PRODID:-//Gujarat Electricity Regulatory Commission - ECPv5.3.0//NONSGML v1.0//EN
CALSCALE:GREGORIAN
METHOD:PUBLISH
X-WR-CALNAME:Gujarat Electricity Regulatory Commission
X-ORIGINAL-URL:https://gercin.org
X-WR-CALDESC:Events for Gujarat Electricity Regulatory Commission
BEGIN:VTIMEZONE
TZID:Asia/Kolkata
BEGIN:STANDARD
TZOFFSETFROM:+0530
TZOFFSETTO:+0530
TZNAME:IST
DTSTART:20130101T000000
END:STANDARD
END:VTIMEZONE
BEGIN:VEVENT
DTSTART;TZID=Asia/Kolkata:20130409T113000
DTEND;TZID=Asia/Kolkata:20130409T180000
DTSTAMP:20260421T200819
CREATED:20190826T131628Z
LAST-MODIFIED:20190826T131628Z
UID:5758-1365507000-1365530400@gercin.org
SUMMARY:1291/2013
DESCRIPTION:In the matter under section 86 of the Electricity Act\, 2003 and in the matter of GERC (Terms and Conditions of Intra-State Open Access) Regulations\, 2011\, and in the matter of absolutely illegal discriminatory act of denial of NOC in utter disregard with the directions given by this Hon’ble Commission in suo-motu Petition No. 1226 of 2012 to the Distribution Licensees.
URL:https://gercin.org/hearing-schedule/1291-2013/
CATEGORIES:Hearing Schedule
END:VEVENT
BEGIN:VEVENT
DTSTART;TZID=Asia/Kolkata:20130409T113000
DTEND;TZID=Asia/Kolkata:20130409T180000
DTSTAMP:20260421T200819
CREATED:20190826T131628Z
LAST-MODIFIED:20190826T131628Z
UID:5759-1365507000-1365530400@gercin.org
SUMMARY:1287/2013
DESCRIPTION:In the matter of resolution of dispute regarding invoices raised by the respondent in terms of the Power Purchase Agreement dated 08.12.2010 with respect to tariff for imported energy.
URL:https://gercin.org/hearing-schedule/1287-2013/
CATEGORIES:Hearing Schedule
END:VEVENT
BEGIN:VEVENT
DTSTART;TZID=Asia/Kolkata:20130409T113000
DTEND;TZID=Asia/Kolkata:20130409T180000
DTSTAMP:20260421T200819
CREATED:20190826T131628Z
LAST-MODIFIED:20190826T131628Z
UID:5774-1365507000-1365530400@gercin.org
SUMMARY:1295/2013
DESCRIPTION:In the matter of filing of petition for approval of quantum of power purchase & deviations from the bidding guidelines for procurement of power on short term basis to meet the shortfall in power supplies to cater to the demand of Ahmedabad\, Gandhinagar and Surat License area under section 86 of the Electricity Act\, 2003.
URL:https://gercin.org/hearing-schedule/1295-2013/
CATEGORIES:Hearing Schedule
END:VEVENT
BEGIN:VEVENT
DTSTART;TZID=Asia/Kolkata:20130409T113000
DTEND;TZID=Asia/Kolkata:20130409T180000
DTSTAMP:20260421T200819
CREATED:20190826T131643Z
LAST-MODIFIED:20190826T131643Z
UID:5776-1365507000-1365530400@gercin.org
SUMMARY:1246 /2013
DESCRIPTION:Petition under Regulation 80 of GERC (Conduct of Business) Regulation\, 2004 read with section 86 of Electricity Act\, 2003.
URL:https://gercin.org/hearing-schedule/1246-2013/
CATEGORIES:Hearing Schedule
END:VEVENT
BEGIN:VEVENT
DTSTART;TZID=Asia/Kolkata:20130409T113000
DTEND;TZID=Asia/Kolkata:20130409T180000
DTSTAMP:20260421T200819
CREATED:20190826T131643Z
LAST-MODIFIED:20190826T131643Z
UID:5778-1365507000-1365530400@gercin.org
SUMMARY:1294/2013
DESCRIPTION:In the matter under section 86 (1) (f) of the Electricity Act\, 2003 for refund of Parallel Operation Charges.
URL:https://gercin.org/hearing-schedule/1294-2013/
CATEGORIES:Hearing Schedule
END:VEVENT
END:VCALENDAR