        BEGIN:VCALENDAR
VERSION:2.0
PRODID:-//Gujarat Electricity Regulatory Commission - ECPv5.3.0//NONSGML v1.0//EN
CALSCALE:GREGORIAN
METHOD:PUBLISH
X-WR-CALNAME:Gujarat Electricity Regulatory Commission
X-ORIGINAL-URL:https://gercin.org
X-WR-CALDESC:Events for Gujarat Electricity Regulatory Commission
BEGIN:VTIMEZONE
TZID:Asia/Kolkata
BEGIN:STANDARD
TZOFFSETFROM:+0530
TZOFFSETTO:+0530
TZNAME:IST
DTSTART:20130101T000000
END:STANDARD
END:VTIMEZONE
BEGIN:VEVENT
DTSTART;TZID=Asia/Kolkata:20130212T113000
DTEND;TZID=Asia/Kolkata:20130212T180000
DTSTAMP:20260419T181846
CREATED:20190826T131559Z
LAST-MODIFIED:20190826T131559Z
UID:5715-1360668600-1360692000@gercin.org
SUMMARY:1262/2012
DESCRIPTION:Petition for Truing up for FY 2011-12 and Determination of Tariff for FY 2013-14
URL:https://gercin.org/hearing-schedule/1262-2012/
CATEGORIES:Hearing Schedule
END:VEVENT
BEGIN:VEVENT
DTSTART;TZID=Asia/Kolkata:20130212T113000
DTEND;TZID=Asia/Kolkata:20130212T180000
DTSTAMP:20260419T181846
CREATED:20190826T131559Z
LAST-MODIFIED:20190826T131559Z
UID:5731-1360668600-1360692000@gercin.org
SUMMARY:1255/2012
DESCRIPTION:Filling of Review Petition u/s. 94 of EA\, 2003 r/w regulation 72(1) of the GERC (Conduct of Business) Regulation\, 2004\, seeking review of the decisions and orders in Commission’s tariff order dated 2.6.2012 in case no. 1156/2011 filed for true up for FY 2010-11 and determination of tariff for FY 2012-13.
URL:https://gercin.org/hearing-schedule/1255-2012-2/
CATEGORIES:Hearing Schedule
END:VEVENT
BEGIN:VEVENT
DTSTART;TZID=Asia/Kolkata:20130212T113000
DTEND;TZID=Asia/Kolkata:20130212T180000
DTSTAMP:20260419T181846
CREATED:20190826T133346Z
LAST-MODIFIED:20190826T133346Z
UID:7166-1360668600-1360692000@gercin.org
SUMMARY:1264/2012
DESCRIPTION:Petition for Truing up for FY 2011-12 and Determination of Tariff for FY 2013-14
URL:https://gercin.org/hearing-schedule/1264-2012/
CATEGORIES:Hearing Schedule
END:VEVENT
BEGIN:VEVENT
DTSTART;TZID=Asia/Kolkata:20130212T153000
DTEND;TZID=Asia/Kolkata:20130212T220000
DTSTAMP:20260419T181846
CREATED:20190826T131559Z
LAST-MODIFIED:20190826T131559Z
UID:5732-1360683000-1360706400@gercin.org
SUMMARY:1205/2012
DESCRIPTION:In the matter under regulation 80 of the GERC reg. 2004 readwith section 86(1)(b) of E.A.\, 2003\, for approval of PPA
URL:https://gercin.org/hearing-schedule/1205-2012-5/
CATEGORIES:Hearing Schedule
END:VEVENT
BEGIN:VEVENT
DTSTART;TZID=Asia/Kolkata:20130212T153000
DTEND;TZID=Asia/Kolkata:20130212T220000
DTSTAMP:20260419T181846
CREATED:20190826T131559Z
LAST-MODIFIED:20190826T131559Z
UID:5733-1360683000-1360706400@gercin.org
SUMMARY:1288/2013
DESCRIPTION:Filling of miscellaneous application in the order of the Hon’ble GERC in case No. 120 0/2012 under the provisions of the Electricity Act\, 2003 r/w regulations 80 of the GERC (Conduct of Business) Regulations \, 2004
URL:https://gercin.org/hearing-schedule/1288-2013/
CATEGORIES:Hearing Schedule
END:VEVENT
END:VCALENDAR