        BEGIN:VCALENDAR
VERSION:2.0
PRODID:-//Gujarat Electricity Regulatory Commission - ECPv5.3.0//NONSGML v1.0//EN
CALSCALE:GREGORIAN
METHOD:PUBLISH
X-WR-CALNAME:Gujarat Electricity Regulatory Commission
X-ORIGINAL-URL:https://gercin.org
X-WR-CALDESC:Events for Gujarat Electricity Regulatory Commission
BEGIN:VTIMEZONE
TZID:Asia/Kolkata
BEGIN:STANDARD
TZOFFSETFROM:+0530
TZOFFSETTO:+0530
TZNAME:IST
DTSTART:20130101T000000
END:STANDARD
END:VTIMEZONE
BEGIN:VEVENT
DTSTART;TZID=Asia/Kolkata:20130105T113000
DTEND;TZID=Asia/Kolkata:20130105T180000
DTSTAMP:20260420T142153
CREATED:20190826T131527Z
LAST-MODIFIED:20190826T131527Z
UID:5683-1357385400-1357408800@gercin.org
SUMMARY:1002/2010
DESCRIPTION:Disputes with monetary claims of the PPA dated 30th May\, 1996
URL:https://gercin.org/hearing-schedule/1002-2010-5/
CATEGORIES:Hearing Schedule
END:VEVENT
BEGIN:VEVENT
DTSTART;TZID=Asia/Kolkata:20130105T153000
DTEND;TZID=Asia/Kolkata:20130105T220000
DTSTAMP:20260420T142153
CREATED:20190826T131527Z
LAST-MODIFIED:20190826T131527Z
UID:5687-1357399800-1357423200@gercin.org
SUMMARY:1257/2012
DESCRIPTION:Petition u/s. 86 (1) (f) of EA\, 2003 read with Article 17 of the PPA dated 26.02.2007 executed between Essar Power Guj. Pvt. Ltd. & GUVNL.
URL:https://gercin.org/hearing-schedule/1257-2012-3/
CATEGORIES:Hearing Schedule
END:VEVENT
BEGIN:VEVENT
DTSTART;TZID=Asia/Kolkata:20130105T153000
DTEND;TZID=Asia/Kolkata:20130105T220000
DTSTAMP:20260420T142153
CREATED:20190826T131527Z
LAST-MODIFIED:20190826T131527Z
UID:5688-1357399800-1357423200@gercin.org
SUMMARY:1265/2012
DESCRIPTION:Petition u/s. 86 of the Electricity Act\, 2003 r/w Regulations 80\, 81\, 82 and 84 of the GERC (Conduct of Business) Regulations 2004 to adjudicate upon the disputes between the licensee and the generating company arising out of order no. 5 of 2010 dated 17.05.2010 of Hon’ble GERC (Determination of tariff for procurement of power by distribution licensees from Biomass based power generators and other commercial issues.
URL:https://gercin.org/hearing-schedule/1265-2012/
CATEGORIES:Hearing Schedule
END:VEVENT
END:VCALENDAR