        BEGIN:VCALENDAR
VERSION:2.0
PRODID:-//Gujarat Electricity Regulatory Commission - ECPv5.3.0//NONSGML v1.0//EN
CALSCALE:GREGORIAN
METHOD:PUBLISH
X-WR-CALNAME:Gujarat Electricity Regulatory Commission
X-ORIGINAL-URL:https://gercin.org
X-WR-CALDESC:Events for Gujarat Electricity Regulatory Commission
BEGIN:VTIMEZONE
TZID:Asia/Kolkata
BEGIN:STANDARD
TZOFFSETFROM:+0530
TZOFFSETTO:+0530
TZNAME:IST
DTSTART:20120101T000000
END:STANDARD
END:VTIMEZONE
BEGIN:VEVENT
DTSTART;TZID=Asia/Kolkata:20121224T113000
DTEND;TZID=Asia/Kolkata:20121224T180000
DTSTAMP:20260419T220202
CREATED:20190826T131512Z
LAST-MODIFIED:20190826T131512Z
UID:5664-1356348600-1356372000@gercin.org
SUMMARY:1259/2012
DESCRIPTION:Petition u/s. 86(1) (a) of the EA 2003 r/w regulations 32 of the GERC (Terms and Conditions of Intra-State Open Access) Regulations\, 2011 and Regulation 8 of the GERC (Electricity Supply Code and Related Matters/ Regulations 2005 for declaration and waiver of demand charges
URL:https://gercin.org/hearing-schedule/1259-2012/
CATEGORIES:Hearing Schedule
END:VEVENT
BEGIN:VEVENT
DTSTART;TZID=Asia/Kolkata:20121224T113000
DTEND;TZID=Asia/Kolkata:20121224T180000
DTSTAMP:20260419T220202
CREATED:20190826T131512Z
LAST-MODIFIED:20190826T131512Z
UID:5665-1356348600-1356372000@gercin.org
SUMMARY:1260/2012
DESCRIPTION:Approval of quantum of power purchase and deviations from the bidding guidelines for procurement of power on shorter basis to meet the shortfall in power and supplies to cater to the demand of Ahmedabad Gandhinagar & Surat licensee area u/s. 86 of the Electricity Act\, 2003
URL:https://gercin.org/hearing-schedule/1260-2012/
CATEGORIES:Hearing Schedule
END:VEVENT
END:VCALENDAR