        BEGIN:VCALENDAR
VERSION:2.0
PRODID:-//Gujarat Electricity Regulatory Commission - ECPv5.3.0//NONSGML v1.0//EN
CALSCALE:GREGORIAN
METHOD:PUBLISH
X-WR-CALNAME:Gujarat Electricity Regulatory Commission
X-ORIGINAL-URL:https://gercin.org
X-WR-CALDESC:Events for Gujarat Electricity Regulatory Commission
BEGIN:VTIMEZONE
TZID:Asia/Kolkata
BEGIN:STANDARD
TZOFFSETFROM:+0530
TZOFFSETTO:+0530
TZNAME:IST
DTSTART:20120101T000000
END:STANDARD
END:VTIMEZONE
BEGIN:VEVENT
DTSTART;TZID=Asia/Kolkata:20121211T113000
DTEND;TZID=Asia/Kolkata:20121211T180000
DTSTAMP:20260420T033014
CREATED:20190826T131512Z
LAST-MODIFIED:20190826T131512Z
UID:5655-1355225400-1355248800@gercin.org
SUMMARY:1221/2012
DESCRIPTION:Petition of adjusting the tariff fixed by the Commission in order on determination of tariff for procurement of power by dist. Licensees from WEG & other commercial issues dated 30.01.2010 due to petitioner not availing accelerated depreciation.
URL:https://gercin.org/hearing-schedule/1221-2012-6/
CATEGORIES:Hearing Schedule
END:VEVENT
BEGIN:VEVENT
DTSTART;TZID=Asia/Kolkata:20121211T113000
DTEND;TZID=Asia/Kolkata:20121211T180000
DTSTAMP:20260420T033014
CREATED:20190826T131512Z
LAST-MODIFIED:20190826T131512Z
UID:5656-1355225400-1355248800@gercin.org
SUMMARY:1239/2012
DESCRIPTION:Petition for adjustment/enhancement of tariff fixed by the Commission in order on Determination of the tariff for procurement of power by distribution licensee from wind energy generators and other commercial issues on Order No. 1 of 2010 dated 30.01.2010.
URL:https://gercin.org/hearing-schedule/1239-2012-3/
CATEGORIES:Hearing Schedule
END:VEVENT
BEGIN:VEVENT
DTSTART;TZID=Asia/Kolkata:20121211T113000
DTEND;TZID=Asia/Kolkata:20121211T180000
DTSTAMP:20260420T033014
CREATED:20190826T131512Z
LAST-MODIFIED:20190826T131512Z
UID:5657-1355225400-1355248800@gercin.org
SUMMARY:1241/2012
DESCRIPTION:Petition for adjustment / enhancement of\, tariff fixed by the Hon’ble Commission in the Order on “Determination of the Tariff for Procurement of Power by Distribution Licensees from Wind Energy Generators and other commercial issues” (Order No.1 of 2010) dated 30th January\, 2010.
URL:https://gercin.org/hearing-schedule/1241-2012-3/
CATEGORIES:Hearing Schedule
END:VEVENT
BEGIN:VEVENT
DTSTART;TZID=Asia/Kolkata:20121211T113000
DTEND;TZID=Asia/Kolkata:20121211T180000
DTSTAMP:20260420T033014
CREATED:20190826T131512Z
LAST-MODIFIED:20190826T131512Z
UID:5658-1355225400-1355248800@gercin.org
SUMMARY:1252/2012
DESCRIPTION:To pass appropriate urgent orders and/or directions to extend the time period granted to the Petitioner by the Commission vide its Order dated 16.8.2012 for commissioning of the Sub Station of 66/33 kV providing Power Evacuation Facility to wind energy based renewable energy power Project with a capacity of 35 MW at Khareda\, Morbi Taluk\, Rajkot District\, Gujarat Khareda\, for a further period of 3 (Three) months (from 25th October\, 2012 to 25th January\, 2013) and to restrain the respondent from encashing the Bank Guarantee provided by the Petitioner.
URL:https://gercin.org/hearing-schedule/1252-2012-2/
CATEGORIES:Hearing Schedule
END:VEVENT
BEGIN:VEVENT
DTSTART;TZID=Asia/Kolkata:20121211T113000
DTEND;TZID=Asia/Kolkata:20121211T180000
DTSTAMP:20260420T033014
CREATED:20190826T131512Z
LAST-MODIFIED:20190826T131512Z
UID:5661-1355225400-1355248800@gercin.org
SUMMARY:1253/2012
DESCRIPTION:To pass appropriate urgent orders and/or directions to extend the time period granted to the Petitioner by the Commission vide its Order dated 16.8.2012 for commissioning of the Sub Station of 66/33 kV providing Power Evacuation Facility to wind energy based renewable energy power Project with a capacity of 35 MW at Vejalpar\, Maliya Taluk\, Rajkot District\, Gujarat\, for a further period of 3 (Three) months (from 25th October\, 2012 to 25th January\, 2013) and to restrain the respondent from encashing the Bank Guarantee provided by the Petitioner.
URL:https://gercin.org/hearing-schedule/1253-2012-2/
CATEGORIES:Hearing Schedule
END:VEVENT
BEGIN:VEVENT
DTSTART;TZID=Asia/Kolkata:20121211T113000
DTEND;TZID=Asia/Kolkata:20121211T180000
DTSTAMP:20260420T033014
CREATED:20190826T131512Z
LAST-MODIFIED:20190826T131512Z
UID:5662-1355225400-1355248800@gercin.org
SUMMARY:1254/2012
DESCRIPTION:U/s. 65 of EA\, 2003 for providing power tariff subsidy @ Rs. 1/unit I the billed amount of the utilities for the cotton spinning industries & weaving units with & without preparatory in the state as per para 5.4 of the Guj. Textile Policy\, 2012 declare vide Industries & Mines Dept. GR No. TEX-1-2-12-65117-T dated 5.09.2012 and to compensate the amount to the Discoms/Utilities.
URL:https://gercin.org/hearing-schedule/1254-2012/
CATEGORIES:Hearing Schedule
END:VEVENT
BEGIN:VEVENT
DTSTART;TZID=Asia/Kolkata:20121211T113000
DTEND;TZID=Asia/Kolkata:20121211T180000
DTSTAMP:20260420T033014
CREATED:20190826T131512Z
LAST-MODIFIED:20190826T131512Z
UID:5663-1355225400-1355248800@gercin.org
SUMMARY:1257/2012
DESCRIPTION:Petition u/s. 86 (1) (f) of EA\, 2003 read with Article 17 of the PPA dated 26.02.2007 executed between Essar Power Guj. Pvt. Ltd. & GUVNL.
URL:https://gercin.org/hearing-schedule/1257-2012/
CATEGORIES:Hearing Schedule
END:VEVENT
BEGIN:VEVENT
DTSTART;TZID=Asia/Kolkata:20121211T113000
DTEND;TZID=Asia/Kolkata:20121211T180000
DTSTAMP:20260420T033014
CREATED:20190826T132419Z
LAST-MODIFIED:20190826T132419Z
UID:6406-1355225400-1355248800@gercin.org
SUMMARY:1246/2012
DESCRIPTION:Petition under regulation 80 of GERC (Conduct of petitioner) Regulation\, 2004 read with section 86 of the EA\, 2003
URL:https://gercin.org/hearing-schedule/1246-2012-6/
CATEGORIES:Hearing Schedule
END:VEVENT
END:VCALENDAR