        BEGIN:VCALENDAR
VERSION:2.0
PRODID:-//Gujarat Electricity Regulatory Commission - ECPv5.3.0//NONSGML v1.0//EN
CALSCALE:GREGORIAN
METHOD:PUBLISH
X-WR-CALNAME:Gujarat Electricity Regulatory Commission
X-ORIGINAL-URL:https://gercin.org
X-WR-CALDESC:Events for Gujarat Electricity Regulatory Commission
BEGIN:VTIMEZONE
TZID:Asia/Kolkata
BEGIN:STANDARD
TZOFFSETFROM:+0530
TZOFFSETTO:+0530
TZNAME:IST
DTSTART:20120101T000000
END:STANDARD
END:VTIMEZONE
BEGIN:VEVENT
DTSTART;TZID=Asia/Kolkata:20121127T113000
DTEND;TZID=Asia/Kolkata:20121127T180000
DTSTAMP:20260419T205611
CREATED:20190826T131455Z
LAST-MODIFIED:20190826T131455Z
UID:5639-1354015800-1354039200@gercin.org
SUMMARY:1211/2012
DESCRIPTION:Death of merabhai senma due to dropping of live overhead wires and compensation u/s. 57(2) of Electricity Act\, 2003
URL:https://gercin.org/hearing-schedule/1211-2012-5/
CATEGORIES:Hearing Schedule
END:VEVENT
BEGIN:VEVENT
DTSTART;TZID=Asia/Kolkata:20121127T113000
DTEND;TZID=Asia/Kolkata:20121127T180000
DTSTAMP:20260419T205611
CREATED:20190826T131455Z
LAST-MODIFIED:20190826T131455Z
UID:5640-1354015800-1354039200@gercin.org
SUMMARY:1232/2012
DESCRIPTION:Petition under GERC (Procurement of energy from renewable sources) regulations 2010 for considering captive consumption in distribution licensee area from RE generation source for fulfillment of RPPO obligation of distribution licensees.
URL:https://gercin.org/hearing-schedule/1232-2012-2/
CATEGORIES:Hearing Schedule
END:VEVENT
BEGIN:VEVENT
DTSTART;TZID=Asia/Kolkata:20121127T113000
DTEND;TZID=Asia/Kolkata:20121127T180000
DTSTAMP:20260419T205611
CREATED:20190826T131455Z
LAST-MODIFIED:20190826T131455Z
UID:5641-1354015800-1354039200@gercin.org
SUMMARY:1244/2012
DESCRIPTION:Petition under section 86 (1) (f) of the EA 2003 for directions to the respondents to pay the amounts due to the petitioner in terms of the invoices raised and for re-determination of fuel cost fixation of tariff of the biomass based 10 MW power plant at Bhavnagar u/s. 62 r/w. sec. 81(1) (e) of the EA\, 2003.
URL:https://gercin.org/hearing-schedule/1244-2012-2/
CATEGORIES:Hearing Schedule
END:VEVENT
BEGIN:VEVENT
DTSTART;TZID=Asia/Kolkata:20121127T113000
DTEND;TZID=Asia/Kolkata:20121127T180000
DTSTAMP:20260419T205611
CREATED:20190826T131455Z
LAST-MODIFIED:20190826T131455Z
UID:5642-1354015800-1354039200@gercin.org
SUMMARY:1250/2012
DESCRIPTION:Delay in compliance of order issued by the Ombudsman\, Ahmedabad in Review Case No. 28/2012 dated 20.06.2012 by the DGVCL.
URL:https://gercin.org/hearing-schedule/1250-2012/
CATEGORIES:Hearing Schedule
END:VEVENT
BEGIN:VEVENT
DTSTART;TZID=Asia/Kolkata:20121127T113000
DTEND;TZID=Asia/Kolkata:20121127T180000
DTSTAMP:20260419T205611
CREATED:20190826T131455Z
LAST-MODIFIED:20190826T131455Z
UID:5643-1354015800-1354039200@gercin.org
SUMMARY:1252/2012
DESCRIPTION:To pass appropriate urgent orders and/or directions to extend the time period granted to the Petitioner by the Commission vide its Order dated 16.8.2012 for commissioning of the Sub Station of 66/33 kV providing Power Evacuation Facility to wind energy based renewable energy power Project with a capacity of 35 MW at Khareda\, Morbi Taluk\, Rajkot District\, Gujarat Khareda\, for a further period of 3 (Three) months (from 25th October\, 2012 to 25th January\, 2013) and to restrain the respondent from encashing the Bank Guarantee provided by the Petitioner.
URL:https://gercin.org/hearing-schedule/1252-2012/
CATEGORIES:Hearing Schedule
END:VEVENT
BEGIN:VEVENT
DTSTART;TZID=Asia/Kolkata:20121127T113000
DTEND;TZID=Asia/Kolkata:20121127T180000
DTSTAMP:20260419T205611
CREATED:20190826T131455Z
LAST-MODIFIED:20190826T131455Z
UID:5646-1354015800-1354039200@gercin.org
SUMMARY:1253/2012
DESCRIPTION:To pass appropriate urgent orders and/or directions to extend the time period granted to the Petitioner by the Commission vide its Order dated 16.8.2012 for commissioning of the Sub Station of 66/33 kV providing Power Evacuation Facility to wind energy based renewable energy power Project with a capacity of 35 MW at Vejalpar\, Maliya Taluk\, Rajkot District\, Gujarat\, for a further period of 3 (Three) months (from 25th October\, 2012 to 25th January\, 2013) and to restrain the respondent from encashing the Bank Guarantee provided by the Petitioner.
URL:https://gercin.org/hearing-schedule/1253-2012/
CATEGORIES:Hearing Schedule
END:VEVENT
END:VCALENDAR