        BEGIN:VCALENDAR
VERSION:2.0
PRODID:-//Gujarat Electricity Regulatory Commission - ECPv5.3.0//NONSGML v1.0//EN
CALSCALE:GREGORIAN
METHOD:PUBLISH
X-WR-CALNAME:Gujarat Electricity Regulatory Commission
X-ORIGINAL-URL:https://gercin.org
X-WR-CALDESC:Events for Gujarat Electricity Regulatory Commission
BEGIN:VTIMEZONE
TZID:Asia/Kolkata
BEGIN:STANDARD
TZOFFSETFROM:+0530
TZOFFSETTO:+0530
TZNAME:IST
DTSTART:20120101T000000
END:STANDARD
END:VTIMEZONE
BEGIN:VEVENT
DTSTART;TZID=Asia/Kolkata:20121123T033000
DTEND;TZID=Asia/Kolkata:20121123T100000
DTSTAMP:20260419T231642
CREATED:20190826T131455Z
LAST-MODIFIED:20190826T131455Z
UID:5638-1353641400-1353664800@gercin.org
SUMMARY:Suo-Motu Petition No. 1242 of 2012
DESCRIPTION:Applicability of Demand Based Tariff to Residential Consumers of the Ahmedabad- Gandhinagar Distribution Area of the Torrent Power Limited.
URL:https://gercin.org/hearing-schedule/suo-motu-petition-no-1242-of-2012/
CATEGORIES:Hearing Schedule
END:VEVENT
BEGIN:VEVENT
DTSTART;TZID=Asia/Kolkata:20121123T113000
DTEND;TZID=Asia/Kolkata:20121123T180000
DTSTAMP:20260419T231642
CREATED:20190826T131355Z
LAST-MODIFIED:20190826T131355Z
UID:5573-1353670200-1353693600@gercin.org
SUMMARY:1227/2012
DESCRIPTION:Adjudication of disputes between Gujarat Urja Vikas Nigam Limited and Karjan Co-Generation Pvt. Ltd.
URL:https://gercin.org/hearing-schedule/1227-2012-3/
CATEGORIES:Hearing Schedule
END:VEVENT
BEGIN:VEVENT
DTSTART;TZID=Asia/Kolkata:20121123T113000
DTEND;TZID=Asia/Kolkata:20121123T180000
DTSTAMP:20260419T231642
CREATED:20190826T131440Z
LAST-MODIFIED:20190826T131440Z
UID:5622-1353670200-1353693600@gercin.org
SUMMARY:1198/2012
DESCRIPTION:In the matter under section 62 read with section 64 of the EA\, 2003 for determination of tariff
URL:https://gercin.org/hearing-schedule/1198-2012-6/
CATEGORIES:Hearing Schedule
END:VEVENT
BEGIN:VEVENT
DTSTART;TZID=Asia/Kolkata:20121123T113000
DTEND;TZID=Asia/Kolkata:20121123T180000
DTSTAMP:20260419T231642
CREATED:20190826T131440Z
LAST-MODIFIED:20190826T131440Z
UID:5627-1353670200-1353693600@gercin.org
SUMMARY:1221/2012
DESCRIPTION:Petition of adjusting the tariff fixed by the Commission in order on determination of tariff for procurement of power by dist. Licensees from WEG & other commercial issues dated 30.01.2010 due to petitioner not availing accelerated depreciation.
URL:https://gercin.org/hearing-schedule/1221-2012-5/
CATEGORIES:Hearing Schedule
END:VEVENT
BEGIN:VEVENT
DTSTART;TZID=Asia/Kolkata:20121123T113000
DTEND;TZID=Asia/Kolkata:20121123T180000
DTSTAMP:20260419T231642
CREATED:20190826T131440Z
LAST-MODIFIED:20190826T131440Z
UID:5630-1353670200-1353693600@gercin.org
SUMMARY:1234/2012
DESCRIPTION:Filling of Misc. Pet. Requesting the Commission to advise the State Government to review the laws to include the provisions for earmarking the land for installing electrical sub-station and dedicated corridors for laying the electrical network.
URL:https://gercin.org/hearing-schedule/1234-2012-3/
CATEGORIES:Hearing Schedule
END:VEVENT
BEGIN:VEVENT
DTSTART;TZID=Asia/Kolkata:20121123T113000
DTEND;TZID=Asia/Kolkata:20121123T180000
DTSTAMP:20260419T231642
CREATED:20190826T131440Z
LAST-MODIFIED:20190826T131440Z
UID:5631-1353670200-1353693600@gercin.org
SUMMARY:1239/2012
DESCRIPTION:Petition for adjustment/enhancement of tariff fixed by the Commission in order on Determination of the tariff for procurement of power by distribution licensee from wind energy generators and other commercial issues on Order No. 1 of 2010 dated 30.01.2010.
URL:https://gercin.org/hearing-schedule/1239-2012-2/
CATEGORIES:Hearing Schedule
END:VEVENT
BEGIN:VEVENT
DTSTART;TZID=Asia/Kolkata:20121123T113000
DTEND;TZID=Asia/Kolkata:20121123T180000
DTSTAMP:20260419T231642
CREATED:20190826T131440Z
LAST-MODIFIED:20190826T131440Z
UID:5632-1353670200-1353693600@gercin.org
SUMMARY:1241/2012
DESCRIPTION:Petition for adjustment / enhancement of\, tariff fixed by the Hon’ble Commission in the Order on “Determination of the Tariff for Procurement of Power by Distribution Licensees from Wind Energy Generators and other commercial issues” (Order No.1 of 2010) dated 30th January\, 2010.
URL:https://gercin.org/hearing-schedule/1241-2012-2/
CATEGORIES:Hearing Schedule
END:VEVENT
BEGIN:VEVENT
DTSTART;TZID=Asia/Kolkata:20121123T113000
DTEND;TZID=Asia/Kolkata:20121123T180000
DTSTAMP:20260419T231642
CREATED:20190826T131455Z
LAST-MODIFIED:20190826T131455Z
UID:5636-1353670200-1353693600@gercin.org
SUMMARY:1245/2012
DESCRIPTION:Review Petition u/s. 94 of EA\, 2003\, r/w regulation 72\, 80\, 81\, 82 and 83 of GERC (Conduct of Business) Regulation\, 2004  and review of the Commission’s order dated 16.08.2012 in Suo-Motu petition No. 1226/2012 in the matter of implementation of Intra-state Open Access in distribution system.
URL:https://gercin.org/hearing-schedule/1245-2012/
CATEGORIES:Hearing Schedule
END:VEVENT
BEGIN:VEVENT
DTSTART;TZID=Asia/Kolkata:20121123T113000
DTEND;TZID=Asia/Kolkata:20121123T180000
DTSTAMP:20260419T231642
CREATED:20190826T131455Z
LAST-MODIFIED:20190826T131455Z
UID:5637-1353670200-1353693600@gercin.org
SUMMARY:1246/2012
DESCRIPTION:Petition under regulation 80 of GERC (Conduct of petitioner) Regulation\, 2004 read with section 86 of the EA\, 2003
URL:https://gercin.org/hearing-schedule/1246-2012/
CATEGORIES:Hearing Schedule
END:VEVENT
END:VCALENDAR