        BEGIN:VCALENDAR
VERSION:2.0
PRODID:-//Gujarat Electricity Regulatory Commission - ECPv5.3.0//NONSGML v1.0//EN
CALSCALE:GREGORIAN
METHOD:PUBLISH
X-WR-CALNAME:Gujarat Electricity Regulatory Commission
X-ORIGINAL-URL:https://gercin.org
X-WR-CALDESC:Events for Gujarat Electricity Regulatory Commission
BEGIN:VTIMEZONE
TZID:Asia/Kolkata
BEGIN:STANDARD
TZOFFSETFROM:+0530
TZOFFSETTO:+0530
TZNAME:IST
DTSTART:20120101T000000
END:STANDARD
END:VTIMEZONE
BEGIN:VEVENT
DTSTART;TZID=Asia/Kolkata:20121103T033000
DTEND;TZID=Asia/Kolkata:20121103T100000
DTSTAMP:20260420T131433
CREATED:20190826T131355Z
LAST-MODIFIED:20190826T131355Z
UID:5572-1351913400-1351936800@gercin.org
SUMMARY:1212/2012
DESCRIPTION:Adjudicate of disputes between the PPA dated 30.04.2010
URL:https://gercin.org/hearing-schedule/1212-2012-4/
CATEGORIES:Hearing Schedule
END:VEVENT
BEGIN:VEVENT
DTSTART;TZID=Asia/Kolkata:20121103T033000
DTEND;TZID=Asia/Kolkata:20121103T100000
DTSTAMP:20260420T131433
CREATED:20190826T131440Z
LAST-MODIFIED:20190826T131440Z
UID:5629-1351913400-1351936800@gercin.org
SUMMARY:1223/2012
DESCRIPTION:PPA dated 30.04.2010 between M/s. Azure Power Guj. Pvt. Ltd. & GUVNL for sale/purchase electricity from the 5 MW solar power project located at Chhadwada\, Dist. Kutch
URL:https://gercin.org/hearing-schedule/1223-2012-5/
CATEGORIES:Hearing Schedule
END:VEVENT
BEGIN:VEVENT
DTSTART;TZID=Asia/Kolkata:20121103T113000
DTEND;TZID=Asia/Kolkata:20121103T180000
DTSTAMP:20260420T131433
CREATED:20190826T131440Z
LAST-MODIFIED:20190826T131440Z
UID:5616-1351942200-1351965600@gercin.org
SUMMARY:1202/2012
DESCRIPTION:Petition under section 86(1)(f) of the Electricity Act\, 2003 for adjudication of the disputes
URL:https://gercin.org/hearing-schedule/1202-2012-4/
CATEGORIES:Hearing Schedule
END:VEVENT
BEGIN:VEVENT
DTSTART;TZID=Asia/Kolkata:20121103T113000
DTEND;TZID=Asia/Kolkata:20121103T180000
DTSTAMP:20260420T131433
CREATED:20190826T131440Z
LAST-MODIFIED:20190826T131440Z
UID:5617-1351942200-1351965600@gercin.org
SUMMARY:1215/2012
DESCRIPTION:Adjudication of dispute under PPA dated 29.05.2010 between both parties
URL:https://gercin.org/hearing-schedule/1215-2012-5/
CATEGORIES:Hearing Schedule
END:VEVENT
BEGIN:VEVENT
DTSTART;TZID=Asia/Kolkata:20121103T113000
DTEND;TZID=Asia/Kolkata:20121103T180000
DTSTAMP:20260420T131433
CREATED:20190826T131440Z
LAST-MODIFIED:20190826T131440Z
UID:5618-1351942200-1351965600@gercin.org
SUMMARY:1218/2012
DESCRIPTION:Adjudication of dispute under PPA dated 29.05.2010 between both parties.
URL:https://gercin.org/hearing-schedule/1218-2012-5/
CATEGORIES:Hearing Schedule
END:VEVENT
BEGIN:VEVENT
DTSTART;TZID=Asia/Kolkata:20121103T113000
DTEND;TZID=Asia/Kolkata:20121103T180000
DTSTAMP:20260420T131433
CREATED:20190826T131440Z
LAST-MODIFIED:20190826T131440Z
UID:5619-1351942200-1351965600@gercin.org
SUMMARY:1247/2012
DESCRIPTION:Adjudication of disputes arising under PPA dated 29.05.2010 u/s. 86(1) r/w 86(1)(e) of EA\, 2003\, between the parties.
URL:https://gercin.org/hearing-schedule/1247-2012-3/
CATEGORIES:Hearing Schedule
END:VEVENT
BEGIN:VEVENT
DTSTART;TZID=Asia/Kolkata:20121103T113000
DTEND;TZID=Asia/Kolkata:20121103T180000
DTSTAMP:20260420T131433
CREATED:20190826T131440Z
LAST-MODIFIED:20190826T131440Z
UID:5621-1351942200-1351965600@gercin.org
SUMMARY:1248/2012
DESCRIPTION:Adjudication of disputes arising under PPA dated 31.05.2010 u/s. 86(1) r/w 86(1)(e) of EA\, 2003\, between the parties.
URL:https://gercin.org/hearing-schedule/1248-2012-4/
CATEGORIES:Hearing Schedule
END:VEVENT
BEGIN:VEVENT
DTSTART;TZID=Asia/Kolkata:20121103T113000
DTEND;TZID=Asia/Kolkata:20121103T180000
DTSTAMP:20260420T131433
CREATED:20190826T131440Z
LAST-MODIFIED:20190826T131440Z
UID:5624-1351942200-1351965600@gercin.org
SUMMARY:1211/2012
DESCRIPTION:Death of merabhai senma due to dropping of live overhead wires and compensation u/s. 57(2) of Electricity Act\, 2003
URL:https://gercin.org/hearing-schedule/1211-2012-4/
CATEGORIES:Hearing Schedule
END:VEVENT
BEGIN:VEVENT
DTSTART;TZID=Asia/Kolkata:20121103T113000
DTEND;TZID=Asia/Kolkata:20121103T180000
DTSTAMP:20260420T131433
CREATED:20190826T131440Z
LAST-MODIFIED:20190826T131440Z
UID:5625-1351942200-1351965600@gercin.org
SUMMARY:Licence Application -1/2012
DESCRIPTION:Petition in the matter of application for distribution license for distributing electricity to the consumers in GIFT Urban Development Authority Area.
URL:https://gercin.org/hearing-schedule/licence-application-1-2012-2/
CATEGORIES:Hearing Schedule
END:VEVENT
BEGIN:VEVENT
DTSTART;TZID=Asia/Kolkata:20121103T113000
DTEND;TZID=Asia/Kolkata:20121103T180000
DTSTAMP:20260420T131433
CREATED:20190826T131440Z
LAST-MODIFIED:20190826T131440Z
UID:5626-1351942200-1351965600@gercin.org
SUMMARY:1235/2012
DESCRIPTION:Petition u/s. 86 of the Electricity Act\, 2003 for directions to the respondents to forwith release full payments of the monthly tariff invoices raised by the petitioner upon commencement of commercial production and sale of electricity to the GUVNL in accordance with the terms of the PPA\, i.e. 31.05.2010.
URL:https://gercin.org/hearing-schedule/1235-2012-3/
CATEGORIES:Hearing Schedule
END:VEVENT
BEGIN:VEVENT
DTSTART;TZID=Asia/Kolkata:20121103T113000
DTEND;TZID=Asia/Kolkata:20121103T180000
DTSTAMP:20260420T131433
CREATED:20190826T131440Z
LAST-MODIFIED:20190826T131440Z
UID:5628-1351942200-1351965600@gercin.org
SUMMARY:1251/2012
DESCRIPTION:Petition from ACME Solar Technologies (Gujarat) Pvt. Ltd. dated 23.10.2012 for Review/Reconsideration of the order dated 27/08/2012 passed by the Commission in Petition no. 1235 of 2012.
URL:https://gercin.org/hearing-schedule/1251-2012/
CATEGORIES:Hearing Schedule
END:VEVENT
END:VCALENDAR