        BEGIN:VCALENDAR
VERSION:2.0
PRODID:-//Gujarat Electricity Regulatory Commission - ECPv5.3.0//NONSGML v1.0//EN
CALSCALE:GREGORIAN
METHOD:PUBLISH
X-WR-CALNAME:Gujarat Electricity Regulatory Commission
X-ORIGINAL-URL:https://gercin.org
X-WR-CALDESC:Events for Gujarat Electricity Regulatory Commission
BEGIN:VTIMEZONE
TZID:Asia/Kolkata
BEGIN:STANDARD
TZOFFSETFROM:+0530
TZOFFSETTO:+0530
TZNAME:IST
DTSTART:20120101T000000
END:STANDARD
END:VTIMEZONE
BEGIN:VEVENT
DTSTART;TZID=Asia/Kolkata:20121030T113000
DTEND;TZID=Asia/Kolkata:20121030T180000
DTSTAMP:20260419T220049
CREATED:20190826T131425Z
LAST-MODIFIED:20190826T131425Z
UID:5612-1351596600-1351620000@gercin.org
SUMMARY:1237/2012
DESCRIPTION:Review Petition filed u/s. 94 (1) (f) of EA\, 2003 r/w reg. 72(1) of GERC (Conduct of Business) Regulation\, 2004  seeking review of the order of the Commission dated 7.04.2012 in case No. 1152/2011 filed for true up of FY 2010-11 and determination of tariff for FY 2012-13 of GETCO under MYT framework.
URL:https://gercin.org/hearing-schedule/1237-2012/
CATEGORIES:Hearing Schedule
END:VEVENT
BEGIN:VEVENT
DTSTART;TZID=Asia/Kolkata:20121030T113000
DTEND;TZID=Asia/Kolkata:20121030T180000
DTSTAMP:20260419T220049
CREATED:20190826T131425Z
LAST-MODIFIED:20190826T131425Z
UID:5614-1351596600-1351620000@gercin.org
SUMMARY:1244/2012
DESCRIPTION:Petition under section 86 (1) (f) of the EA 2003 for directions to the respondents to pay the amounts due to the petitioner in terms of the invoices raised and for re-determination of fuel cost fixation of tariff of the biomass based 10 MW power plant at Bhavnagar u/s. 62 r/w. sec. 81(1) (e) of the EA\, 2003
URL:https://gercin.org/hearing-schedule/1244-2012/
CATEGORIES:Hearing Schedule
END:VEVENT
BEGIN:VEVENT
DTSTART;TZID=Asia/Kolkata:20121030T113000
DTEND;TZID=Asia/Kolkata:20121030T180000
DTSTAMP:20260419T220049
CREATED:20190826T131440Z
LAST-MODIFIED:20190826T131440Z
UID:5615-1351596600-1351620000@gercin.org
SUMMARY:1249/2012
DESCRIPTION:Petition under Section 94 (1) (f) read with Sections 86(1) (e)\, 61(h) and 62(1)(a) of the Electricity Act\, 2003 before the Commission seeking review and clarifications of the Tariff Order dated 08.08.2012 being Order No. 2 of 2012 viz.\, determination of tariff for procurement of power by the distribution licensees and others from wind power projects. GUVNL and GETCO are the respondents
URL:https://gercin.org/hearing-schedule/1249-2012/
CATEGORIES:Hearing Schedule
END:VEVENT
END:VCALENDAR