        BEGIN:VCALENDAR
VERSION:2.0
PRODID:-//Gujarat Electricity Regulatory Commission - ECPv5.3.0//NONSGML v1.0//EN
CALSCALE:GREGORIAN
METHOD:PUBLISH
X-WR-CALNAME:Gujarat Electricity Regulatory Commission
X-ORIGINAL-URL:https://gercin.org
X-WR-CALDESC:Events for Gujarat Electricity Regulatory Commission
BEGIN:VTIMEZONE
TZID:Asia/Kolkata
BEGIN:STANDARD
TZOFFSETFROM:+0530
TZOFFSETTO:+0530
TZNAME:IST
DTSTART:20120101T000000
END:STANDARD
END:VTIMEZONE
BEGIN:VEVENT
DTSTART;TZID=Asia/Kolkata:20120915T113000
DTEND;TZID=Asia/Kolkata:20120915T180000
DTSTAMP:20260420T154738
CREATED:20190826T131410Z
LAST-MODIFIED:20190826T131410Z
UID:5580-1347708600-1347732000@gercin.org
SUMMARY:1202/2012
DESCRIPTION:Petition under section 86(1)(f) of the Electricity Act\, 2003 for adjudication of the disputes
URL:https://gercin.org/hearing-schedule/1202-2012-2/
CATEGORIES:Hearing Schedule
END:VEVENT
BEGIN:VEVENT
DTSTART;TZID=Asia/Kolkata:20120915T113000
DTEND;TZID=Asia/Kolkata:20120915T180000
DTSTAMP:20260420T154738
CREATED:20190826T131410Z
LAST-MODIFIED:20190826T131410Z
UID:5581-1347708600-1347732000@gercin.org
SUMMARY:1210/2012
DESCRIPTION:Application under article 13 of the PPA dated 2.02.2007 entered between GUVNL\, and Adani Power Ltd. for the adjustment of tariff.
URL:https://gercin.org/hearing-schedule/1210-2012-2/
CATEGORIES:Hearing Schedule
END:VEVENT
BEGIN:VEVENT
DTSTART;TZID=Asia/Kolkata:20120915T113000
DTEND;TZID=Asia/Kolkata:20120915T180000
DTSTAMP:20260420T154738
CREATED:20190826T131410Z
LAST-MODIFIED:20190826T131410Z
UID:5582-1347708600-1347732000@gercin.org
SUMMARY:1212/2012
DESCRIPTION:Adjudicate of disputes between the PPA dated 30.04.2010
URL:https://gercin.org/hearing-schedule/1212-2012-5/
CATEGORIES:Hearing Schedule
END:VEVENT
BEGIN:VEVENT
DTSTART;TZID=Asia/Kolkata:20120915T113000
DTEND;TZID=Asia/Kolkata:20120915T180000
DTSTAMP:20260420T154738
CREATED:20190826T131410Z
LAST-MODIFIED:20190826T131410Z
UID:5583-1347708600-1347732000@gercin.org
SUMMARY:1223/2012
DESCRIPTION:PPA dated 30.04.2010 between M/s. Azure Power Guj. Pvt. Ltd. & GUVNL for sale/purchase electricity from the 5 MW solar power project located at Chhadwada\, Dist. Kutch
URL:https://gercin.org/hearing-schedule/1223-2012-3/
CATEGORIES:Hearing Schedule
END:VEVENT
BEGIN:VEVENT
DTSTART;TZID=Asia/Kolkata:20120915T113000
DTEND;TZID=Asia/Kolkata:20120915T180000
DTSTAMP:20260420T154738
CREATED:20190826T131410Z
LAST-MODIFIED:20190826T131410Z
UID:5584-1347708600-1347732000@gercin.org
SUMMARY:1215/2012
DESCRIPTION:Adjudication of dispute under PPA dated 29.05.2010 between both parties.
URL:https://gercin.org/hearing-schedule/1215-2012-4/
CATEGORIES:Hearing Schedule
END:VEVENT
BEGIN:VEVENT
DTSTART;TZID=Asia/Kolkata:20120915T113000
DTEND;TZID=Asia/Kolkata:20120915T180000
DTSTAMP:20260420T154738
CREATED:20190826T131410Z
LAST-MODIFIED:20190826T131410Z
UID:5585-1347708600-1347732000@gercin.org
SUMMARY:1218/2012
DESCRIPTION:Adjudication of dispute under PPA dated 29.05.2010 between both parties.
URL:https://gercin.org/hearing-schedule/1218-2012-4/
CATEGORIES:Hearing Schedule
END:VEVENT
BEGIN:VEVENT
DTSTART;TZID=Asia/Kolkata:20120915T113000
DTEND;TZID=Asia/Kolkata:20120915T180000
DTSTAMP:20260420T154738
CREATED:20190826T131410Z
LAST-MODIFIED:20190826T131410Z
UID:5586-1347708600-1347732000@gercin.org
SUMMARY:1222/2012
DESCRIPTION:Illegal collection of POC and issue direction for refund of POC charges
URL:https://gercin.org/hearing-schedule/1222-2012-2/
CATEGORIES:Hearing Schedule
END:VEVENT
BEGIN:VEVENT
DTSTART;TZID=Asia/Kolkata:20120915T113000
DTEND;TZID=Asia/Kolkata:20120915T180000
DTSTAMP:20260420T154738
CREATED:20190826T131410Z
LAST-MODIFIED:20190826T131410Z
UID:5588-1347708600-1347732000@gercin.org
SUMMARY:1235/2012
DESCRIPTION:etition u/s. 86 of the Electricity Act\, 2003 for directions to the respondents to forwith release full payments of the monthly tariff invoices raised by the petitioner upon commencement of commercial production and sale of electricity to the GUVNL in accordance with the terms of the PPA\, i.e. 31.05.2010.
URL:https://gercin.org/hearing-schedule/1235-2012-2/
CATEGORIES:Hearing Schedule
END:VEVENT
BEGIN:VEVENT
DTSTART;TZID=Asia/Kolkata:20120915T113000
DTEND;TZID=Asia/Kolkata:20120915T180000
DTSTAMP:20260420T154738
CREATED:20190826T131410Z
LAST-MODIFIED:20190826T131410Z
UID:5589-1347708600-1347732000@gercin.org
SUMMARY:1211/2012
DESCRIPTION:Death of merabhai senma due to dropping of live overhead wires and compensation u/s. 57(2) of Electricity Act\, 2003
URL:https://gercin.org/hearing-schedule/1211-2012-2/
CATEGORIES:Hearing Schedule
END:VEVENT
END:VCALENDAR