        BEGIN:VCALENDAR
VERSION:2.0
PRODID:-//Gujarat Electricity Regulatory Commission - ECPv5.3.0//NONSGML v1.0//EN
CALSCALE:GREGORIAN
METHOD:PUBLISH
X-WR-CALNAME:Gujarat Electricity Regulatory Commission
X-ORIGINAL-URL:https://gercin.org
X-WR-CALDESC:Events for Gujarat Electricity Regulatory Commission
BEGIN:VTIMEZONE
TZID:Asia/Kolkata
BEGIN:STANDARD
TZOFFSETFROM:+0530
TZOFFSETTO:+0530
TZNAME:IST
DTSTART:20120101T000000
END:STANDARD
END:VTIMEZONE
BEGIN:VEVENT
DTSTART;TZID=Asia/Kolkata:20120904T113000
DTEND;TZID=Asia/Kolkata:20120904T180000
DTSTAMP:20260420T061750
CREATED:20190826T131355Z
LAST-MODIFIED:20190826T131355Z
UID:5570-1346758200-1346781600@gercin.org
SUMMARY:1198/2012
DESCRIPTION:In the matter under section 62 read with section 64 of the EA\, 2003 for determination of tariff
URL:https://gercin.org/hearing-schedule/1198-2012-4/
CATEGORIES:Hearing Schedule
END:VEVENT
BEGIN:VEVENT
DTSTART;TZID=Asia/Kolkata:20120904T113000
DTEND;TZID=Asia/Kolkata:20120904T180000
DTSTAMP:20260420T061750
CREATED:20190826T131355Z
LAST-MODIFIED:20190826T131355Z
UID:5574-1346758200-1346781600@gercin.org
SUMMARY:1211/2012
DESCRIPTION:Death of merabhai senma due to dropping of live overhead wires and compensation u/s. 57(2) of Electricity Act\, 2003
URL:https://gercin.org/hearing-schedule/1211-2012/
CATEGORIES:Hearing Schedule
END:VEVENT
BEGIN:VEVENT
DTSTART;TZID=Asia/Kolkata:20120904T113000
DTEND;TZID=Asia/Kolkata:20120904T180000
DTSTAMP:20260420T061750
CREATED:20190826T131410Z
LAST-MODIFIED:20190826T131410Z
UID:5575-1346758200-1346781600@gercin.org
SUMMARY:1225/2012
DESCRIPTION:Review petition in order no. 1150/2011 passed by the Commission dated 1.06.2012
URL:https://gercin.org/hearing-schedule/1225-2012-3/
CATEGORIES:Hearing Schedule
END:VEVENT
BEGIN:VEVENT
DTSTART;TZID=Asia/Kolkata:20120904T113000
DTEND;TZID=Asia/Kolkata:20120904T180000
DTSTAMP:20260420T061750
CREATED:20190826T131410Z
LAST-MODIFIED:20190826T131410Z
UID:5576-1346758200-1346781600@gercin.org
SUMMARY:1229/2012
DESCRIPTION:In the matter of levying of excess Parallel Operation Charges.
URL:https://gercin.org/hearing-schedule/1229-2012-3/
CATEGORIES:Hearing Schedule
END:VEVENT
BEGIN:VEVENT
DTSTART;TZID=Asia/Kolkata:20120904T113000
DTEND;TZID=Asia/Kolkata:20120904T180000
DTSTAMP:20260420T061750
CREATED:20190826T131410Z
LAST-MODIFIED:20190826T131410Z
UID:5577-1346758200-1346781600@gercin.org
SUMMARY:1233/2012
DESCRIPTION:In the matter of petitioner to allow GSECL to raise the FPPPA bills regularly every month.
URL:https://gercin.org/hearing-schedule/1233-2012/
CATEGORIES:Hearing Schedule
END:VEVENT
BEGIN:VEVENT
DTSTART;TZID=Asia/Kolkata:20120904T113000
DTEND;TZID=Asia/Kolkata:20120904T180000
DTSTAMP:20260420T061750
CREATED:20190826T131410Z
LAST-MODIFIED:20190826T131410Z
UID:5578-1346758200-1346781600@gercin.org
SUMMARY:1234/2012
DESCRIPTION:Filling of Misc. Pet. Requesting the Commission to advise the State Government to review the laws to include the provisions for earmarking the land for installing electrical sub-station and dedicated corridors for laying the electrical network.
URL:https://gercin.org/hearing-schedule/1234-2012/
CATEGORIES:Hearing Schedule
END:VEVENT
BEGIN:VEVENT
DTSTART;TZID=Asia/Kolkata:20120904T113000
DTEND;TZID=Asia/Kolkata:20120904T180000
DTSTAMP:20260420T061750
CREATED:20190826T131410Z
LAST-MODIFIED:20190826T131410Z
UID:5579-1346758200-1346781600@gercin.org
SUMMARY:1236/2012
DESCRIPTION:In the matter of applicability of order No. 2 of 2006 passed by the GERC in relation to the determination of price for procurement of power by the distribution licensees in Gujarat from Wind Energy Projects.
URL:https://gercin.org/hearing-schedule/1236-2012/
CATEGORIES:Hearing Schedule
END:VEVENT
END:VCALENDAR