        BEGIN:VCALENDAR
VERSION:2.0
PRODID:-//Gujarat Electricity Regulatory Commission - ECPv5.3.0//NONSGML v1.0//EN
CALSCALE:GREGORIAN
METHOD:PUBLISH
X-WR-CALNAME:Gujarat Electricity Regulatory Commission
X-ORIGINAL-URL:https://gercin.org
X-WR-CALDESC:Events for Gujarat Electricity Regulatory Commission
BEGIN:VTIMEZONE
TZID:Asia/Kolkata
BEGIN:STANDARD
TZOFFSETFROM:+0530
TZOFFSETTO:+0530
TZNAME:IST
DTSTART:20120101T000000
END:STANDARD
END:VTIMEZONE
BEGIN:VEVENT
DTSTART;TZID=Asia/Kolkata:20120505T113000
DTEND;TZID=Asia/Kolkata:20120505T180000
DTSTAMP:20260422T042836
CREATED:20190826T133317Z
LAST-MODIFIED:20190826T133317Z
UID:7128-1336217400-1336240800@gercin.org
SUMMARY:1204/2012
DESCRIPTION:Non-implementation of the order of the Ombudsman\, therefore petitioner file a petition under clause 3.46 of CGRF & O.@ 2011\, Notification No. 2 of 2011
URL:https://gercin.org/hearing-schedule/1204-2012-18/
CATEGORIES:Hearing Schedule
END:VEVENT
BEGIN:VEVENT
DTSTART;TZID=Asia/Kolkata:20120505T113000
DTEND;TZID=Asia/Kolkata:20120505T180000
DTSTAMP:20260422T042836
CREATED:20190826T133317Z
LAST-MODIFIED:20190826T133317Z
UID:7129-1336217400-1336240800@gercin.org
SUMMARY:1205/2012
DESCRIPTION:In the matter under regulation 80 of the GERC reg. 2004 readwith  Section 86(1)(b) of E.A\, 2003\, for approval of PPA
URL:https://gercin.org/hearing-schedule/1205-2012-7/
CATEGORIES:Hearing Schedule
END:VEVENT
BEGIN:VEVENT
DTSTART;TZID=Asia/Kolkata:20120505T113000
DTEND;TZID=Asia/Kolkata:20120505T180000
DTSTAMP:20260422T042836
CREATED:20190826T133317Z
LAST-MODIFIED:20190826T133317Z
UID:7130-1336217400-1336240800@gercin.org
SUMMARY:1206/2012
DESCRIPTION:Extension of time for erection of 66 kv transmission network for evacuation of 25 MW wind farm generation from wind farm of M/s. K.P.Energy Pvt. Ltd. as per communication dated 6.04.2011.
URL:https://gercin.org/hearing-schedule/1206-2012/
CATEGORIES:Hearing Schedule
END:VEVENT
BEGIN:VEVENT
DTSTART;TZID=Asia/Kolkata:20120505T113000
DTEND;TZID=Asia/Kolkata:20120505T180000
DTSTAMP:20260422T042836
CREATED:20190826T133317Z
LAST-MODIFIED:20190826T133317Z
UID:7131-1336217400-1336240800@gercin.org
SUMMARY:1207/2012
DESCRIPTION:Extension of time for under section 129 and other relevant provisions of Electricity Act\, 2003 to pass appropriate urgent orders to condone the delay in commissioning of power evacuations facilities of Wind Power Project for a period of 3 months and to direct the respondent not to encash bank guarantee submitted by the applicant till then.
URL:https://gercin.org/hearing-schedule/1207-2012/
CATEGORIES:Hearing Schedule
END:VEVENT
BEGIN:VEVENT
DTSTART;TZID=Asia/Kolkata:20120505T113000
DTEND;TZID=Asia/Kolkata:20120505T180000
DTSTAMP:20260422T042836
CREATED:20190826T133317Z
LAST-MODIFIED:20190826T133317Z
UID:7132-1336217400-1336240800@gercin.org
SUMMARY:1076/2011
DESCRIPTION:Adjudication of disputes between Gujarat Urja Vikas Nigam Ltd. V/s. PTC India Ltd. Under section 86(1)(f) of the Electricity Act\, 2003.
URL:https://gercin.org/hearing-schedule/1076-2011-8/
CATEGORIES:Hearing Schedule
END:VEVENT
BEGIN:VEVENT
DTSTART;TZID=Asia/Kolkata:20120505T113000
DTEND;TZID=Asia/Kolkata:20120505T180000
DTSTAMP:20260422T042836
CREATED:20190826T133317Z
LAST-MODIFIED:20190826T133317Z
UID:7133-1336217400-1336240800@gercin.org
SUMMARY:1181/2011
DESCRIPTION:Petition in the matter of petition filed under section 142 readwith section 149 and section 146 of the Electricity Act\, 2003 readwith (i) GERC (Conduct of Business)\, Regulations\, 2004 clause No. 62 (a) and (b) and No. 64 for  Punishment to Torrent Energy Limited and Torrent Power Limited.
URL:https://gercin.org/hearing-schedule/1181-2011-4/
CATEGORIES:Hearing Schedule
END:VEVENT
BEGIN:VEVENT
DTSTART;TZID=Asia/Kolkata:20120505T113000
DTEND;TZID=Asia/Kolkata:20120505T180000
DTSTAMP:20260422T042836
CREATED:20190826T133332Z
LAST-MODIFIED:20190826T133332Z
UID:7139-1336217400-1336240800@gercin.org
SUMMARY:1200/2012
DESCRIPTION:Petition under section 86(1)(f) of the Electricity Act\, 2003 for adjudication of disputes between a generating company and a distribution licensee.
URL:https://gercin.org/hearing-schedule/1200-2012-7/
CATEGORIES:Hearing Schedule
END:VEVENT
END:VCALENDAR