        BEGIN:VCALENDAR
VERSION:2.0
PRODID:-//Gujarat Electricity Regulatory Commission - ECPv5.3.0//NONSGML v1.0//EN
CALSCALE:GREGORIAN
METHOD:PUBLISH
X-WR-CALNAME:Gujarat Electricity Regulatory Commission
X-ORIGINAL-URL:https://gercin.org
X-WR-CALDESC:Events for Gujarat Electricity Regulatory Commission
BEGIN:VTIMEZONE
TZID:Asia/Kolkata
BEGIN:STANDARD
TZOFFSETFROM:+0530
TZOFFSETTO:+0530
TZNAME:IST
DTSTART:20120101T000000
END:STANDARD
END:VTIMEZONE
BEGIN:VEVENT
DTSTART;TZID=Asia/Kolkata:20120502T113000
DTEND;TZID=Asia/Kolkata:20120502T180000
DTSTAMP:20260420T061820
CREATED:20190826T133317Z
LAST-MODIFIED:20190826T133317Z
UID:7123-1335958200-1335981600@gercin.org
SUMMARY:1192/2012
DESCRIPTION:Interpretation/clarification and/or review of GERC (Electricity Supply Code and related matters) Regulations\, 2005 read with Distribution Code and various provisions of the Electricity Act\, 2003 for getting permission for utilisation of power supply from the existing connection (having the consumer number 26413) at the premises owned by the petitioner to its other adjoining lands
URL:https://gercin.org/hearing-schedule/1192-2012-3/
CATEGORIES:Hearing Schedule
END:VEVENT
BEGIN:VEVENT
DTSTART;TZID=Asia/Kolkata:20120502T113000
DTEND;TZID=Asia/Kolkata:20120502T180000
DTSTAMP:20260420T061820
CREATED:20190826T133317Z
LAST-MODIFIED:20190826T133317Z
UID:7124-1335958200-1335981600@gercin.org
SUMMARY:1198/2012
DESCRIPTION:In the matter under section 62 read with section 64 of the EA\, 2003 for determination of tariff
URL:https://gercin.org/hearing-schedule/1198-2012-14/
CATEGORIES:Hearing Schedule
END:VEVENT
BEGIN:VEVENT
DTSTART;TZID=Asia/Kolkata:20120502T113000
DTEND;TZID=Asia/Kolkata:20120502T180000
DTSTAMP:20260420T061820
CREATED:20190826T133317Z
LAST-MODIFIED:20190826T133317Z
UID:7125-1335958200-1335981600@gercin.org
SUMMARY:1201/2012
DESCRIPTION:Petition under section 62  readwith section 64 of the Electricity Act\, 2003 for determination of tariff
URL:https://gercin.org/hearing-schedule/1201-2012/
CATEGORIES:Hearing Schedule
END:VEVENT
BEGIN:VEVENT
DTSTART;TZID=Asia/Kolkata:20120502T113000
DTEND;TZID=Asia/Kolkata:20120502T180000
DTSTAMP:20260420T061820
CREATED:20190826T133317Z
LAST-MODIFIED:20190826T133317Z
UID:7126-1335958200-1335981600@gercin.org
SUMMARY:1202/2012
DESCRIPTION:Petition under section 86(1)(f) of the Electricity Act\, 2003 for adjudication of the disputes
URL:https://gercin.org/hearing-schedule/1202-2012-6/
CATEGORIES:Hearing Schedule
END:VEVENT
BEGIN:VEVENT
DTSTART;TZID=Asia/Kolkata:20120502T113000
DTEND;TZID=Asia/Kolkata:20120502T180000
DTSTAMP:20260420T061820
CREATED:20190826T133317Z
LAST-MODIFIED:20190826T133317Z
UID:7127-1335958200-1335981600@gercin.org
SUMMARY:1199/2012
DESCRIPTION:Petition for extension of SCOD of PPA executed between Zeba Solar Gujarat Pvt. Ltd. & GUVNL for setting up 10MW capacity of Solar Power Plant.
URL:https://gercin.org/hearing-schedule/1199-2012/
CATEGORIES:Hearing Schedule
END:VEVENT
END:VCALENDAR