        BEGIN:VCALENDAR
VERSION:2.0
PRODID:-//Gujarat Electricity Regulatory Commission - ECPv5.3.0//NONSGML v1.0//EN
CALSCALE:GREGORIAN
METHOD:PUBLISH
X-WR-CALNAME:Gujarat Electricity Regulatory Commission
X-ORIGINAL-URL:https://gercin.org
X-WR-CALDESC:Events for Gujarat Electricity Regulatory Commission
BEGIN:VTIMEZONE
TZID:Asia/Kolkata
BEGIN:STANDARD
TZOFFSETFROM:+0530
TZOFFSETTO:+0530
TZNAME:IST
DTSTART:20120101T000000
END:STANDARD
END:VTIMEZONE
BEGIN:VEVENT
DTSTART;TZID=Asia/Kolkata:20120320T113000
DTEND;TZID=Asia/Kolkata:20120320T180000
DTSTAMP:20260420T121133
CREATED:20190826T133317Z
LAST-MODIFIED:20190826T133317Z
UID:7114-1332243000-1332266400@gercin.org
SUMMARY:1175/2011
DESCRIPTION:Petition for True up of FY 2010-11 and Determination of Tariff for FY 2012-13 for Distribution Business of Ahmedabad Supply Area of Torrent Power Ltd.
URL:https://gercin.org/hearing-schedule/1175-2011-2/
CATEGORIES:Hearing Schedule
END:VEVENT
BEGIN:VEVENT
DTSTART;TZID=Asia/Kolkata:20120320T113000
DTEND;TZID=Asia/Kolkata:20120320T180000
DTSTAMP:20260420T121133
CREATED:20190826T133317Z
LAST-MODIFIED:20190826T133317Z
UID:7115-1332243000-1332266400@gercin.org
SUMMARY:1176/2011
DESCRIPTION:Petition for True up of FY 2010-11 and Determination of Tariff for FY 2012-13 for Distribution Business of Surat Supply Area of Torrent Power Ltd.
URL:https://gercin.org/hearing-schedule/1176-2011-2/
CATEGORIES:Hearing Schedule
END:VEVENT
BEGIN:VEVENT
DTSTART;TZID=Asia/Kolkata:20120320T113000
DTEND;TZID=Asia/Kolkata:20120320T180000
DTSTAMP:20260420T121133
CREATED:20190826T133317Z
LAST-MODIFIED:20190826T133317Z
UID:7116-1332243000-1332266400@gercin.org
SUMMARY:1177/2011
DESCRIPTION:Petition for True up of FY 2010-11 and Determination of Tariff for FY 2012-13 for Ahmedabad Generation Business of Torrent Power Ltd.
URL:https://gercin.org/hearing-schedule/1177-2011-2/
CATEGORIES:Hearing Schedule
END:VEVENT
END:VCALENDAR