        BEGIN:VCALENDAR
VERSION:2.0
PRODID:-//Gujarat Electricity Regulatory Commission - ECPv5.3.0//NONSGML v1.0//EN
CALSCALE:GREGORIAN
METHOD:PUBLISH
X-WR-CALNAME:Gujarat Electricity Regulatory Commission
X-ORIGINAL-URL:https://gercin.org
X-WR-CALDESC:Events for Gujarat Electricity Regulatory Commission
BEGIN:VTIMEZONE
TZID:Asia/Kolkata
BEGIN:STANDARD
TZOFFSETFROM:+0530
TZOFFSETTO:+0530
TZNAME:IST
DTSTART:20110101T000000
END:STANDARD
END:VTIMEZONE
BEGIN:VEVENT
DTSTART;TZID=Asia/Kolkata:20111230T113000
DTEND;TZID=Asia/Kolkata:20111230T180000
DTSTAMP:20260420T170734
CREATED:20190826T131826Z
LAST-MODIFIED:20190826T131826Z
UID:5918-1325244600-1325268000@gercin.org
SUMMARY:1129/2011
DESCRIPTION:Petition for extension of control period of Solar Tariff order No. 2 of 2010 dated 29.01.2010
URL:https://gercin.org/hearing-schedule/1129-2011/
CATEGORIES:Hearing Schedule
END:VEVENT
BEGIN:VEVENT
DTSTART;TZID=Asia/Kolkata:20111230T113000
DTEND;TZID=Asia/Kolkata:20111230T180000
DTSTAMP:20260420T170734
CREATED:20190826T131826Z
LAST-MODIFIED:20190826T131826Z
UID:5933-1325244600-1325268000@gercin.org
SUMMARY:1127/2011
DESCRIPTION:Petition for extension of control period of Solar Tariff order No. 2 of 2010 dated 29.01.2010
URL:https://gercin.org/hearing-schedule/1127-2011-2/
CATEGORIES:Hearing Schedule
END:VEVENT
BEGIN:VEVENT
DTSTART;TZID=Asia/Kolkata:20111230T113000
DTEND;TZID=Asia/Kolkata:20111230T180000
DTSTAMP:20260420T170734
CREATED:20190826T131842Z
LAST-MODIFIED:20190826T131842Z
UID:5943-1325244600-1325268000@gercin.org
SUMMARY:1144/2011
DESCRIPTION:Petition for extension of control period of Solar Tariff order No. 2 of 2010 dated 29.01.2010
URL:https://gercin.org/hearing-schedule/1144-2011-2/
CATEGORIES:Hearing Schedule
END:VEVENT
BEGIN:VEVENT
DTSTART;TZID=Asia/Kolkata:20111230T113000
DTEND;TZID=Asia/Kolkata:20111230T180000
DTSTAMP:20260420T170734
CREATED:20190826T131842Z
LAST-MODIFIED:20190826T131842Z
UID:5954-1325244600-1325268000@gercin.org
SUMMARY:1154/2011
DESCRIPTION:Petition for extension of control period of Solar Tariff order No. 2 of 2010 dated 29.01.2010
URL:https://gercin.org/hearing-schedule/1154-2011/
CATEGORIES:Hearing Schedule
END:VEVENT
BEGIN:VEVENT
DTSTART;TZID=Asia/Kolkata:20111230T113000
DTEND;TZID=Asia/Kolkata:20111230T180000
DTSTAMP:20260420T170734
CREATED:20190826T131856Z
LAST-MODIFIED:20190826T131856Z
UID:5955-1325244600-1325268000@gercin.org
SUMMARY:1160/2011
DESCRIPTION:Petition for extension of control period of Solar Tariff order No. 2 of 2010 dated 29.01.2010
URL:https://gercin.org/hearing-schedule/1160-2011/
CATEGORIES:Hearing Schedule
END:VEVENT
BEGIN:VEVENT
DTSTART;TZID=Asia/Kolkata:20111230T113000
DTEND;TZID=Asia/Kolkata:20111230T180000
DTSTAMP:20260420T170734
CREATED:20190826T131856Z
LAST-MODIFIED:20190826T131856Z
UID:5956-1325244600-1325268000@gercin.org
SUMMARY:1169/2011
DESCRIPTION:Petition for extension of control period of Solar Tariff order No. 2 of 2010 dated 29.01.2010
URL:https://gercin.org/hearing-schedule/1169-2011/
CATEGORIES:Hearing Schedule
END:VEVENT
BEGIN:VEVENT
DTSTART;TZID=Asia/Kolkata:20111230T113000
DTEND;TZID=Asia/Kolkata:20111230T180000
DTSTAMP:20260420T170734
CREATED:20190826T132503Z
LAST-MODIFIED:20190826T132503Z
UID:6466-1325244600-1325268000@gercin.org
SUMMARY:1162/2011
DESCRIPTION:Petition for extension of control period of Solar Tariff order No. 2 of 2010 dated 29.01.2010
URL:https://gercin.org/hearing-schedule/1162-2011-2/
CATEGORIES:Hearing Schedule
END:VEVENT
BEGIN:VEVENT
DTSTART;TZID=Asia/Kolkata:20111230T113000
DTEND;TZID=Asia/Kolkata:20111230T180000
DTSTAMP:20260420T170734
CREATED:20190826T132503Z
LAST-MODIFIED:20190826T132503Z
UID:6467-1325244600-1325268000@gercin.org
SUMMARY:1165/2011
DESCRIPTION:Petition for extension of control period of Solar Tariff order No. 2 of 2010 dated 29.01.2010
URL:https://gercin.org/hearing-schedule/1165-2011-2/
CATEGORIES:Hearing Schedule
END:VEVENT
BEGIN:VEVENT
DTSTART;TZID=Asia/Kolkata:20111230T113000
DTEND;TZID=Asia/Kolkata:20111230T180000
DTSTAMP:20260420T170734
CREATED:20190826T132503Z
LAST-MODIFIED:20190826T132503Z
UID:6468-1325244600-1325268000@gercin.org
SUMMARY:1168/2011
DESCRIPTION:Petition for extension of control period of Solar Tariff order No. 2 of 2010 dated 29.01.2010
URL:https://gercin.org/hearing-schedule/1168-2011-2/
CATEGORIES:Hearing Schedule
END:VEVENT
BEGIN:VEVENT
DTSTART;TZID=Asia/Kolkata:20111230T113000
DTEND;TZID=Asia/Kolkata:20111230T180000
DTSTAMP:20260420T170734
CREATED:20190826T132520Z
LAST-MODIFIED:20190826T132520Z
UID:6478-1325244600-1325268000@gercin.org
SUMMARY:1170/2011
DESCRIPTION:Petition for extension of control period of Solar Tariff order No. 2 of 2010 dated 29.01.2010
URL:https://gercin.org/hearing-schedule/1170-2011/
CATEGORIES:Hearing Schedule
END:VEVENT
BEGIN:VEVENT
DTSTART;TZID=Asia/Kolkata:20111230T113000
DTEND;TZID=Asia/Kolkata:20111230T180000
DTSTAMP:20260420T170734
CREATED:20190826T132520Z
LAST-MODIFIED:20190826T132520Z
UID:6479-1325244600-1325268000@gercin.org
SUMMARY:1171/2011
DESCRIPTION:Petition for extension of control period of Solar Tariff order No. 2 of 2010 dated 29.01.2010
URL:https://gercin.org/hearing-schedule/1171-2011/
CATEGORIES:Hearing Schedule
END:VEVENT
BEGIN:VEVENT
DTSTART;TZID=Asia/Kolkata:20111230T113000
DTEND;TZID=Asia/Kolkata:20111230T180000
DTSTAMP:20260420T170734
CREATED:20190826T132520Z
LAST-MODIFIED:20190826T132520Z
UID:6480-1325244600-1325268000@gercin.org
SUMMARY:1172/2011
DESCRIPTION:Petition for extension of control period of Solar Tariff order No. 2 of 2010 dated 29.01.2010
URL:https://gercin.org/hearing-schedule/1172-2011/
CATEGORIES:Hearing Schedule
END:VEVENT
BEGIN:VEVENT
DTSTART;TZID=Asia/Kolkata:20111230T113000
DTEND;TZID=Asia/Kolkata:20111230T180000
DTSTAMP:20260420T170734
CREATED:20190826T132550Z
LAST-MODIFIED:20190826T132550Z
UID:6521-1325244600-1325268000@gercin.org
SUMMARY:1126/2011
DESCRIPTION:Petition for extension of control period of Solar Tariff order No. 2 of 2010 dated 29.01.2010
URL:https://gercin.org/hearing-schedule/1126-2011-3/
CATEGORIES:Hearing Schedule
END:VEVENT
BEGIN:VEVENT
DTSTART;TZID=Asia/Kolkata:20111230T113000
DTEND;TZID=Asia/Kolkata:20111230T180000
DTSTAMP:20260420T170734
CREATED:20190826T132550Z
LAST-MODIFIED:20190826T132550Z
UID:6529-1325244600-1325268000@gercin.org
SUMMARY:1134/2011
DESCRIPTION:Petition for extension of control period of Solar Tariff order No. 2 of 2010 dated 29.01.2010
URL:https://gercin.org/hearing-schedule/1134-2011-3/
CATEGORIES:Hearing Schedule
END:VEVENT
BEGIN:VEVENT
DTSTART;TZID=Asia/Kolkata:20111230T113000
DTEND;TZID=Asia/Kolkata:20111230T180000
DTSTAMP:20260420T170734
CREATED:20190826T132550Z
LAST-MODIFIED:20190826T132550Z
UID:6530-1325244600-1325268000@gercin.org
SUMMARY:1135/2011
DESCRIPTION:Petition for extension of control period of Solar Tariff order No. 2 of 2010 dated 29.01.2010
URL:https://gercin.org/hearing-schedule/1135-2011-2/
CATEGORIES:Hearing Schedule
END:VEVENT
BEGIN:VEVENT
DTSTART;TZID=Asia/Kolkata:20111230T113000
DTEND;TZID=Asia/Kolkata:20111230T180000
DTSTAMP:20260420T170734
CREATED:20190826T132550Z
LAST-MODIFIED:20190826T132550Z
UID:6531-1325244600-1325268000@gercin.org
SUMMARY:1136/2011
DESCRIPTION:Petition for extension of control period of Solar Tariff order No. 2 of 2010 dated 29.01.2010
URL:https://gercin.org/hearing-schedule/1136-2011/
CATEGORIES:Hearing Schedule
END:VEVENT
BEGIN:VEVENT
DTSTART;TZID=Asia/Kolkata:20111230T113000
DTEND;TZID=Asia/Kolkata:20111230T180000
DTSTAMP:20260420T170734
CREATED:20190826T132550Z
LAST-MODIFIED:20190826T132550Z
UID:6532-1325244600-1325268000@gercin.org
SUMMARY:1143/2011
DESCRIPTION:Petition for extension of control period of Solar Tariff order No. 2 of 2010 dated 29.01.2010
URL:https://gercin.org/hearing-schedule/1143-2011-2/
CATEGORIES:Hearing Schedule
END:VEVENT
BEGIN:VEVENT
DTSTART;TZID=Asia/Kolkata:20111230T113000
DTEND;TZID=Asia/Kolkata:20111230T180000
DTSTAMP:20260420T170734
CREATED:20190826T132634Z
LAST-MODIFIED:20190826T132634Z
UID:6588-1325244600-1325268000@gercin.org
SUMMARY:1146/2011
DESCRIPTION:Petition for extension of control period of Solar Tariff order No. 2 of 2010 dated 29.01.2010
URL:https://gercin.org/hearing-schedule/1146-2011-2/
CATEGORIES:Hearing Schedule
END:VEVENT
BEGIN:VEVENT
DTSTART;TZID=Asia/Kolkata:20111230T113000
DTEND;TZID=Asia/Kolkata:20111230T180000
DTSTAMP:20260420T170734
CREATED:20190826T132634Z
LAST-MODIFIED:20190826T132634Z
UID:6589-1325244600-1325268000@gercin.org
SUMMARY:1149/2011
DESCRIPTION:Petition for extension of control period of Solar Tariff order No. 2 of 2010 dated 29.01.2010
URL:https://gercin.org/hearing-schedule/1149-2011-3/
CATEGORIES:Hearing Schedule
END:VEVENT
BEGIN:VEVENT
DTSTART;TZID=Asia/Kolkata:20111230T113000
DTEND;TZID=Asia/Kolkata:20111230T180000
DTSTAMP:20260420T170734
CREATED:20190826T132634Z
LAST-MODIFIED:20190826T132634Z
UID:6590-1325244600-1325268000@gercin.org
SUMMARY:1153/2011
DESCRIPTION:Petition for extension of control period of Solar Tariff order No. 2 of 2010 dated 29.01.2010
URL:https://gercin.org/hearing-schedule/1153-2011-2/
CATEGORIES:Hearing Schedule
END:VEVENT
BEGIN:VEVENT
DTSTART;TZID=Asia/Kolkata:20111230T113000
DTEND;TZID=Asia/Kolkata:20111230T180000
DTSTAMP:20260420T170734
CREATED:20190826T132650Z
LAST-MODIFIED:20190826T132650Z
UID:6599-1325244600-1325268000@gercin.org
SUMMARY:1132/2011
DESCRIPTION:Petition for extension of control period of Solar Tariff order No. 2 of 2010 dated 29.01.2010
URL:https://gercin.org/hearing-schedule/1132-2011-3/
CATEGORIES:Hearing Schedule
END:VEVENT
BEGIN:VEVENT
DTSTART;TZID=Asia/Kolkata:20111230T113000
DTEND;TZID=Asia/Kolkata:20111230T180000
DTSTAMP:20260420T170734
CREATED:20190826T132650Z
LAST-MODIFIED:20190826T132650Z
UID:6600-1325244600-1325268000@gercin.org
SUMMARY:1133/2011
DESCRIPTION:Petition for extension of control period of Solar Tariff order No. 2 of 2010 dated 29.01.2010
URL:https://gercin.org/hearing-schedule/1133-2011-3/
CATEGORIES:Hearing Schedule
END:VEVENT
BEGIN:VEVENT
DTSTART;TZID=Asia/Kolkata:20111230T113000
DTEND;TZID=Asia/Kolkata:20111230T180000
DTSTAMP:20260420T170734
CREATED:20190826T133218Z
LAST-MODIFIED:20190826T133218Z
UID:7037-1325244600-1325268000@gercin.org
SUMMARY:1163/2011
DESCRIPTION:Petition for extension of control period of Solar Tariff order No. 2 of 2010 dated 29.01.2010
URL:https://gercin.org/hearing-schedule/1163-2011-2/
CATEGORIES:Hearing Schedule
END:VEVENT
BEGIN:VEVENT
DTSTART;TZID=Asia/Kolkata:20111230T113000
DTEND;TZID=Asia/Kolkata:20111230T180000
DTSTAMP:20260420T170734
CREATED:20190826T133218Z
LAST-MODIFIED:20190826T133218Z
UID:7038-1325244600-1325268000@gercin.org
SUMMARY:1164/2011
DESCRIPTION:Petition for extension of control period of Solar Tariff order No. 2 of 2010 dated 29.01.2010
URL:https://gercin.org/hearing-schedule/1164-2011-2/
CATEGORIES:Hearing Schedule
END:VEVENT
BEGIN:VEVENT
DTSTART;TZID=Asia/Kolkata:20111230T113000
DTEND;TZID=Asia/Kolkata:20111230T180000
DTSTAMP:20260420T170734
CREATED:20190826T133234Z
LAST-MODIFIED:20190826T133234Z
UID:7063-1325244600-1325268000@gercin.org
SUMMARY:1155/2011
DESCRIPTION:Petition for extension of control period of Solar Tariff order No. 2 of 2010 dated 29.01.2010
URL:https://gercin.org/hearing-schedule/1155-2011-3/
CATEGORIES:Hearing Schedule
END:VEVENT
BEGIN:VEVENT
DTSTART;TZID=Asia/Kolkata:20111230T113000
DTEND;TZID=Asia/Kolkata:20111230T180000
DTSTAMP:20260420T170734
CREATED:20190826T133234Z
LAST-MODIFIED:20190826T133234Z
UID:7064-1325244600-1325268000@gercin.org
SUMMARY:1159/2011
DESCRIPTION:Petition for extension of control period of Solar Tariff order No. 2 of 2010 dated 29.01.2010
URL:https://gercin.org/hearing-schedule/1159-2011-2/
CATEGORIES:Hearing Schedule
END:VEVENT
BEGIN:VEVENT
DTSTART;TZID=Asia/Kolkata:20111230T113000
DTEND;TZID=Asia/Kolkata:20111230T180000
DTSTAMP:20260420T170734
CREATED:20190826T133234Z
LAST-MODIFIED:20190826T133234Z
UID:7069-1325244600-1325268000@gercin.org
SUMMARY:1125/2011
DESCRIPTION:Petition seeking adjudication upon the dispute in the terms of the PPA dated 25.04.2010 for 25 MW solar power project.
URL:https://gercin.org/hearing-schedule/1125-2011-4/
CATEGORIES:Hearing Schedule
END:VEVENT
BEGIN:VEVENT
DTSTART;TZID=Asia/Kolkata:20111230T113000
DTEND;TZID=Asia/Kolkata:20111230T180000
DTSTAMP:20260420T170734
CREATED:20190826T133234Z
LAST-MODIFIED:20190826T133234Z
UID:7070-1325244600-1325268000@gercin.org
SUMMARY:1145/2011
DESCRIPTION:Petition for extension of control period of Solar Tariff order No. 2 of 2010 dated 29.01.2010
URL:https://gercin.org/hearing-schedule/1145-2011-2/
CATEGORIES:Hearing Schedule
END:VEVENT
BEGIN:VEVENT
DTSTART;TZID=Asia/Kolkata:20111230T113000
DTEND;TZID=Asia/Kolkata:20111230T180000
DTSTAMP:20260420T170734
CREATED:20190826T133234Z
LAST-MODIFIED:20190826T133234Z
UID:7071-1325244600-1325268000@gercin.org
SUMMARY:1147/2011
DESCRIPTION:Petition for extension of “Control Period” in relation to 15 MW Solar Photovoltaic project at village\, talukas khambhat\, Dist. Anand\, Gujarat of Acme Solar Technologies (Gujarat) Pvt. Ltd.
URL:https://gercin.org/hearing-schedule/1147-2011-3/
CATEGORIES:Hearing Schedule
END:VEVENT
BEGIN:VEVENT
DTSTART;TZID=Asia/Kolkata:20111230T113000
DTEND;TZID=Asia/Kolkata:20111230T180000
DTSTAMP:20260420T170734
CREATED:20190826T133234Z
LAST-MODIFIED:20190826T133234Z
UID:7072-1325244600-1325268000@gercin.org
SUMMARY:1148/2011
DESCRIPTION:Petition under Regulation 80 of GERC (Conduct of Business) Regulation 2004 read with section 86 of the Electricity Act\, 2003 for extension of “Control Period” as defined by the Commission through its Tariff Order dated 29th January\, 2010 passed in Petition No. 2 of 2010 and consequential amendment in PPA dated 1.12.2010.
URL:https://gercin.org/hearing-schedule/1148-2011-3/
CATEGORIES:Hearing Schedule
END:VEVENT
END:VCALENDAR