        BEGIN:VCALENDAR
VERSION:2.0
PRODID:-//Gujarat Electricity Regulatory Commission - ECPv5.3.0//NONSGML v1.0//EN
CALSCALE:GREGORIAN
METHOD:PUBLISH
X-WR-CALNAME:Gujarat Electricity Regulatory Commission
X-ORIGINAL-URL:https://gercin.org
X-WR-CALDESC:Events for Gujarat Electricity Regulatory Commission
BEGIN:VTIMEZONE
TZID:Asia/Kolkata
BEGIN:STANDARD
TZOFFSETFROM:+0530
TZOFFSETTO:+0530
TZNAME:IST
DTSTART:20110101T000000
END:STANDARD
END:VTIMEZONE
BEGIN:VEVENT
DTSTART;TZID=Asia/Kolkata:20111222T113000
DTEND;TZID=Asia/Kolkata:20111222T180000
DTSTAMP:20260420T221711
CREATED:20190826T131756Z
LAST-MODIFIED:20190826T131756Z
UID:5894-1324553400-1324576800@gercin.org
SUMMARY:1144/2011
DESCRIPTION:Petition for extension of control period of Solar Tariff order No. 2 of 2010 dated 29.01.2010
URL:https://gercin.org/hearing-schedule/1144-2011/
CATEGORIES:Hearing Schedule
END:VEVENT
BEGIN:VEVENT
DTSTART;TZID=Asia/Kolkata:20111222T113000
DTEND;TZID=Asia/Kolkata:20111222T180000
DTSTAMP:20260420T221711
CREATED:20190826T131812Z
LAST-MODIFIED:20190826T131812Z
UID:5895-1324553400-1324576800@gercin.org
SUMMARY:1126/2011
DESCRIPTION:Petition for extension of control period of Solar Tariff order No. 2 of 2010 dated 29.01.2010
URL:https://gercin.org/hearing-schedule/1126-2011/
CATEGORIES:Hearing Schedule
END:VEVENT
BEGIN:VEVENT
DTSTART;TZID=Asia/Kolkata:20111222T113000
DTEND;TZID=Asia/Kolkata:20111222T180000
DTSTAMP:20260420T221711
CREATED:20190826T131812Z
LAST-MODIFIED:20190826T131812Z
UID:5906-1324553400-1324576800@gercin.org
SUMMARY:1134/2011
DESCRIPTION:Petition for extension of control period of Solar Tariff order No. 2 of 2010 dated 29.01.2010
URL:https://gercin.org/hearing-schedule/1134-2011/
CATEGORIES:Hearing Schedule
END:VEVENT
BEGIN:VEVENT
DTSTART;TZID=Asia/Kolkata:20111222T113000
DTEND;TZID=Asia/Kolkata:20111222T180000
DTSTAMP:20260420T221711
CREATED:20190826T131826Z
LAST-MODIFIED:20190826T131826Z
UID:5932-1324553400-1324576800@gercin.org
SUMMARY:1155/2011
DESCRIPTION:Petition for extension of control period of Solar Tariff order No. 2 of 2010 dated 29.01.2010
URL:https://gercin.org/hearing-schedule/1155-2011/
CATEGORIES:Hearing Schedule
END:VEVENT
BEGIN:VEVENT
DTSTART;TZID=Asia/Kolkata:20111222T113000
DTEND;TZID=Asia/Kolkata:20111222T180000
DTSTAMP:20260420T221711
CREATED:20190826T132550Z
LAST-MODIFIED:20190826T132550Z
UID:6520-1324553400-1324576800@gercin.org
SUMMARY:1143/2011
DESCRIPTION:Petition for extension of control period of Solar Tariff order No. 2 of 2010 dated 29.01.2010
URL:https://gercin.org/hearing-schedule/1143-2011/
CATEGORIES:Hearing Schedule
END:VEVENT
BEGIN:VEVENT
DTSTART;TZID=Asia/Kolkata:20111222T113000
DTEND;TZID=Asia/Kolkata:20111222T180000
DTSTAMP:20260420T221711
CREATED:20190826T132604Z
LAST-MODIFIED:20190826T132604Z
UID:6553-1324553400-1324576800@gercin.org
SUMMARY:1127/2011
DESCRIPTION:Petition for extension of control period of Solar Tariff order No. 2 of 2010 dated 29.01.2010
URL:https://gercin.org/hearing-schedule/1127-2011-4/
CATEGORIES:Hearing Schedule
END:VEVENT
BEGIN:VEVENT
DTSTART;TZID=Asia/Kolkata:20111222T113000
DTEND;TZID=Asia/Kolkata:20111222T180000
DTSTAMP:20260420T221711
CREATED:20190826T132604Z
LAST-MODIFIED:20190826T132604Z
UID:6554-1324553400-1324576800@gercin.org
SUMMARY:1129/2011
DESCRIPTION:Petition for extension of control period of Solar Tariff order No. 2 of 2010 dated 29.01.2010
URL:https://gercin.org/hearing-schedule/1129-2011-3/
CATEGORIES:Hearing Schedule
END:VEVENT
BEGIN:VEVENT
DTSTART;TZID=Asia/Kolkata:20111222T113000
DTEND;TZID=Asia/Kolkata:20111222T180000
DTSTAMP:20260420T221711
CREATED:20190826T132619Z
LAST-MODIFIED:20190826T132619Z
UID:6555-1324553400-1324576800@gercin.org
SUMMARY:1132/2011
DESCRIPTION:Petition for extension of control period of Solar Tariff order No. 2 of 2010 dated 29.01.2010
URL:https://gercin.org/hearing-schedule/1132-2011-2/
CATEGORIES:Hearing Schedule
END:VEVENT
BEGIN:VEVENT
DTSTART;TZID=Asia/Kolkata:20111222T113000
DTEND;TZID=Asia/Kolkata:20111222T180000
DTSTAMP:20260420T221711
CREATED:20190826T132619Z
LAST-MODIFIED:20190826T132619Z
UID:6556-1324553400-1324576800@gercin.org
SUMMARY:1133/2011
DESCRIPTION:Petition for extension of control period of Solar Tariff order No. 2 of 2010 dated 29.01.2010
URL:https://gercin.org/hearing-schedule/1133-2011-2/
CATEGORIES:Hearing Schedule
END:VEVENT
BEGIN:VEVENT
DTSTART;TZID=Asia/Kolkata:20111222T113000
DTEND;TZID=Asia/Kolkata:20111222T180000
DTSTAMP:20260420T221711
CREATED:20190826T132634Z
LAST-MODIFIED:20190826T132634Z
UID:6577-1324553400-1324576800@gercin.org
SUMMARY:1135/2011
DESCRIPTION:Petition for extension of control period of Solar Tariff order No. 2 of 2010 dated 29.01.2010
URL:https://gercin.org/hearing-schedule/1135-2011-3/
CATEGORIES:Hearing Schedule
END:VEVENT
BEGIN:VEVENT
DTSTART;TZID=Asia/Kolkata:20111222T113000
DTEND;TZID=Asia/Kolkata:20111222T180000
DTSTAMP:20260420T221711
CREATED:20190826T132634Z
LAST-MODIFIED:20190826T132634Z
UID:6578-1324553400-1324576800@gercin.org
SUMMARY:1136/2011
DESCRIPTION:Petition for extension of control period of Solar Tariff order No. 2 of 2010 dated 29.01.2010
URL:https://gercin.org/hearing-schedule/1136-2011-3/
CATEGORIES:Hearing Schedule
END:VEVENT
BEGIN:VEVENT
DTSTART;TZID=Asia/Kolkata:20111222T113000
DTEND;TZID=Asia/Kolkata:20111222T180000
DTSTAMP:20260420T221711
CREATED:20190826T132634Z
LAST-MODIFIED:20190826T132634Z
UID:6579-1324553400-1324576800@gercin.org
SUMMARY:1128/2011
DESCRIPTION:Execution application for order dated 20.07.2010 in case No. 20/2009 of Ombudsman
URL:https://gercin.org/hearing-schedule/1128-2011/
CATEGORIES:Hearing Schedule
END:VEVENT
BEGIN:VEVENT
DTSTART;TZID=Asia/Kolkata:20111222T113000
DTEND;TZID=Asia/Kolkata:20111222T180000
DTSTAMP:20260420T221711
CREATED:20190826T133149Z
LAST-MODIFIED:20190826T133149Z
UID:7000-1324553400-1324576800@gercin.org
SUMMARY:1153/2011
DESCRIPTION:Petition for extension of control period of Solar Tariff order No. 2 of 2010 dated 29.01.2010
URL:https://gercin.org/hearing-schedule/1153-2011-3/
CATEGORIES:Hearing Schedule
END:VEVENT
BEGIN:VEVENT
DTSTART;TZID=Asia/Kolkata:20111222T113000
DTEND;TZID=Asia/Kolkata:20111222T180000
DTSTAMP:20260420T221711
CREATED:20190826T133149Z
LAST-MODIFIED:20190826T133149Z
UID:7001-1324553400-1324576800@gercin.org
SUMMARY:1154/2011
DESCRIPTION:Petition for extension of control period of Solar Tariff order No. 2 of 2010 dated 29.01.2010
URL:https://gercin.org/hearing-schedule/1154-2011-3/
CATEGORIES:Hearing Schedule
END:VEVENT
BEGIN:VEVENT
DTSTART;TZID=Asia/Kolkata:20111222T113000
DTEND;TZID=Asia/Kolkata:20111222T180000
DTSTAMP:20260420T221711
CREATED:20190826T133203Z
LAST-MODIFIED:20190826T133203Z
UID:7015-1324553400-1324576800@gercin.org
SUMMARY:1122/2011
DESCRIPTION:Petition for approval of capital cost for Dhuvaran combined cycle power plant  unit no. 2 in respect of the PPA between GSECL and GUVNL
URL:https://gercin.org/hearing-schedule/1122-2011-2/
CATEGORIES:Hearing Schedule
END:VEVENT
BEGIN:VEVENT
DTSTART;TZID=Asia/Kolkata:20111222T113000
DTEND;TZID=Asia/Kolkata:20111222T180000
DTSTAMP:20260420T221711
CREATED:20190826T133203Z
LAST-MODIFIED:20190826T133203Z
UID:7016-1324553400-1324576800@gercin.org
SUMMARY:1130/2011
DESCRIPTION:Petition for approval of capital cost for 75 MW KLPTS-4 in respect of the PPA between GSECL and GUVNL
URL:https://gercin.org/hearing-schedule/1130-2011-2/
CATEGORIES:Hearing Schedule
END:VEVENT
BEGIN:VEVENT
DTSTART;TZID=Asia/Kolkata:20111222T113000
DTEND;TZID=Asia/Kolkata:20111222T180000
DTSTAMP:20260420T221711
CREATED:20190826T133203Z
LAST-MODIFIED:20190826T133203Z
UID:7027-1324553400-1324576800@gercin.org
SUMMARY:1145/2011
DESCRIPTION:Petition for extension of control period of Solar Tariff order No. 2 of 2010 dated 29.01.2010
URL:https://gercin.org/hearing-schedule/1145-2011/
CATEGORIES:Hearing Schedule
END:VEVENT
BEGIN:VEVENT
DTSTART;TZID=Asia/Kolkata:20111222T113000
DTEND;TZID=Asia/Kolkata:20111222T180000
DTSTAMP:20260420T221711
CREATED:20190826T133203Z
LAST-MODIFIED:20190826T133203Z
UID:7028-1324553400-1324576800@gercin.org
SUMMARY:1146/2011
DESCRIPTION:Petition for extension of control period of Solar Tariff order No. 2 of 2010 dated 29.01.2010
URL:https://gercin.org/hearing-schedule/1146-2011-3/
CATEGORIES:Hearing Schedule
END:VEVENT
BEGIN:VEVENT
DTSTART;TZID=Asia/Kolkata:20111222T113000
DTEND;TZID=Asia/Kolkata:20111222T180000
DTSTAMP:20260420T221711
CREATED:20190826T133203Z
LAST-MODIFIED:20190826T133203Z
UID:7030-1324553400-1324576800@gercin.org
SUMMARY:1125/2011
DESCRIPTION:Petition for extension of control period of Solar Tariff order No. 2 of 2010 dated 29.01.2010
URL:https://gercin.org/hearing-schedule/1125-2011-2/
CATEGORIES:Hearing Schedule
END:VEVENT
BEGIN:VEVENT
DTSTART;TZID=Asia/Kolkata:20111222T113000
DTEND;TZID=Asia/Kolkata:20111222T180000
DTSTAMP:20260420T221711
CREATED:20190826T133218Z
LAST-MODIFIED:20190826T133218Z
UID:7049-1324553400-1324576800@gercin.org
SUMMARY:1137/2011
DESCRIPTION:In the matter of clarifications/rectifications  of the order passed by the Commission in case no. 1092/2011
URL:https://gercin.org/hearing-schedule/1137-2011/
CATEGORIES:Hearing Schedule
END:VEVENT
BEGIN:VEVENT
DTSTART;TZID=Asia/Kolkata:20111222T113000
DTEND;TZID=Asia/Kolkata:20111222T180000
DTSTAMP:20260420T221711
CREATED:20190826T133218Z
LAST-MODIFIED:20190826T133218Z
UID:7050-1324553400-1324576800@gercin.org
SUMMARY:1138/2011
DESCRIPTION:In the matter of levy of the POC for the CPP running in parallel of GETCO’s and DISCOMs grid
URL:https://gercin.org/hearing-schedule/1138-2011-2/
CATEGORIES:Hearing Schedule
END:VEVENT
BEGIN:VEVENT
DTSTART;TZID=Asia/Kolkata:20111222T113000
DTEND;TZID=Asia/Kolkata:20111222T180000
DTSTAMP:20260420T221711
CREATED:20190826T133234Z
LAST-MODIFIED:20190826T133234Z
UID:7054-1324553400-1324576800@gercin.org
SUMMARY:1142/2011
DESCRIPTION:Petition for approval of terms and conditions of RFP\, and Govt. of Gujarat Rooftop Green Incentive and Lease Agreement with respect to rooftop Solar Power Project
URL:https://gercin.org/hearing-schedule/1142-2011-2/
CATEGORIES:Hearing Schedule
END:VEVENT
BEGIN:VEVENT
DTSTART;TZID=Asia/Kolkata:20111222T113000
DTEND;TZID=Asia/Kolkata:20111222T180000
DTSTAMP:20260420T221711
CREATED:20190826T133234Z
LAST-MODIFIED:20190826T133234Z
UID:7062-1324553400-1324576800@gercin.org
SUMMARY:1147/2011
DESCRIPTION:Your petition dated 13.12.2011 in the matter of petition for extension of “Control Period” in relation to 15 MW Solar Photovoltaic project at village\, talukas khambhat\, Dist. Anand\, Gujarat of Acme Solar Technologies (Gujarat) Pvt. Ltd.
URL:https://gercin.org/hearing-schedule/1147-2011-2/
CATEGORIES:Hearing Schedule
END:VEVENT
BEGIN:VEVENT
DTSTART;TZID=Asia/Kolkata:20111222T113000
DTEND;TZID=Asia/Kolkata:20111222T180000
DTSTAMP:20260420T221711
CREATED:20190826T133234Z
LAST-MODIFIED:20190826T133234Z
UID:7065-1324553400-1324576800@gercin.org
SUMMARY:1148/2011
DESCRIPTION:petition under Regulation 80 of GERC (Conduct of Business) Regulation 2004 read with section 86 of the Electricity Act\, 2003 for extension of “Control Period” as defined by the Commission through its Tariff Order dated 29th January\, 2010 passed in Petition No. 2 of 2010 and consequential amendment in PPA dated 1.12.2010.
URL:https://gercin.org/hearing-schedule/1148-2011-2/
CATEGORIES:Hearing Schedule
END:VEVENT
BEGIN:VEVENT
DTSTART;TZID=Asia/Kolkata:20111222T113000
DTEND;TZID=Asia/Kolkata:20111222T180000
DTSTAMP:20260420T221711
CREATED:20190826T133234Z
LAST-MODIFIED:20190826T133234Z
UID:7066-1324553400-1324576800@gercin.org
SUMMARY:1149/2011
DESCRIPTION:Petition under Regulation 80 of GERC (Conduct of Business) Regulation 2004 read with section 86 of the Electricity Act\, 2003 for extension of “Control Period” as defined by the Commission through its Tariff Order dated 29th January\, 2010 passed in Petition No. 2 of 2011.
URL:https://gercin.org/hearing-schedule/1149-2011-4/
CATEGORIES:Hearing Schedule
END:VEVENT
END:VCALENDAR