        BEGIN:VCALENDAR
VERSION:2.0
PRODID:-//Gujarat Electricity Regulatory Commission - ECPv5.3.0//NONSGML v1.0//EN
CALSCALE:GREGORIAN
METHOD:PUBLISH
X-WR-CALNAME:Gujarat Electricity Regulatory Commission
X-ORIGINAL-URL:https://gercin.org
X-WR-CALDESC:Events for Gujarat Electricity Regulatory Commission
BEGIN:VTIMEZONE
TZID:Asia/Kolkata
BEGIN:STANDARD
TZOFFSETFROM:+0530
TZOFFSETTO:+0530
TZNAME:IST
DTSTART:20110101T000000
END:STANDARD
END:VTIMEZONE
BEGIN:VEVENT
DTSTART;TZID=Asia/Kolkata:20111207T113000
DTEND;TZID=Asia/Kolkata:20111207T180000
DTSTAMP:20260420T210330
CREATED:20190826T133133Z
LAST-MODIFIED:20190826T133133Z
UID:6988-1323257400-1323280800@gercin.org
SUMMARY:1128/2011
DESCRIPTION:Execution application for order dated 20.07.2010 in case No. 20/2009 of Ombudsman
URL:https://gercin.org/hearing-schedule/1128-2011-2/
CATEGORIES:Hearing Schedule
END:VEVENT
BEGIN:VEVENT
DTSTART;TZID=Asia/Kolkata:20111207T113000
DTEND;TZID=Asia/Kolkata:20111207T180000
DTSTAMP:20260420T210330
CREATED:20190826T133133Z
LAST-MODIFIED:20190826T133133Z
UID:6989-1323257400-1323280800@gercin.org
SUMMARY:1141/2011
DESCRIPTION:Levy of POC for the captive power plants running in parallel of GETCO and Dist. Companies Grid
URL:https://gercin.org/hearing-schedule/1141-2011-3/
CATEGORIES:Hearing Schedule
END:VEVENT
BEGIN:VEVENT
DTSTART;TZID=Asia/Kolkata:20111207T113000
DTEND;TZID=Asia/Kolkata:20111207T180000
DTSTAMP:20260420T210330
CREATED:20190826T133203Z
LAST-MODIFIED:20190826T133203Z
UID:7025-1323257400-1323280800@gercin.org
SUMMARY:1131/2011
DESCRIPTION:Dispute regarding levy of wheeling charges and wheeling losses against the provision of order No. 1 of 2010 dated 3rd Jan\, 2010
URL:https://gercin.org/hearing-schedule/1131-2011/
CATEGORIES:Hearing Schedule
END:VEVENT
BEGIN:VEVENT
DTSTART;TZID=Asia/Kolkata:20111207T113000
DTEND;TZID=Asia/Kolkata:20111207T180000
DTSTAMP:20260420T210330
CREATED:20190826T133203Z
LAST-MODIFIED:20190826T133203Z
UID:7031-1323257400-1323280800@gercin.org
SUMMARY:1113/2011
DESCRIPTION:Re-determination of fuel cost\, fixation of tariff and non applicability of intra-state availability based tariff to the Biomass based 10 MW power plant at Amreli under section 62 read with Section 86(1)(a) of the Electricity Act\, 2003
URL:https://gercin.org/hearing-schedule/1113-2011-6/
CATEGORIES:Hearing Schedule
END:VEVENT
BEGIN:VEVENT
DTSTART;TZID=Asia/Kolkata:20111207T113000
DTEND;TZID=Asia/Kolkata:20111207T180000
DTSTAMP:20260420T210330
CREATED:20190826T133203Z
LAST-MODIFIED:20190826T133203Z
UID:7032-1323257400-1323280800@gercin.org
SUMMARY:1114/2011
DESCRIPTION:Re-determination of fuel cost\, fixation of tariff and non applicability of intra-state availability based tariff to the Biomass based 10 MW power plant at Jungadh under section 62 read with Section 81(1)(a) of the Electricity Act\, 2003
URL:https://gercin.org/hearing-schedule/1114-2011-6/
CATEGORIES:Hearing Schedule
END:VEVENT
BEGIN:VEVENT
DTSTART;TZID=Asia/Kolkata:20111207T113000
DTEND;TZID=Asia/Kolkata:20111207T180000
DTSTAMP:20260420T210330
CREATED:20190826T133203Z
LAST-MODIFIED:20190826T133203Z
UID:7033-1323257400-1323280800@gercin.org
SUMMARY:1139/2011
DESCRIPTION:Petition for seeking approval for deviations in standard bidding document issued by MoP\, GoI for the medium term power procurement for the quantum of 30-170 ( ±  20) MW for supply period of FY 2012-13 to 2015-16.
URL:https://gercin.org/hearing-schedule/1139-2011/
CATEGORIES:Hearing Schedule
END:VEVENT
BEGIN:VEVENT
DTSTART;TZID=Asia/Kolkata:20111207T113000
DTEND;TZID=Asia/Kolkata:20111207T180000
DTSTAMP:20260420T210330
CREATED:20190826T133218Z
LAST-MODIFIED:20190826T133218Z
UID:7034-1323257400-1323280800@gercin.org
SUMMARY:1142/2011
DESCRIPTION:Petition for approval of terms and conditions of RFP\, and Govt. of Gujarat Rooftop Green Incentive and Lease Agreement with respect to rooftop Solar Power Project
URL:https://gercin.org/hearing-schedule/1142-2011/
CATEGORIES:Hearing Schedule
END:VEVENT
BEGIN:VEVENT
DTSTART;TZID=Asia/Kolkata:20111207T113000
DTEND;TZID=Asia/Kolkata:20111207T180000
DTSTAMP:20260420T210330
CREATED:20190826T133218Z
LAST-MODIFIED:20190826T133218Z
UID:7035-1323257400-1323280800@gercin.org
SUMMARY:1140/2011
DESCRIPTION:Application in order of petition no. 256/2003 and 867 of 2006 of GERC order dated 1/06/2011.
URL:https://gercin.org/hearing-schedule/1140-2011-2/
CATEGORIES:Hearing Schedule
END:VEVENT
END:VCALENDAR