        BEGIN:VCALENDAR
VERSION:2.0
PRODID:-//Gujarat Electricity Regulatory Commission - ECPv5.3.0//NONSGML v1.0//EN
CALSCALE:GREGORIAN
METHOD:PUBLISH
X-WR-CALNAME:Gujarat Electricity Regulatory Commission
X-ORIGINAL-URL:https://gercin.org
X-WR-CALDESC:Events for Gujarat Electricity Regulatory Commission
BEGIN:VTIMEZONE
TZID:Asia/Kolkata
BEGIN:STANDARD
TZOFFSETFROM:+0530
TZOFFSETTO:+0530
TZNAME:IST
DTSTART:20110101T000000
END:STANDARD
END:VTIMEZONE
BEGIN:VEVENT
DTSTART;TZID=Asia/Kolkata:20111118T113000
DTEND;TZID=Asia/Kolkata:20111118T180000
DTSTAMP:20260420T133657
CREATED:20190826T131756Z
LAST-MODIFIED:20190826T131756Z
UID:5893-1321615800-1321639200@gercin.org
SUMMARY:1127/2011
DESCRIPTION:Petition for extension of control period of Solar Tariff order No. 2 of 2010 dated 29.01.2010
URL:https://gercin.org/hearing-schedule/1127-2011/
CATEGORIES:Hearing Schedule
END:VEVENT
BEGIN:VEVENT
DTSTART;TZID=Asia/Kolkata:20111118T113000
DTEND;TZID=Asia/Kolkata:20111118T180000
DTSTAMP:20260420T133657
CREATED:20190826T133149Z
LAST-MODIFIED:20190826T133149Z
UID:7007-1321615800-1321639200@gercin.org
SUMMARY:1122/2011
DESCRIPTION:Petition for approval of capital cost for Dhuvaran combined cycle power plant  unit no. 2 in respect of the PPA between GSECL and GUVNL
URL:https://gercin.org/hearing-schedule/1122-2011/
CATEGORIES:Hearing Schedule
END:VEVENT
BEGIN:VEVENT
DTSTART;TZID=Asia/Kolkata:20111118T113000
DTEND;TZID=Asia/Kolkata:20111118T180000
DTSTAMP:20260420T133657
CREATED:20190826T133149Z
LAST-MODIFIED:20190826T133149Z
UID:7008-1321615800-1321639200@gercin.org
SUMMARY:1126/2011
DESCRIPTION:Petition for extension of control period of Solar Tariff order No. 2 of 2010 dated 29.01.2010
URL:https://gercin.org/hearing-schedule/1126-2011-4/
CATEGORIES:Hearing Schedule
END:VEVENT
BEGIN:VEVENT
DTSTART;TZID=Asia/Kolkata:20111118T113000
DTEND;TZID=Asia/Kolkata:20111118T180000
DTSTAMP:20260420T133657
CREATED:20190826T133203Z
LAST-MODIFIED:20190826T133203Z
UID:7021-1321615800-1321639200@gercin.org
SUMMARY:1124/2011
DESCRIPTION:Determination of electricity tariff for the electricity power to be generated by the co-generation unit of Shri Renuka Sugars Ltd. being setup at Bharapar\, Gandhidham\, kutch in the state of Gujarat
URL:https://gercin.org/hearing-schedule/1124-2011/
CATEGORIES:Hearing Schedule
END:VEVENT
BEGIN:VEVENT
DTSTART;TZID=Asia/Kolkata:20111118T113000
DTEND;TZID=Asia/Kolkata:20111118T180000
DTSTAMP:20260420T133657
CREATED:20190826T133203Z
LAST-MODIFIED:20190826T133203Z
UID:7022-1321615800-1321639200@gercin.org
SUMMARY:1125/2011
DESCRIPTION:Petition seeking adjudication upon the dispute in the terms of the PPA dated 25.04.2010 for 25 MW solar power project.
URL:https://gercin.org/hearing-schedule/1125-2011/
CATEGORIES:Hearing Schedule
END:VEVENT
END:VCALENDAR