        BEGIN:VCALENDAR
VERSION:2.0
PRODID:-//Gujarat Electricity Regulatory Commission - ECPv5.3.0//NONSGML v1.0//EN
CALSCALE:GREGORIAN
METHOD:PUBLISH
X-WR-CALNAME:Gujarat Electricity Regulatory Commission
X-ORIGINAL-URL:https://gercin.org
X-WR-CALDESC:Events for Gujarat Electricity Regulatory Commission
BEGIN:VTIMEZONE
TZID:Asia/Kolkata
BEGIN:STANDARD
TZOFFSETFROM:+0530
TZOFFSETTO:+0530
TZNAME:IST
DTSTART:20110101T000000
END:STANDARD
END:VTIMEZONE
BEGIN:VEVENT
DTSTART;TZID=Asia/Kolkata:20110920T113000
DTEND;TZID=Asia/Kolkata:20110920T180000
DTSTAMP:20260420T210459
CREATED:20190826T133133Z
LAST-MODIFIED:20190826T133133Z
UID:6991-1316518200-1316541600@gercin.org
SUMMARY:1089/2011
DESCRIPTION:Approval for long term arrangements to meet the shortfall in power supplies to cater to the demand of A’bad & Surat license areas in accordance with the applicable provisions of the EA\, 2003.
URL:https://gercin.org/hearing-schedule/1089-2011/
CATEGORIES:Hearing Schedule
END:VEVENT
BEGIN:VEVENT
DTSTART;TZID=Asia/Kolkata:20110920T113000
DTEND;TZID=Asia/Kolkata:20110920T180000
DTSTAMP:20260420T210459
CREATED:20190826T133133Z
LAST-MODIFIED:20190826T133133Z
UID:6992-1316518200-1316541600@gercin.org
SUMMARY:1097/2011
DESCRIPTION:Application for direction for compliance of the order dated 18.12.2010 in the petition 1048.2010 in the matter of revision of accounting treatment of UI charges for the period 30.3.2009 to 21.12.2009 denial of credit of UI charge given to petitioner with respective effect\, recovery of the same by clause 16(j) of the order 3 of 2006 & refund of the said amount\, passed against the respondent.
URL:https://gercin.org/hearing-schedule/1097-2011-5/
CATEGORIES:Hearing Schedule
END:VEVENT
BEGIN:VEVENT
DTSTART;TZID=Asia/Kolkata:20110920T113000
DTEND;TZID=Asia/Kolkata:20110920T180000
DTSTAMP:20260420T210459
CREATED:20190826T133133Z
LAST-MODIFIED:20190826T133133Z
UID:6993-1316518200-1316541600@gercin.org
SUMMARY:1107/2011
DESCRIPTION:Review petition in the order dated 9/12/2009 in petition no. 966 of 2009 filed by TPL under section 62 of EA\, 2003 readwith GERC (Terms & Conditions of Tariff Regulations) 2005 and MYT regulations 2007 for APR for FY 2008-09 and ARR for 2009-10 for their generation and distribution business under MYT control period 2008-09 to 2010-11.
URL:https://gercin.org/hearing-schedule/1107-2011-4/
CATEGORIES:Hearing Schedule
END:VEVENT
BEGIN:VEVENT
DTSTART;TZID=Asia/Kolkata:20110920T113000
DTEND;TZID=Asia/Kolkata:20110920T180000
DTSTAMP:20260420T210459
CREATED:20190826T133149Z
LAST-MODIFIED:20190826T133149Z
UID:6994-1316518200-1316541600@gercin.org
SUMMARY:1113/2011
DESCRIPTION:Re-determination of fuel cost\, fixation of tariff and non applicability of intra-state availability based tariff to the Biomass based 10 MW power plant at Amreli under section 62 read with Section 86(1)(a) of the Electricity Act\, 2003.
URL:https://gercin.org/hearing-schedule/1113-2011-5/
CATEGORIES:Hearing Schedule
END:VEVENT
BEGIN:VEVENT
DTSTART;TZID=Asia/Kolkata:20110920T113000
DTEND;TZID=Asia/Kolkata:20110920T180000
DTSTAMP:20260420T210459
CREATED:20190826T133149Z
LAST-MODIFIED:20190826T133149Z
UID:6995-1316518200-1316541600@gercin.org
SUMMARY:1114/2011
DESCRIPTION:Re-determination of fuel cost\, fixation of tariff and non applicability of intra-state availability based tariff to the Biomass based 10 MW power plant at Jungadh under section 62 read with Section 81(1)(a) of the Electricity Act\, 2003
URL:https://gercin.org/hearing-schedule/1114-2011-5/
CATEGORIES:Hearing Schedule
END:VEVENT
BEGIN:VEVENT
DTSTART;TZID=Asia/Kolkata:20110920T113000
DTEND;TZID=Asia/Kolkata:20110920T180000
DTSTAMP:20260420T210459
CREATED:20190826T133149Z
LAST-MODIFIED:20190826T133149Z
UID:6996-1316518200-1316541600@gercin.org
SUMMARY:1115/2011
DESCRIPTION:In the matter of filing of petition under electricity supply code and its clause 8.9\, 8.10\, 8.11 for clarification for assessment under clause 7.1.1 (iv) read with fees and fines regulations\, 2005.
URL:https://gercin.org/hearing-schedule/1115-2011/
CATEGORIES:Hearing Schedule
END:VEVENT
BEGIN:VEVENT
DTSTART;TZID=Asia/Kolkata:20110920T113000
DTEND;TZID=Asia/Kolkata:20110920T180000
DTSTAMP:20260420T210459
CREATED:20190826T133149Z
LAST-MODIFIED:20190826T133149Z
UID:6997-1316518200-1316541600@gercin.org
SUMMARY:1118/2011
DESCRIPTION:Petition under section 86(1)(a)\,(c)\,(e) and (f) of the Electricity Act\, 2003 for adjudication of the dispute between the licensee (GETCO) and the generating company (British Super Alloys Pvt. Ltd.) and for the decision that the petitioner is entitled for wheeling agreement with the respondent (GETCO) at the rate of 4% as the W.T.G was commissioned during control period of Order No. 2 of 2006 dated 11.08.2006 of GERC and for issuing further direction to GETCO to revise the Agreement dated 31.03.2011\, by reducing the rate of wheeling charges from 7% to 4% and also to direct GETCO not to charge transmission charges as per amended policy.
URL:https://gercin.org/hearing-schedule/1118-2011/
CATEGORIES:Hearing Schedule
END:VEVENT
BEGIN:VEVENT
DTSTART;TZID=Asia/Kolkata:20110920T113000
DTEND;TZID=Asia/Kolkata:20110920T180000
DTSTAMP:20260420T210459
CREATED:20190826T133149Z
LAST-MODIFIED:20190826T133149Z
UID:6998-1316518200-1316541600@gercin.org
SUMMARY:1121/2011
DESCRIPTION:Review of para 10 of the order dated 13.05.2011 and in the matter of illegal deduction of 15% effected by the respondents out of tariff determined by the Commission in respect of purchase of surplus power in respect of WTG of the petitioner.
URL:https://gercin.org/hearing-schedule/1121-2011/
CATEGORIES:Hearing Schedule
END:VEVENT
END:VCALENDAR