        BEGIN:VCALENDAR
VERSION:2.0
PRODID:-//Gujarat Electricity Regulatory Commission - ECPv5.3.0//NONSGML v1.0//EN
CALSCALE:GREGORIAN
METHOD:PUBLISH
X-WR-CALNAME:Gujarat Electricity Regulatory Commission
X-ORIGINAL-URL:https://gercin.org
X-WR-CALDESC:Events for Gujarat Electricity Regulatory Commission
BEGIN:VTIMEZONE
TZID:Asia/Kolkata
BEGIN:STANDARD
TZOFFSETFROM:+0530
TZOFFSETTO:+0530
TZNAME:IST
DTSTART:20110101T000000
END:STANDARD
END:VTIMEZONE
BEGIN:VEVENT
DTSTART;TZID=Asia/Kolkata:20110917T113000
DTEND;TZID=Asia/Kolkata:20110917T180000
DTSTAMP:20260420T170734
CREATED:20190826T133119Z
LAST-MODIFIED:20190826T133119Z
UID:6958-1316259000-1316282400@gercin.org
SUMMARY:916/2007
DESCRIPTION:Changing of tariff Classification from HTP-1 to HTP-II(A)
URL:https://gercin.org/hearing-schedule/916-2007-6/
CATEGORIES:Hearing Schedule
END:VEVENT
BEGIN:VEVENT
DTSTART;TZID=Asia/Kolkata:20110917T113000
DTEND;TZID=Asia/Kolkata:20110917T180000
DTSTAMP:20260420T170734
CREATED:20190826T133133Z
LAST-MODIFIED:20190826T133133Z
UID:6974-1316259000-1316282400@gercin.org
SUMMARY:972/2009
DESCRIPTION:Dispute regarding implementation & interpretation of PPA.
URL:https://gercin.org/hearing-schedule/972-2009-2/
CATEGORIES:Hearing Schedule
END:VEVENT
BEGIN:VEVENT
DTSTART;TZID=Asia/Kolkata:20110917T113000
DTEND;TZID=Asia/Kolkata:20110917T180000
DTSTAMP:20260420T170734
CREATED:20190826T133133Z
LAST-MODIFIED:20190826T133133Z
UID:6975-1316259000-1316282400@gercin.org
SUMMARY:1002/2010
DESCRIPTION:Disputes with monetary claims of the PPA dated 30th May\, 1996.
URL:https://gercin.org/hearing-schedule/1002-2010-13/
CATEGORIES:Hearing Schedule
END:VEVENT
BEGIN:VEVENT
DTSTART;TZID=Asia/Kolkata:20110917T113000
DTEND;TZID=Asia/Kolkata:20110917T180000
DTSTAMP:20260420T170734
CREATED:20190826T133133Z
LAST-MODIFIED:20190826T133133Z
UID:6976-1316259000-1316282400@gercin.org
SUMMARY:1053/2011
DESCRIPTION:Claims of the petitioners under the PPA dated 3.02.1994 between the parties.
URL:https://gercin.org/hearing-schedule/1053-2011-2/
CATEGORIES:Hearing Schedule
END:VEVENT
END:VCALENDAR