        BEGIN:VCALENDAR
VERSION:2.0
PRODID:-//Gujarat Electricity Regulatory Commission - ECPv5.3.0//NONSGML v1.0//EN
CALSCALE:GREGORIAN
METHOD:PUBLISH
X-WR-CALNAME:Gujarat Electricity Regulatory Commission
X-ORIGINAL-URL:https://gercin.org
X-WR-CALDESC:Events for Gujarat Electricity Regulatory Commission
BEGIN:VTIMEZONE
TZID:Asia/Kolkata
BEGIN:STANDARD
TZOFFSETFROM:+0530
TZOFFSETTO:+0530
TZNAME:IST
DTSTART:20110101T000000
END:STANDARD
END:VTIMEZONE
BEGIN:VEVENT
DTSTART;TZID=Asia/Kolkata:20110913T113000
DTEND;TZID=Asia/Kolkata:20110913T180000
DTSTAMP:20260420T195515
CREATED:20190826T133119Z
LAST-MODIFIED:20190826T133119Z
UID:6955-1315913400-1315936800@gercin.org
SUMMARY:1080/2011
DESCRIPTION:Application under Article 13 of the purchase agreement dated 06.02.2007 entered between GUVNL for the adjustment of tariff.
URL:https://gercin.org/hearing-schedule/1080-2011-4/
CATEGORIES:Hearing Schedule
END:VEVENT
BEGIN:VEVENT
DTSTART;TZID=Asia/Kolkata:20110913T113000
DTEND;TZID=Asia/Kolkata:20110913T180000
DTSTAMP:20260420T195515
CREATED:20190826T133119Z
LAST-MODIFIED:20190826T133119Z
UID:6956-1315913400-1315936800@gercin.org
SUMMARY:Suo-Motu 1119/2011
DESCRIPTION:Petition for the approval of Tariff and MYT petition for FY 2011 to FY 2015-16 with forward business plan
URL:https://gercin.org/hearing-schedule/suo-motu-1119-2011/
CATEGORIES:Hearing Schedule
END:VEVENT
BEGIN:VEVENT
DTSTART;TZID=Asia/Kolkata:20110913T113000
DTEND;TZID=Asia/Kolkata:20110913T180000
DTSTAMP:20260420T195515
CREATED:20190826T133119Z
LAST-MODIFIED:20190826T133119Z
UID:6957-1315913400-1315936800@gercin.org
SUMMARY:Suo-Motu 1120/2011
DESCRIPTION:Filling of MYT Petition for Distribution Licence area of SEZ at Vadodara
URL:https://gercin.org/hearing-schedule/suo-motu-1120-2011/
CATEGORIES:Hearing Schedule
END:VEVENT
BEGIN:VEVENT
DTSTART;TZID=Asia/Kolkata:20110913T113000
DTEND;TZID=Asia/Kolkata:20110913T180000
DTSTAMP:20260420T195515
CREATED:20190826T133133Z
LAST-MODIFIED:20190826T133133Z
UID:6987-1315913400-1315936800@gercin.org
SUMMARY:1106/2011
DESCRIPTION:Approval of procurement of power from GUVNL for 10 MW for the period 1st April to 31st March 2013 to cater the demand of the consumers of Dahej license area under sec 86(1) (b) of the EA\, 2003.
URL:https://gercin.org/hearing-schedule/1106-2011-3/
CATEGORIES:Hearing Schedule
END:VEVENT
END:VCALENDAR