        BEGIN:VCALENDAR
VERSION:2.0
PRODID:-//Gujarat Electricity Regulatory Commission - ECPv5.3.0//NONSGML v1.0//EN
CALSCALE:GREGORIAN
METHOD:PUBLISH
X-WR-CALNAME:Gujarat Electricity Regulatory Commission
X-ORIGINAL-URL:https://gercin.org
X-WR-CALDESC:Events for Gujarat Electricity Regulatory Commission
BEGIN:VTIMEZONE
TZID:Asia/Kolkata
BEGIN:STANDARD
TZOFFSETFROM:+0530
TZOFFSETTO:+0530
TZNAME:IST
DTSTART:20110101T000000
END:STANDARD
END:VTIMEZONE
BEGIN:VEVENT
DTSTART;TZID=Asia/Kolkata:20110806T113000
DTEND;TZID=Asia/Kolkata:20110806T180000
DTSTAMP:20260421T213444
CREATED:20190826T133133Z
LAST-MODIFIED:20190826T133133Z
UID:6978-1312630200-1312653600@gercin.org
SUMMARY:1111/2011
DESCRIPTION:Application for the grant of additional load on 22 KV supply by differentiating the maximum contract demand limitation between 11 KV and 22 KV.
URL:https://gercin.org/hearing-schedule/1111-2011/
CATEGORIES:Hearing Schedule
END:VEVENT
BEGIN:VEVENT
DTSTART;TZID=Asia/Kolkata:20110806T113000
DTEND;TZID=Asia/Kolkata:20110806T180000
DTSTAMP:20260421T213444
CREATED:20190826T133133Z
LAST-MODIFIED:20190826T133133Z
UID:6983-1312630200-1312653600@gercin.org
SUMMARY:1110/2011
DESCRIPTION:Review petition against the order of the Commission dated 23.12.2010 in Misc. Application No. 14 of 2010.
URL:https://gercin.org/hearing-schedule/1110-2011/
CATEGORIES:Hearing Schedule
END:VEVENT
BEGIN:VEVENT
DTSTART;TZID=Asia/Kolkata:20110806T153000
DTEND;TZID=Asia/Kolkata:20110806T220000
DTSTAMP:20260421T213444
CREATED:20190826T133133Z
LAST-MODIFIED:20190826T133133Z
UID:6982-1312644600-1312668000@gercin.org
SUMMARY:1107/2011
DESCRIPTION:Review petition in the order dated 9/12/2009 in petition no. 966 of 2009 filed by TPL under section 62 of EA\, 2003 readwith GERC (Terms & Conditions of Tariff Regulations) 2005 and MYT regulations 2007 for APR for FY 2008-09 and ARR for 2009-10 for their generation and distribution business under MYT control period 2008-09 to 2010-11.
URL:https://gercin.org/hearing-schedule/1107-2011-3/
CATEGORIES:Hearing Schedule
END:VEVENT
END:VCALENDAR