        BEGIN:VCALENDAR
VERSION:2.0
PRODID:-//Gujarat Electricity Regulatory Commission - ECPv5.3.0//NONSGML v1.0//EN
CALSCALE:GREGORIAN
METHOD:PUBLISH
X-WR-CALNAME:Gujarat Electricity Regulatory Commission
X-ORIGINAL-URL:https://gercin.org
X-WR-CALDESC:Events for Gujarat Electricity Regulatory Commission
BEGIN:VTIMEZONE
TZID:Asia/Kolkata
BEGIN:STANDARD
TZOFFSETFROM:+0530
TZOFFSETTO:+0530
TZNAME:IST
DTSTART:20110101T000000
END:STANDARD
END:VTIMEZONE
BEGIN:VEVENT
DTSTART;TZID=Asia/Kolkata:20110702T113000
DTEND;TZID=Asia/Kolkata:20110702T180000
DTSTAMP:20260420T232157
CREATED:20190826T133119Z
LAST-MODIFIED:20190826T133119Z
UID:6959-1309606200-1309629600@gercin.org
SUMMARY:1090/2011
DESCRIPTION:Approval for procurement of power to cater the demand of the Consumer of A’bad\, G’nagar & Surat license area under section 86(1)(b) pursuant to bidding process carried out under section 63 of EA\, 2003.
URL:https://gercin.org/hearing-schedule/1090-2011-2/
CATEGORIES:Hearing Schedule
END:VEVENT
BEGIN:VEVENT
DTSTART;TZID=Asia/Kolkata:20110702T113000
DTEND;TZID=Asia/Kolkata:20110702T180000
DTSTAMP:20260420T232157
CREATED:20190826T133119Z
LAST-MODIFIED:20190826T133119Z
UID:6960-1309606200-1309629600@gercin.org
SUMMARY:1093/2011
DESCRIPTION:Petition seeking adjudication upon the dispute in terms of the Power Purchase Agreement dated 02.02.2007 under Bid No.02/LTPP/2006 with Gujarat Urja Vikas Nigam Limited regarding Adani Power Limited’s right to sell to third party prior to Scheduled Commercial Operation Date versus GUVNL’s exclusive claim over supply of the contracted capacity prior to the Scheduled Commercial Operation Date.
URL:https://gercin.org/hearing-schedule/1093-2011-3/
CATEGORIES:Hearing Schedule
END:VEVENT
BEGIN:VEVENT
DTSTART;TZID=Asia/Kolkata:20110702T113000
DTEND;TZID=Asia/Kolkata:20110702T180000
DTSTAMP:20260420T232157
CREATED:20190826T133119Z
LAST-MODIFIED:20190826T133119Z
UID:6961-1309606200-1309629600@gercin.org
SUMMARY:1097/2011
DESCRIPTION:Application for direction for compliance of the order dated 18.12.2010 in the petition 1048.2010 in the matter of revision of accounting treatment of UI charges for the period 30.3.2009 to 21.12.2009 denial of credit of UI charge given to petitioner with respective effect\, recovery of the same by clause 16(j) of the order 3 of 2006 & refund of the said amount\, passed against the respondent.
URL:https://gercin.org/hearing-schedule/1097-2011-3/
CATEGORIES:Hearing Schedule
END:VEVENT
BEGIN:VEVENT
DTSTART;TZID=Asia/Kolkata:20110702T153000
DTEND;TZID=Asia/Kolkata:20110702T220000
DTSTAMP:20260420T232157
CREATED:20190826T131756Z
LAST-MODIFIED:20190826T131756Z
UID:5878-1309620600-1309644000@gercin.org
SUMMARY:927/2007
DESCRIPTION:Change of tariff from HTP-I To HTP-II(A)
URL:https://gercin.org/hearing-schedule/927-2007-3/
CATEGORIES:Hearing Schedule
END:VEVENT
BEGIN:VEVENT
DTSTART;TZID=Asia/Kolkata:20110702T153000
DTEND;TZID=Asia/Kolkata:20110702T220000
DTSTAMP:20260420T232157
CREATED:20190826T132705Z
LAST-MODIFIED:20190826T132705Z
UID:6630-1309620600-1309644000@gercin.org
SUMMARY:916/2007
DESCRIPTION:Changing of tariff Classification from HTP-1 to HTP-II(A)
URL:https://gercin.org/hearing-schedule/916-2007-3/
CATEGORIES:Hearing Schedule
END:VEVENT
BEGIN:VEVENT
DTSTART;TZID=Asia/Kolkata:20110702T153000
DTEND;TZID=Asia/Kolkata:20110702T220000
DTSTAMP:20260420T232157
CREATED:20190826T133119Z
LAST-MODIFIED:20190826T133119Z
UID:6962-1309620600-1309644000@gercin.org
SUMMARY:1077/2011
DESCRIPTION:Review of the order dated 31.01.2011 passed by the Commission in Suo-motu petition no. 1057 of 2010
URL:https://gercin.org/hearing-schedule/1077-2011-3/
CATEGORIES:Hearing Schedule
END:VEVENT
BEGIN:VEVENT
DTSTART;TZID=Asia/Kolkata:20110702T153000
DTEND;TZID=Asia/Kolkata:20110702T220000
DTSTAMP:20260420T232157
CREATED:20190826T133119Z
LAST-MODIFIED:20190826T133119Z
UID:6963-1309620600-1309644000@gercin.org
SUMMARY:1078/2011
DESCRIPTION:Review of the order dated 10.02.2011 passed by the Commission in Suo-motu petition no. 1058 of 2010
URL:https://gercin.org/hearing-schedule/1078-2011-2/
CATEGORIES:Hearing Schedule
END:VEVENT
BEGIN:VEVENT
DTSTART;TZID=Asia/Kolkata:20110702T153000
DTEND;TZID=Asia/Kolkata:20110702T220000
DTSTAMP:20260420T232157
CREATED:20190826T133119Z
LAST-MODIFIED:20190826T133119Z
UID:6964-1309620600-1309644000@gercin.org
SUMMARY:1079/2011
DESCRIPTION:Review of the order dated 21.02.2011 passed by the Commission in Suo-motu petition no. 1066 of 2010
URL:https://gercin.org/hearing-schedule/1079-2011-3/
CATEGORIES:Hearing Schedule
END:VEVENT
BEGIN:VEVENT
DTSTART;TZID=Asia/Kolkata:20110702T153000
DTEND;TZID=Asia/Kolkata:20110702T220000
DTSTAMP:20260420T232157
CREATED:20190826T133119Z
LAST-MODIFIED:20190826T133119Z
UID:6965-1309620600-1309644000@gercin.org
SUMMARY:1088/2011
DESCRIPTION:To pass appropriate urgent orders and/or directions against the respondents to comply with the order passed by the Commission in case no. 1057/2011 on 31/01/2011\, by which Commission has directed GETCO to refund the amount of Bank Guarantee.
URL:https://gercin.org/hearing-schedule/1088-2011-3/
CATEGORIES:Hearing Schedule
END:VEVENT
END:VCALENDAR