        BEGIN:VCALENDAR
VERSION:2.0
PRODID:-//Gujarat Electricity Regulatory Commission - ECPv5.3.0//NONSGML v1.0//EN
CALSCALE:GREGORIAN
METHOD:PUBLISH
X-WR-CALNAME:Gujarat Electricity Regulatory Commission
X-ORIGINAL-URL:https://gercin.org
X-WR-CALDESC:Events for Gujarat Electricity Regulatory Commission
BEGIN:VTIMEZONE
TZID:Asia/Kolkata
BEGIN:STANDARD
TZOFFSETFROM:+0530
TZOFFSETTO:+0530
TZNAME:IST
DTSTART:20110101T000000
END:STANDARD
END:VTIMEZONE
BEGIN:VEVENT
DTSTART;TZID=Asia/Kolkata:20110621T113000
DTEND;TZID=Asia/Kolkata:20110621T180000
DTSTAMP:20260420T210115
CREATED:20190826T131712Z
LAST-MODIFIED:20190826T131712Z
UID:5828-1308655800-1308679200@gercin.org
SUMMARY:1103/2011
DESCRIPTION:Recovery of charges towards cost of electric lines and transformer centers from LT consumers
URL:https://gercin.org/hearing-schedule/1103-2011/
CATEGORIES:Hearing Schedule
END:VEVENT
BEGIN:VEVENT
DTSTART;TZID=Asia/Kolkata:20110621T113000
DTEND;TZID=Asia/Kolkata:20110621T180000
DTSTAMP:20260420T210115
CREATED:20190826T133004Z
LAST-MODIFIED:20190826T133004Z
UID:6871-1308655800-1308679200@gercin.org
SUMMARY:1104/2011
DESCRIPTION:Tariff for Agriculture consumer of TPL
URL:https://gercin.org/hearing-schedule/1104-2011/
CATEGORIES:Hearing Schedule
END:VEVENT
BEGIN:VEVENT
DTSTART;TZID=Asia/Kolkata:20110621T113000
DTEND;TZID=Asia/Kolkata:20110621T180000
DTSTAMP:20260420T210115
CREATED:20190826T133004Z
LAST-MODIFIED:20190826T133004Z
UID:6872-1308655800-1308679200@gercin.org
SUMMARY:1105/2011
DESCRIPTION:Non-implementation of Ombudsman award and allowing interest.
URL:https://gercin.org/hearing-schedule/1105-2011/
CATEGORIES:Hearing Schedule
END:VEVENT
BEGIN:VEVENT
DTSTART;TZID=Asia/Kolkata:20110621T113000
DTEND;TZID=Asia/Kolkata:20110621T180000
DTSTAMP:20260420T210115
CREATED:20190826T133004Z
LAST-MODIFIED:20190826T133004Z
UID:6873-1308655800-1308679200@gercin.org
SUMMARY:966/2009
DESCRIPTION:Annual Performance Review for Financial Year 2008- 09 & Tariff Proposal for Financial Year 2009-10 of Torrent Power Ltd
URL:https://gercin.org/hearing-schedule/966-2009-3/
CATEGORIES:Hearing Schedule
END:VEVENT
BEGIN:VEVENT
DTSTART;TZID=Asia/Kolkata:20110621T113000
DTEND;TZID=Asia/Kolkata:20110621T180000
DTSTAMP:20260420T210115
CREATED:20190826T133105Z
LAST-MODIFIED:20190826T133105Z
UID:6949-1308655800-1308679200@gercin.org
SUMMARY:1097/2011
DESCRIPTION:Application for direction for compliance of the order dated 18.12.2010 in the petition 1048.2010 in the matter of revision of accounting treatment of UI charges for the period 30.3.2009 to 21.12.2009 denial of credit of UI charge given to petitioner with respective effect\, recovery of the same by clause 16(j) of the order 3 of 2006 & refund of the said amount\, passed against the respondent.
URL:https://gercin.org/hearing-schedule/1097-2011-2/
CATEGORIES:Hearing Schedule
END:VEVENT
BEGIN:VEVENT
DTSTART;TZID=Asia/Kolkata:20110621T113000
DTEND;TZID=Asia/Kolkata:20110621T180000
DTSTAMP:20260420T210115
CREATED:20190826T133105Z
LAST-MODIFIED:20190826T133105Z
UID:6950-1308655800-1308679200@gercin.org
SUMMARY:1098/2011
DESCRIPTION:Review/rectification of the Commission’s order no. 5 of 2010 date 17.05.2010 on Biomass based power generators and other commercial issues.
URL:https://gercin.org/hearing-schedule/1098-2011/
CATEGORIES:Hearing Schedule
END:VEVENT
BEGIN:VEVENT
DTSTART;TZID=Asia/Kolkata:20110621T113000
DTEND;TZID=Asia/Kolkata:20110621T180000
DTSTAMP:20260420T210115
CREATED:20190826T133105Z
LAST-MODIFIED:20190826T133105Z
UID:6951-1308655800-1308679200@gercin.org
SUMMARY:1106/2011
DESCRIPTION:Approval of procurement of power from GUVNL for 10 MW for the period 1st April to 31st March 2013 to cater the demand of the consumers of Dahej license area under sec 86(1) (b) of the EA\, 2003.
URL:https://gercin.org/hearing-schedule/1106-2011/
CATEGORIES:Hearing Schedule
END:VEVENT
BEGIN:VEVENT
DTSTART;TZID=Asia/Kolkata:20110621T113000
DTEND;TZID=Asia/Kolkata:20110621T180000
DTSTAMP:20260420T210115
CREATED:20190826T133105Z
LAST-MODIFIED:20190826T133105Z
UID:6952-1308655800-1308679200@gercin.org
SUMMARY:1107/2011
DESCRIPTION:Review petition in the order dated 9/12/2009 in petition no. 966 of 2009 filed by TPL under section 62 of EA\, 2003 readwith GERC (Terms & Conditions of Tariff Regulations) 2005 and MYT regulations 2007 for APR for FY 2008-09 and ARR for 2009-10 for their generation and distribution business under MYT control period 2008- 09 to 2010-11.
URL:https://gercin.org/hearing-schedule/1107-2011/
CATEGORIES:Hearing Schedule
END:VEVENT
END:VCALENDAR