        BEGIN:VCALENDAR
VERSION:2.0
PRODID:-//Gujarat Electricity Regulatory Commission - ECPv5.3.0//NONSGML v1.0//EN
CALSCALE:GREGORIAN
METHOD:PUBLISH
X-WR-CALNAME:Gujarat Electricity Regulatory Commission
X-ORIGINAL-URL:https://gercin.org
X-WR-CALDESC:Events for Gujarat Electricity Regulatory Commission
BEGIN:VTIMEZONE
TZID:Asia/Kolkata
BEGIN:STANDARD
TZOFFSETFROM:+0530
TZOFFSETTO:+0530
TZNAME:IST
DTSTART:20110101T000000
END:STANDARD
END:VTIMEZONE
BEGIN:VEVENT
DTSTART;TZID=Asia/Kolkata:20110523T113000
DTEND;TZID=Asia/Kolkata:20110523T180000
DTSTAMP:20260420T235119
CREATED:20190826T131657Z
LAST-MODIFIED:20190826T131657Z
UID:5810-1306150200-1306173600@gercin.org
SUMMARY:1076/2011
DESCRIPTION:Adjudication of disputes between GUVNL & PTC India Ltd
URL:https://gercin.org/hearing-schedule/1076-2011-2/
CATEGORIES:Hearing Schedule
END:VEVENT
BEGIN:VEVENT
DTSTART;TZID=Asia/Kolkata:20110523T113000
DTEND;TZID=Asia/Kolkata:20110523T180000
DTSTAMP:20260420T235119
CREATED:20190826T131712Z
LAST-MODIFIED:20190826T131712Z
UID:5818-1306150200-1306173600@gercin.org
SUMMARY:1094/2011
DESCRIPTION:GUVNL petition for review of order dated 3rd May 2010 in petition 983/2009 approving PPA GSECL V/s. GUVNL (U-GBPS-II)
URL:https://gercin.org/hearing-schedule/1094-2011/
CATEGORIES:Hearing Schedule
END:VEVENT
BEGIN:VEVENT
DTSTART;TZID=Asia/Kolkata:20110523T113000
DTEND;TZID=Asia/Kolkata:20110523T180000
DTSTAMP:20260420T235119
CREATED:20190826T132835Z
LAST-MODIFIED:20190826T132835Z
UID:6737-1306150200-1306173600@gercin.org
SUMMARY:1078/2011
DESCRIPTION:Review of the order dated 10.02.2011 passed by the Commission in Suo-motu petition no. 1058 of 2010
URL:https://gercin.org/hearing-schedule/1078-2011/
CATEGORIES:Hearing Schedule
END:VEVENT
BEGIN:VEVENT
DTSTART;TZID=Asia/Kolkata:20110523T113000
DTEND;TZID=Asia/Kolkata:20110523T180000
DTSTAMP:20260420T235119
CREATED:20190826T132835Z
LAST-MODIFIED:20190826T132835Z
UID:6749-1306150200-1306173600@gercin.org
SUMMARY:1077/2011
DESCRIPTION:Review of the order dated 31.01.2011 passed by the Commission in Suo-motu petition no. 1057 of 2010
URL:https://gercin.org/hearing-schedule/1077-2011-2/
CATEGORIES:Hearing Schedule
END:VEVENT
BEGIN:VEVENT
DTSTART;TZID=Asia/Kolkata:20110523T113000
DTEND;TZID=Asia/Kolkata:20110523T180000
DTSTAMP:20260420T235119
CREATED:20190826T132835Z
LAST-MODIFIED:20190826T132835Z
UID:6750-1306150200-1306173600@gercin.org
SUMMARY:1079/2011
DESCRIPTION:Review of the order dated 21.02.2011 passed by the Commission in Suo-motu petition no. 1066 of 2010
URL:https://gercin.org/hearing-schedule/1079-2011-2/
CATEGORIES:Hearing Schedule
END:VEVENT
BEGIN:VEVENT
DTSTART;TZID=Asia/Kolkata:20110523T113000
DTEND;TZID=Asia/Kolkata:20110523T180000
DTSTAMP:20260420T235119
CREATED:20190826T133105Z
LAST-MODIFIED:20190826T133105Z
UID:6946-1306150200-1306173600@gercin.org
SUMMARY:1088/2011
DESCRIPTION:To pass appropriate urgent orders and/or directions against the respondents to comply with the order passed by the Commission in case no. 1057/2011 on 31/01/2011\, by which Commission has directed GETCO to refund the amount of Bank Guarantee
URL:https://gercin.org/hearing-schedule/1088-2011-2/
CATEGORIES:Hearing Schedule
END:VEVENT
BEGIN:VEVENT
DTSTART;TZID=Asia/Kolkata:20110523T113000
DTEND;TZID=Asia/Kolkata:20110523T180000
DTSTAMP:20260420T235119
CREATED:20190826T133105Z
LAST-MODIFIED:20190826T133105Z
UID:6947-1306150200-1306173600@gercin.org
SUMMARY:1095/2011
DESCRIPTION:Approval of long term arrangements to meet the shortfall in power supplies to cater the demand of A’bad & Surat License areas in accordance with applicable provisions of EA\, 2003 (278 MW – UNOSUGEN)
URL:https://gercin.org/hearing-schedule/1095-2011/
CATEGORIES:Hearing Schedule
END:VEVENT
END:VCALENDAR