        BEGIN:VCALENDAR
VERSION:2.0
PRODID:-//Gujarat Electricity Regulatory Commission - ECPv5.3.0//NONSGML v1.0//EN
CALSCALE:GREGORIAN
METHOD:PUBLISH
X-WR-CALNAME:Gujarat Electricity Regulatory Commission
X-ORIGINAL-URL:https://gercin.org
X-WR-CALDESC:Events for Gujarat Electricity Regulatory Commission
BEGIN:VTIMEZONE
TZID:Asia/Kolkata
BEGIN:STANDARD
TZOFFSETFROM:+0530
TZOFFSETTO:+0530
TZNAME:IST
DTSTART:20110101T000000
END:STANDARD
END:VTIMEZONE
BEGIN:VEVENT
DTSTART;TZID=Asia/Kolkata:20110419T113000
DTEND;TZID=Asia/Kolkata:20110419T180000
DTSTAMP:20260420T233928
CREATED:20190826T131102Z
LAST-MODIFIED:20190826T131102Z
UID:5332-1303212600-1303236000@gercin.org
SUMMARY:1043/2010
DESCRIPTION:Review Petition in order dt. 31.03.2010 in pet. no. 988/20
URL:https://gercin.org/hearing-schedule/1043-2010-2/
CATEGORIES:Hearing Schedule
END:VEVENT
BEGIN:VEVENT
DTSTART;TZID=Asia/Kolkata:20110419T113000
DTEND;TZID=Asia/Kolkata:20110419T180000
DTSTAMP:20260420T233928
CREATED:20190826T131102Z
LAST-MODIFIED:20190826T131102Z
UID:5333-1303212600-1303236000@gercin.org
SUMMARY:1064/2011
DESCRIPTION:For non-compliance of direction of GERC in order no. 914/2007\, 939/2008\, 966/2009 & 988/2010.
URL:https://gercin.org/hearing-schedule/1064-2011-2/
CATEGORIES:Hearing Schedule
END:VEVENT
BEGIN:VEVENT
DTSTART;TZID=Asia/Kolkata:20110419T113000
DTEND;TZID=Asia/Kolkata:20110419T180000
DTSTAMP:20260420T233928
CREATED:20190826T131102Z
LAST-MODIFIED:20190826T131102Z
UID:5334-1303212600-1303236000@gercin.org
SUMMARY:1068/2011
DESCRIPTION:Approval for long-term arrangement to cater to the demand of Dahej SEZ license area.
URL:https://gercin.org/hearing-schedule/1068-2011-2/
CATEGORIES:Hearing Schedule
END:VEVENT
BEGIN:VEVENT
DTSTART;TZID=Asia/Kolkata:20110419T113000
DTEND;TZID=Asia/Kolkata:20110419T180000
DTSTAMP:20260420T233928
CREATED:20190826T131116Z
LAST-MODIFIED:20190826T131116Z
UID:5338-1303212600-1303236000@gercin.org
SUMMARY:1071/2011
DESCRIPTION:Revision of minimum quantum of purchase target (%) from RE Sources for the year 2010-11 in view of supply constraints & the factors beyond their control….
URL:https://gercin.org/hearing-schedule/1071-2011-2/
CATEGORIES:Hearing Schedule
END:VEVENT
BEGIN:VEVENT
DTSTART;TZID=Asia/Kolkata:20110419T113000
DTEND;TZID=Asia/Kolkata:20110419T180000
DTSTAMP:20260420T233928
CREATED:20190826T131116Z
LAST-MODIFIED:20190826T131116Z
UID:5340-1303212600-1303236000@gercin.org
SUMMARY:1087/2011
DESCRIPTION:Injustice and discrimination with the farmers situated in the dark zone declared talukas and in the Tribunal areas\, waiting for getting agriculture electricity connections for irrigation purpose since 1990 and onward.
URL:https://gercin.org/hearing-schedule/1087-2011/
CATEGORIES:Hearing Schedule
END:VEVENT
BEGIN:VEVENT
DTSTART;TZID=Asia/Kolkata:20110419T113000
DTEND;TZID=Asia/Kolkata:20110419T180000
DTSTAMP:20260420T233928
CREATED:20190826T131116Z
LAST-MODIFIED:20190826T131116Z
UID:5341-1303212600-1303236000@gercin.org
SUMMARY:1049/2010
DESCRIPTION:Approval & adoption of Tariff for procurement of 3000+_20% power on long term basis under Case – 1route of Tariff based CBG.
URL:https://gercin.org/hearing-schedule/1049-2010-2/
CATEGORIES:Hearing Schedule
END:VEVENT
END:VCALENDAR