        BEGIN:VCALENDAR
VERSION:2.0
PRODID:-//Gujarat Electricity Regulatory Commission - ECPv5.3.0//NONSGML v1.0//EN
CALSCALE:GREGORIAN
METHOD:PUBLISH
X-WR-CALNAME:Gujarat Electricity Regulatory Commission
X-ORIGINAL-URL:https://gercin.org
X-WR-CALDESC:Events for Gujarat Electricity Regulatory Commission
BEGIN:VTIMEZONE
TZID:Asia/Kolkata
BEGIN:STANDARD
TZOFFSETFROM:+0530
TZOFFSETTO:+0530
TZNAME:IST
DTSTART:20110101T000000
END:STANDARD
END:VTIMEZONE
BEGIN:VEVENT
DTSTART;TZID=Asia/Kolkata:20110411T085000
DTEND;TZID=Asia/Kolkata:20110411T182000
DTSTAMP:20260421T023356
CREATED:20190826T131159Z
LAST-MODIFIED:20190826T131159Z
UID:5410-1302511800-1302546000@gercin.org
SUMMARY:1029/2010
DESCRIPTION:Applicability of order dated 11.08.2006 passed by GERC
URL:https://gercin.org/hearing-schedule/1029-2010/
CATEGORIES:Hearing Schedule
END:VEVENT
BEGIN:VEVENT
DTSTART;TZID=Asia/Kolkata:20110411T091600
DTEND;TZID=Asia/Kolkata:20110411T154600
DTSTAMP:20260421T023356
CREATED:20190826T131213Z
LAST-MODIFIED:20190826T131213Z
UID:5422-1302513360-1302536760@gercin.org
SUMMARY:1015/2010
DESCRIPTION:For permission to shift 220 KV Essar –Ichhapore transmission lines to Essar Power Switch Yard
URL:https://gercin.org/hearing-schedule/1015-2010/
CATEGORIES:Hearing Schedule
END:VEVENT
BEGIN:VEVENT
DTSTART;TZID=Asia/Kolkata:20110411T092600
DTEND;TZID=Asia/Kolkata:20110411T185600
DTSTAMP:20260421T023356
CREATED:20190826T131213Z
LAST-MODIFIED:20190826T131213Z
UID:5426-1302513960-1302548160@gercin.org
SUMMARY:1023/2010
DESCRIPTION:Determination of tariff for 21-07-04 to 31-03-09 in r/o. MPSM\, The issue unaddressed in order Dtd.18-02-09 of petition no.921/07.
URL:https://gercin.org/hearing-schedule/1023-2010/
CATEGORIES:Hearing Schedule
END:VEVENT
BEGIN:VEVENT
DTSTART;TZID=Asia/Kolkata:20110411T113000
DTEND;TZID=Asia/Kolkata:20110411T180000
DTSTAMP:20260421T023356
CREATED:20190826T131102Z
LAST-MODIFIED:20190826T131102Z
UID:5324-1302521400-1302544800@gercin.org
SUMMARY:1049/2010
DESCRIPTION:Approval & adoption of Tariff for procurement of 3000+_20% power on long term basis under Case – 1route of Tariff based CBG.
URL:https://gercin.org/hearing-schedule/1049-2010/
CATEGORIES:Hearing Schedule
END:VEVENT
BEGIN:VEVENT
DTSTART;TZID=Asia/Kolkata:20110411T113000
DTEND;TZID=Asia/Kolkata:20110411T180000
DTSTAMP:20260421T023356
CREATED:20190826T131129Z
LAST-MODIFIED:20190826T131129Z
UID:5362-1302521400-1302544800@gercin.org
SUMMARY:1090/2011
DESCRIPTION:Approval for procurement of power to cater the demand of the Consumer of A’bad\, G’nagar & Surat license area under section 86(1)(b) pursuant to bidding process carried out under section 63 of EA\, 2003.
URL:https://gercin.org/hearing-schedule/1090-2011/
CATEGORIES:Hearing Schedule
END:VEVENT
BEGIN:VEVENT
DTSTART;TZID=Asia/Kolkata:20110411T113000
DTEND;TZID=Asia/Kolkata:20110411T180000
DTSTAMP:20260421T023356
CREATED:20190826T131129Z
LAST-MODIFIED:20190826T131129Z
UID:5363-1302521400-1302544800@gercin.org
SUMMARY:1091/2011
DESCRIPTION:Misc. Pet. seeking approval to allow recovery of increase in FPPPA charges beyond 10 paise per unit in a quarter in compliance to the direction of GERC order dtd. 17.1.2009 in case no. 939/2008 read with section 62\,86 and 94 of EA\, 2003
URL:https://gercin.org/hearing-schedule/1091-2011/
CATEGORIES:Hearing Schedule
END:VEVENT
BEGIN:VEVENT
DTSTART;TZID=Asia/Kolkata:20110411T132700
DTEND;TZID=Asia/Kolkata:20110411T195700
DTSTAMP:20260421T023356
CREATED:20190826T131159Z
LAST-MODIFIED:20190826T131159Z
UID:5405-1302528420-1302551820@gercin.org
SUMMARY:934/2008
DESCRIPTION:For Implementation of GERC Regulation on Renewable Energy no. 15/2005
URL:https://gercin.org/hearing-schedule/934-2008/
CATEGORIES:Hearing Schedule
END:VEVENT
END:VCALENDAR