        BEGIN:VCALENDAR
VERSION:2.0
PRODID:-//Gujarat Electricity Regulatory Commission - ECPv5.3.0//NONSGML v1.0//EN
CALSCALE:GREGORIAN
METHOD:PUBLISH
X-WR-CALNAME:Gujarat Electricity Regulatory Commission
X-ORIGINAL-URL:https://gercin.org
X-WR-CALDESC:Events for Gujarat Electricity Regulatory Commission
BEGIN:VTIMEZONE
TZID:Asia/Kolkata
BEGIN:STANDARD
TZOFFSETFROM:+0530
TZOFFSETTO:+0530
TZNAME:IST
DTSTART:20100101T000000
END:STANDARD
END:VTIMEZONE
BEGIN:VEVENT
DTSTART;TZID=Asia/Kolkata:20101221T113000
DTEND;TZID=Asia/Kolkata:20101221T180000
DTSTAMP:20260421T123803
CREATED:20190826T131213Z
LAST-MODIFIED:20190826T131213Z
UID:5428-1292931000-1292954400@gercin.org
SUMMARY:1034/2010
DESCRIPTION:Seeking review of decisions\, directions & orders of the Order Dtd.31-03-2010 in Case No.990/2010.Seeking review of decisions\, directions & orders of the Order Dtd.31-03-2010 in Case No.990/2010.
URL:https://gercin.org/hearing-schedule/1034-2010/
CATEGORIES:Hearing Schedule
END:VEVENT
BEGIN:VEVENT
DTSTART;TZID=Asia/Kolkata:20101221T113000
DTEND;TZID=Asia/Kolkata:20101221T180000
DTSTAMP:20260421T123803
CREATED:20190826T131213Z
LAST-MODIFIED:20190826T131213Z
UID:5429-1292931000-1292954400@gercin.org
SUMMARY:1049/2010
DESCRIPTION:Approval & adoption of Tariff for procurement of 3000+_20% power on long term basis under Case – 1route of Tariff based CBG.
URL:https://gercin.org/hearing-schedule/1049-2010-5/
CATEGORIES:Hearing Schedule
END:VEVENT
BEGIN:VEVENT
DTSTART;TZID=Asia/Kolkata:20101221T113000
DTEND;TZID=Asia/Kolkata:20101221T180000
DTSTAMP:20260421T123803
CREATED:20190826T131213Z
LAST-MODIFIED:20190826T131213Z
UID:5432-1292931000-1292954400@gercin.org
SUMMARY:1050/2010
DESCRIPTION:Approval for long-term Arrangements to cater to the demand of consumers of Dahej SEZ license area.
URL:https://gercin.org/hearing-schedule/1050-2010/
CATEGORIES:Hearing Schedule
END:VEVENT
BEGIN:VEVENT
DTSTART;TZID=Asia/Kolkata:20101221T113000
DTEND;TZID=Asia/Kolkata:20101221T180000
DTSTAMP:20260421T123803
CREATED:20190826T131213Z
LAST-MODIFIED:20190826T131213Z
UID:5433-1292931000-1292954400@gercin.org
SUMMARY:1054/2010
DESCRIPTION:Application/petition in view of the order passed by the Hon’ble High Court in SCA No. 10013 of 2009 dated 29.09.2010
URL:https://gercin.org/hearing-schedule/1054-2010/
CATEGORIES:Hearing Schedule
END:VEVENT
BEGIN:VEVENT
DTSTART;TZID=Asia/Kolkata:20101221T113000
DTEND;TZID=Asia/Kolkata:20101221T180000
DTSTAMP:20260421T123803
CREATED:20190826T131213Z
LAST-MODIFIED:20190826T131213Z
UID:5434-1292931000-1292954400@gercin.org
SUMMARY:1051/2010
DESCRIPTION:Approval for long-term arrangements to meet the shortfall in power supplies to cater to the demand of Ahmedabad\, G’nagar and Surat license area.
URL:https://gercin.org/hearing-schedule/1051-2010/
CATEGORIES:Hearing Schedule
END:VEVENT
END:VCALENDAR