        BEGIN:VCALENDAR
VERSION:2.0
PRODID:-//Gujarat Electricity Regulatory Commission - ECPv5.3.0//NONSGML v1.0//EN
CALSCALE:GREGORIAN
METHOD:PUBLISH
X-WR-CALNAME:Gujarat Electricity Regulatory Commission
X-ORIGINAL-URL:https://gercin.org
X-WR-CALDESC:Events for Gujarat Electricity Regulatory Commission
BEGIN:VTIMEZONE
TZID:Asia/Kolkata
BEGIN:STANDARD
TZOFFSETFROM:+0530
TZOFFSETTO:+0530
TZNAME:IST
DTSTART:20100101T000000
END:STANDARD
END:VTIMEZONE
BEGIN:VEVENT
DTSTART;TZID=Asia/Kolkata:20100728T113000
DTEND;TZID=Asia/Kolkata:20100728T180000
DTSTAMP:20260422T194608
CREATED:20190826T131159Z
LAST-MODIFIED:20190826T131159Z
UID:5398-1280316600-1280340000@gercin.org
SUMMARY:1010/2010
DESCRIPTION:In the matter of FCA levied by DGVCL
URL:https://gercin.org/hearing-schedule/1010-2010/
CATEGORIES:Hearing Schedule
END:VEVENT
BEGIN:VEVENT
DTSTART;TZID=Asia/Kolkata:20100728T113000
DTEND;TZID=Asia/Kolkata:20100728T180000
DTSTAMP:20260422T194608
CREATED:20190826T131159Z
LAST-MODIFIED:20190826T131159Z
UID:5399-1280316600-1280340000@gercin.org
SUMMARY:1011/2010
DESCRIPTION:In the matter of FCA levied by DGVCL
URL:https://gercin.org/hearing-schedule/1011-2010/
CATEGORIES:Hearing Schedule
END:VEVENT
BEGIN:VEVENT
DTSTART;TZID=Asia/Kolkata:20100728T113000
DTEND;TZID=Asia/Kolkata:20100728T180000
DTSTAMP:20260422T194608
CREATED:20190826T131159Z
LAST-MODIFIED:20190826T131159Z
UID:5400-1280316600-1280340000@gercin.org
SUMMARY:1012/2010
DESCRIPTION:In the matter of FCA levied by DGVCL
URL:https://gercin.org/hearing-schedule/1012-2010/
CATEGORIES:Hearing Schedule
END:VEVENT
BEGIN:VEVENT
DTSTART;TZID=Asia/Kolkata:20100728T113000
DTEND;TZID=Asia/Kolkata:20100728T180000
DTSTAMP:20260422T194608
CREATED:20190826T131159Z
LAST-MODIFIED:20190826T131159Z
UID:5401-1280316600-1280340000@gercin.org
SUMMARY:1013/2010
DESCRIPTION:In the matter of FCA levied by DGVCL
URL:https://gercin.org/hearing-schedule/1013-2010/
CATEGORIES:Hearing Schedule
END:VEVENT
BEGIN:VEVENT
DTSTART;TZID=Asia/Kolkata:20100728T113000
DTEND;TZID=Asia/Kolkata:20100728T180000
DTSTAMP:20260422T194608
CREATED:20190826T131159Z
LAST-MODIFIED:20190826T131159Z
UID:5402-1280316600-1280340000@gercin.org
SUMMARY:1014/2010
DESCRIPTION:In the matter of FCA levied by DGVCL
URL:https://gercin.org/hearing-schedule/1014-2010/
CATEGORIES:Hearing Schedule
END:VEVENT
BEGIN:VEVENT
DTSTART;TZID=Asia/Kolkata:20100728T113000
DTEND;TZID=Asia/Kolkata:20100728T180000
DTSTAMP:20260422T194608
CREATED:20190826T131159Z
LAST-MODIFIED:20190826T131159Z
UID:5408-1280316600-1280340000@gercin.org
SUMMARY:1020/2010
DESCRIPTION:To give set off from date of commissioning of the WTGs and Amend the period from 20 yrs to 25 yrs as per Wind Tariff Order dated 30.01.2010
URL:https://gercin.org/hearing-schedule/1020-2010/
CATEGORIES:Hearing Schedule
END:VEVENT
BEGIN:VEVENT
DTSTART;TZID=Asia/Kolkata:20100728T113000
DTEND;TZID=Asia/Kolkata:20100728T180000
DTSTAMP:20260422T194608
CREATED:20190826T131159Z
LAST-MODIFIED:20190826T131159Z
UID:5409-1280316600-1280340000@gercin.org
SUMMARY:1026/2010
DESCRIPTION:Dispute for termination of agreement by GUVNL and Sup. PPA dated 25.11.2009
URL:https://gercin.org/hearing-schedule/1026-2010/
CATEGORIES:Hearing Schedule
END:VEVENT
BEGIN:VEVENT
DTSTART;TZID=Asia/Kolkata:20100728T113000
DTEND;TZID=Asia/Kolkata:20100728T180000
DTSTAMP:20260422T194608
CREATED:20190826T131159Z
LAST-MODIFIED:20190826T131159Z
UID:5411-1280316600-1280340000@gercin.org
SUMMARY:1030/2010
DESCRIPTION:Breach of wheeling agreement …..
URL:https://gercin.org/hearing-schedule/1030-2010/
CATEGORIES:Hearing Schedule
END:VEVENT
BEGIN:VEVENT
DTSTART;TZID=Asia/Kolkata:20100728T113000
DTEND;TZID=Asia/Kolkata:20100728T180000
DTSTAMP:20260422T194608
CREATED:20190826T131159Z
LAST-MODIFIED:20190826T131159Z
UID:5412-1280316600-1280340000@gercin.org
SUMMARY:1031/2010
DESCRIPTION:Approval of project specific tariff for 25 MW Solar Thermal Project
URL:https://gercin.org/hearing-schedule/1031-2010/
CATEGORIES:Hearing Schedule
END:VEVENT
END:VCALENDAR