        BEGIN:VCALENDAR
VERSION:2.0
PRODID:-//Gujarat Electricity Regulatory Commission - ECPv5.3.0//NONSGML v1.0//EN
CALSCALE:GREGORIAN
METHOD:PUBLISH
X-WR-CALNAME:Gujarat Electricity Regulatory Commission
X-ORIGINAL-URL:https://gercin.org
X-WR-CALDESC:Events for Gujarat Electricity Regulatory Commission
BEGIN:VTIMEZONE
TZID:Asia/Kolkata
BEGIN:STANDARD
TZOFFSETFROM:+0530
TZOFFSETTO:+0530
TZNAME:IST
DTSTART:20100101T000000
END:STANDARD
END:VTIMEZONE
BEGIN:VEVENT
DTSTART;TZID=Asia/Kolkata:20100717T113000
DTEND;TZID=Asia/Kolkata:20100717T180000
DTSTAMP:20260421T151552
CREATED:20190826T131145Z
LAST-MODIFIED:20190826T131145Z
UID:5391-1279366200-1279389600@gercin.org
SUMMARY:1007/2010
DESCRIPTION:Clarification of the wind tariff order dated 30.01.2010
URL:https://gercin.org/hearing-schedule/1007-2010/
CATEGORIES:Hearing Schedule
END:VEVENT
BEGIN:VEVENT
DTSTART;TZID=Asia/Kolkata:20100717T113000
DTEND;TZID=Asia/Kolkata:20100717T180000
DTSTAMP:20260421T151552
CREATED:20190826T131145Z
LAST-MODIFIED:20190826T131145Z
UID:5392-1279366200-1279389600@gercin.org
SUMMARY:1016/2010
DESCRIPTION:Reviewing the wind tariff order dated 30.01.2010
URL:https://gercin.org/hearing-schedule/1016-2010/
CATEGORIES:Hearing Schedule
END:VEVENT
BEGIN:VEVENT
DTSTART;TZID=Asia/Kolkata:20100717T113000
DTEND;TZID=Asia/Kolkata:20100717T180000
DTSTAMP:20260421T151552
CREATED:20190826T131145Z
LAST-MODIFIED:20190826T131145Z
UID:5393-1279366200-1279389600@gercin.org
SUMMARY:1017/2010
DESCRIPTION:Reviewing the wind tariff order dated 30.01.2010
URL:https://gercin.org/hearing-schedule/1017-2010/
CATEGORIES:Hearing Schedule
END:VEVENT
BEGIN:VEVENT
DTSTART;TZID=Asia/Kolkata:20100717T113000
DTEND;TZID=Asia/Kolkata:20100717T180000
DTSTAMP:20260421T151552
CREATED:20190826T131145Z
LAST-MODIFIED:20190826T131145Z
UID:5394-1279366200-1279389600@gercin.org
SUMMARY:1018/2010
DESCRIPTION:Reviewing the wind tariff order dated 30.01.2010
URL:https://gercin.org/hearing-schedule/1018-2010/
CATEGORIES:Hearing Schedule
END:VEVENT
BEGIN:VEVENT
DTSTART;TZID=Asia/Kolkata:20100717T113000
DTEND;TZID=Asia/Kolkata:20100717T180000
DTSTAMP:20260421T151552
CREATED:20190826T131159Z
LAST-MODIFIED:20190826T131159Z
UID:5395-1279366200-1279389600@gercin.org
SUMMARY:1019/2010
DESCRIPTION:Reviewing the wind tariff order dated 30.01.2010
URL:https://gercin.org/hearing-schedule/1019-2010/
CATEGORIES:Hearing Schedule
END:VEVENT
BEGIN:VEVENT
DTSTART;TZID=Asia/Kolkata:20100717T113000
DTEND;TZID=Asia/Kolkata:20100717T180000
DTSTAMP:20260421T151552
CREATED:20190826T131159Z
LAST-MODIFIED:20190826T131159Z
UID:5396-1279366200-1279389600@gercin.org
SUMMARY:1024/2010
DESCRIPTION:Fixation of tariff for two small hydro power projects
URL:https://gercin.org/hearing-schedule/1024-2010-2/
CATEGORIES:Hearing Schedule
END:VEVENT
BEGIN:VEVENT
DTSTART;TZID=Asia/Kolkata:20100717T113000
DTEND;TZID=Asia/Kolkata:20100717T180000
DTSTAMP:20260421T151552
CREATED:20190826T131159Z
LAST-MODIFIED:20190826T131159Z
UID:5397-1279366200-1279389600@gercin.org
SUMMARY:997/2010
DESCRIPTION:Review petition in LA No. 5 of 2008……
URL:https://gercin.org/hearing-schedule/997-2010/
CATEGORIES:Hearing Schedule
END:VEVENT
END:VCALENDAR