        BEGIN:VCALENDAR
VERSION:2.0
PRODID:-//Gujarat Electricity Regulatory Commission - ECPv5.3.0//NONSGML v1.0//EN
CALSCALE:GREGORIAN
METHOD:PUBLISH
X-WR-CALNAME:Gujarat Electricity Regulatory Commission
X-ORIGINAL-URL:https://gercin.org
X-WR-CALDESC:Events for Gujarat Electricity Regulatory Commission
BEGIN:VTIMEZONE
TZID:Asia/Kolkata
BEGIN:STANDARD
TZOFFSETFROM:+0530
TZOFFSETTO:+0530
TZNAME:IST
DTSTART:20100101T000000
END:STANDARD
END:VTIMEZONE
BEGIN:VEVENT
DTSTART;TZID=Asia/Kolkata:20100616T153000
DTEND;TZID=Asia/Kolkata:20100616T180000
DTSTAMP:20260421T204319
CREATED:20190826T131145Z
LAST-MODIFIED:20190826T131145Z
UID:5384-1276702200-1276711200@gercin.org
SUMMARY:985/2009
DESCRIPTION:To determine the tariff for Rankine cycle based Biomass Power Plant to be set up in the state of Gujarat
URL:https://gercin.org/hearing-schedule/985-2009/
CATEGORIES:Hearing Schedule
END:VEVENT
BEGIN:VEVENT
DTSTART;TZID=Asia/Kolkata:20100616T153000
DTEND;TZID=Asia/Kolkata:20100616T180000
DTSTAMP:20260421T204319
CREATED:20190826T131145Z
LAST-MODIFIED:20190826T131145Z
UID:5385-1276702200-1276711200@gercin.org
SUMMARY:1005/2010
DESCRIPTION:Tariff for Agricultural Consumers of TPL
URL:https://gercin.org/hearing-schedule/1005-2010/
CATEGORIES:Hearing Schedule
END:VEVENT
BEGIN:VEVENT
DTSTART;TZID=Asia/Kolkata:20100616T153000
DTEND;TZID=Asia/Kolkata:20100616T180000
DTSTAMP:20260421T204319
CREATED:20190826T131145Z
LAST-MODIFIED:20190826T131145Z
UID:5386-1276702200-1276711200@gercin.org
SUMMARY:1008/2010
DESCRIPTION:Tariff for Agricultural Consumers of TPL
URL:https://gercin.org/hearing-schedule/1008-2010/
CATEGORIES:Hearing Schedule
END:VEVENT
BEGIN:VEVENT
DTSTART;TZID=Asia/Kolkata:20100616T153000
DTEND;TZID=Asia/Kolkata:20100616T180000
DTSTAMP:20260421T204319
CREATED:20190826T131145Z
LAST-MODIFIED:20190826T131145Z
UID:5387-1276702200-1276711200@gercin.org
SUMMARY:1009/2010
DESCRIPTION:Modification & Amendment in policy for small mini micro/hydel projects in Gujarat.
URL:https://gercin.org/hearing-schedule/1009-2010/
CATEGORIES:Hearing Schedule
END:VEVENT
BEGIN:VEVENT
DTSTART;TZID=Asia/Kolkata:20100616T153000
DTEND;TZID=Asia/Kolkata:20100616T180000
DTSTAMP:20260421T204319
CREATED:20190826T131145Z
LAST-MODIFIED:20190826T131145Z
UID:5388-1276702200-1276711200@gercin.org
SUMMARY:1024/2010
DESCRIPTION:Fixation of Tariff for two small hydro power projects
URL:https://gercin.org/hearing-schedule/1024-2010/
CATEGORIES:Hearing Schedule
END:VEVENT
BEGIN:VEVENT
DTSTART;TZID=Asia/Kolkata:20100616T153000
DTEND;TZID=Asia/Kolkata:20100616T180000
DTSTAMP:20260421T204319
CREATED:20190826T131145Z
LAST-MODIFIED:20190826T131145Z
UID:5389-1276702200-1276711200@gercin.org
SUMMARY:1025/2009
DESCRIPTION:Direction to GETCO to allow to connect its dedicated transmission line and declare the owner of the line
URL:https://gercin.org/hearing-schedule/1025-2009/
CATEGORIES:Hearing Schedule
END:VEVENT
END:VCALENDAR