        BEGIN:VCALENDAR
VERSION:2.0
PRODID:-//Gujarat Electricity Regulatory Commission - ECPv5.3.0//NONSGML v1.0//EN
CALSCALE:GREGORIAN
METHOD:PUBLISH
X-WR-CALNAME:Gujarat Electricity Regulatory Commission
X-ORIGINAL-URL:https://gercin.org
X-WR-CALDESC:Events for Gujarat Electricity Regulatory Commission
BEGIN:VTIMEZONE
TZID:Asia/Kolkata
BEGIN:STANDARD
TZOFFSETFROM:+0530
TZOFFSETTO:+0530
TZNAME:IST
DTSTART:20090101T000000
END:STANDARD
END:VTIMEZONE
BEGIN:VEVENT
DTSTART;TZID=Asia/Kolkata:20091014T113000
DTEND;TZID=Asia/Kolkata:20091014T180000
DTSTAMP:20260422T171838
CREATED:20190826T131242Z
LAST-MODIFIED:20190826T131242Z
UID:5460-1255519800-1255543200@gercin.org
SUMMARY:LA - 1/2007
DESCRIPTION:Application for Trading License
URL:https://gercin.org/hearing-schedule/la-1-2007-3/
CATEGORIES:Hearing Schedule
END:VEVENT
BEGIN:VEVENT
DTSTART;TZID=Asia/Kolkata:20091014T113000
DTEND;TZID=Asia/Kolkata:20091014T180000
DTSTAMP:20260422T171838
CREATED:20190826T131242Z
LAST-MODIFIED:20190826T131242Z
UID:5461-1255519800-1255543200@gercin.org
SUMMARY:LA- 6/2009
DESCRIPTION:Application for Distribution License
URL:https://gercin.org/hearing-schedule/la-6-2009-2/
CATEGORIES:Hearing Schedule
END:VEVENT
BEGIN:VEVENT
DTSTART;TZID=Asia/Kolkata:20091014T113000
DTEND;TZID=Asia/Kolkata:20091014T180000
DTSTAMP:20260422T171838
CREATED:20190826T131257Z
LAST-MODIFIED:20190826T131257Z
UID:5492-1255519800-1255543200@gercin.org
SUMMARY:Draft Order no. 2 of 2009
DESCRIPTION:Determination of Wind Energy Tariff
URL:https://gercin.org/hearing-schedule/draft-order-no-2-of-2009/
CATEGORIES:Hearing Schedule
END:VEVENT
BEGIN:VEVENT
DTSTART;TZID=Asia/Kolkata:20091014T115000
DTEND;TZID=Asia/Kolkata:20091014T182000
DTSTAMP:20260422T171838
CREATED:20190826T131242Z
LAST-MODIFIED:20190826T131242Z
UID:5464-1255521000-1255544400@gercin.org
SUMMARY:LA - 3/2008
DESCRIPTION:Application for Distribution License
URL:https://gercin.org/hearing-schedule/la-3-2008-2/
CATEGORIES:Hearing Schedule
END:VEVENT
BEGIN:VEVENT
DTSTART;TZID=Asia/Kolkata:20091014T123000
DTEND;TZID=Asia/Kolkata:20091014T190000
DTSTAMP:20260422T171838
CREATED:20190826T131242Z
LAST-MODIFIED:20190826T131242Z
UID:5463-1255523400-1255546800@gercin.org
SUMMARY:981/2009
DESCRIPTION:Approval of deviations taken in the bid documents from the SBD issued by MoP\, GOI
URL:https://gercin.org/hearing-schedule/981-2009/
CATEGORIES:Hearing Schedule
END:VEVENT
BEGIN:VEVENT
DTSTART;TZID=Asia/Kolkata:20091014T153000
DTEND;TZID=Asia/Kolkata:20091014T180000
DTSTAMP:20260422T171838
CREATED:20190826T131159Z
LAST-MODIFIED:20190826T131159Z
UID:5403-1255534200-1255543200@gercin.org
SUMMARY:LA - 4/20008
DESCRIPTION:Application for Distribution License
URL:https://gercin.org/hearing-schedule/la-4-20008/
CATEGORIES:Hearing Schedule
END:VEVENT
BEGIN:VEVENT
DTSTART;TZID=Asia/Kolkata:20091014T153000
DTEND;TZID=Asia/Kolkata:20091014T180000
DTSTAMP:20260422T171838
CREATED:20190826T131159Z
LAST-MODIFIED:20190826T131159Z
UID:5404-1255534200-1255543200@gercin.org
SUMMARY:LA – 5/2008
DESCRIPTION:Application for Distribution License
URL:https://gercin.org/hearing-schedule/la-5-2008/
CATEGORIES:Hearing Schedule
END:VEVENT
BEGIN:VEVENT
DTSTART;TZID=Asia/Kolkata:20091014T153000
DTEND;TZID=Asia/Kolkata:20091014T220000
DTSTAMP:20260422T171838
CREATED:20190826T131242Z
LAST-MODIFIED:20190826T131242Z
UID:5462-1255534200-1255557600@gercin.org
SUMMARY:962/2009
DESCRIPTION:Approval of change in delivery point in PPA
URL:https://gercin.org/hearing-schedule/962-2009-2/
CATEGORIES:Hearing Schedule
END:VEVENT
END:VCALENDAR