        BEGIN:VCALENDAR
VERSION:2.0
PRODID:-//Gujarat Electricity Regulatory Commission - ECPv5.3.0//NONSGML v1.0//EN
CALSCALE:GREGORIAN
METHOD:PUBLISH
X-WR-CALNAME:Gujarat Electricity Regulatory Commission
X-ORIGINAL-URL:https://gercin.org
X-WR-CALDESC:Events for Gujarat Electricity Regulatory Commission
BEGIN:VTIMEZONE
TZID:Asia/Kolkata
BEGIN:STANDARD
TZOFFSETFROM:+0530
TZOFFSETTO:+0530
TZNAME:IST
DTSTART:20080101T000000
END:STANDARD
END:VTIMEZONE
BEGIN:VEVENT
DTSTART;TZID=Asia/Kolkata:20081121T113000
DTEND;TZID=Asia/Kolkata:20081121T180000
DTSTAMP:20260423T101855
CREATED:20190826T131613Z
LAST-MODIFIED:20190826T131613Z
UID:5752-1227267000-1227290400@gercin.org
SUMMARY:873/2006
DESCRIPTION:Dispute in interpretation and implementation of PPA
URL:https://gercin.org/hearing-schedule/873-2006-2/
CATEGORIES:Hearing Schedule
END:VEVENT
BEGIN:VEVENT
DTSTART;TZID=Asia/Kolkata:20081121T113000
DTEND;TZID=Asia/Kolkata:20081121T180000
DTSTAMP:20260423T101855
CREATED:20190826T133035Z
LAST-MODIFIED:20190826T133035Z
UID:6911-1227267000-1227290400@gercin.org
SUMMARY:933/2008
DESCRIPTION:Review of RPS and Review of Regulation no. 15/2005
URL:https://gercin.org/hearing-schedule/933-2008-4/
CATEGORIES:Hearing Schedule
END:VEVENT
BEGIN:VEVENT
DTSTART;TZID=Asia/Kolkata:20081121T113000
DTEND;TZID=Asia/Kolkata:20081121T180000
DTSTAMP:20260423T101855
CREATED:20190826T133035Z
LAST-MODIFIED:20190826T133035Z
UID:6912-1227267000-1227290400@gercin.org
SUMMARY:934/2008
DESCRIPTION:Review of RPS and Review of Regulation no. 15/2005
URL:https://gercin.org/hearing-schedule/934-2008-5/
CATEGORIES:Hearing Schedule
END:VEVENT
BEGIN:VEVENT
DTSTART;TZID=Asia/Kolkata:20081121T113000
DTEND;TZID=Asia/Kolkata:20081121T180000
DTSTAMP:20260423T101855
CREATED:20190826T133035Z
LAST-MODIFIED:20190826T133035Z
UID:6913-1227267000-1227290400@gercin.org
SUMMARY:955/2008
DESCRIPTION:Subsidy to GUVNL
URL:https://gercin.org/hearing-schedule/955-2008/
CATEGORIES:Hearing Schedule
END:VEVENT
BEGIN:VEVENT
DTSTART;TZID=Asia/Kolkata:20081121T113000
DTEND;TZID=Asia/Kolkata:20081121T180000
DTSTAMP:20260423T101855
CREATED:20190826T133050Z
LAST-MODIFIED:20190826T133050Z
UID:6914-1227267000-1227290400@gercin.org
SUMMARY:872/2006
DESCRIPTION:Dispute in interpretation and implementation of PPA
URL:https://gercin.org/hearing-schedule/872-2006-2/
CATEGORIES:Hearing Schedule
END:VEVENT
BEGIN:VEVENT
DTSTART;TZID=Asia/Kolkata:20081121T113000
DTEND;TZID=Asia/Kolkata:20081121T180000
DTSTAMP:20260423T101855
CREATED:20190826T133050Z
LAST-MODIFIED:20190826T133050Z
UID:6925-1227267000-1227290400@gercin.org
SUMMARY:874/2006
DESCRIPTION:Dispute in interpretation and implementation of PPA
URL:https://gercin.org/hearing-schedule/874-2006-2/
CATEGORIES:Hearing Schedule
END:VEVENT
END:VCALENDAR