        BEGIN:VCALENDAR
VERSION:2.0
PRODID:-//Gujarat Electricity Regulatory Commission - ECPv5.3.0//NONSGML v1.0//EN
CALSCALE:GREGORIAN
METHOD:PUBLISH
X-WR-CALNAME:Gujarat Electricity Regulatory Commission
X-ORIGINAL-URL:https://gercin.org
X-WR-CALDESC:Events for Gujarat Electricity Regulatory Commission
BEGIN:VTIMEZONE
TZID:Asia/Kolkata
BEGIN:STANDARD
TZOFFSETFROM:+0530
TZOFFSETTO:+0530
TZNAME:IST
DTSTART:20260101T000000
END:STANDARD
END:VTIMEZONE
BEGIN:VEVENT
DTSTART;TZID=Asia/Kolkata:20260421T110000
DTEND;TZID=Asia/Kolkata:20260421T170000
DTSTAMP:20260423T163144
CREATED:20260408T054314Z
LAST-MODIFIED:20260408T055428Z
UID:45571-1776769200-1776790800@gercin.org
SUMMARY:OMB/RJT/11/2026
DESCRIPTION:Billing related
URL:https://gercin.org/hearing-schedule/omb-rjt-11-2026-2/
CATEGORIES:Ombudsman Hearing Schedule Rajkot
END:VEVENT
BEGIN:VEVENT
DTSTART;TZID=Asia/Kolkata:20260421T110000
DTEND;TZID=Asia/Kolkata:20260421T170000
DTSTAMP:20260423T163144
CREATED:20260408T054418Z
LAST-MODIFIED:20260408T054547Z
UID:45573-1776769200-1776790800@gercin.org
SUMMARY:OMB/RJT/13/2026
DESCRIPTION:Supplementary bill towards slowness
URL:https://gercin.org/hearing-schedule/omb-rjt-13-2026-2/
CATEGORIES:Ombudsman Hearing Schedule Rajkot
END:VEVENT
BEGIN:VEVENT
DTSTART;TZID=Asia/Kolkata:20260421T110000
DTEND;TZID=Asia/Kolkata:20260421T170000
DTSTAMP:20260423T163144
CREATED:20260408T054732Z
LAST-MODIFIED:20260408T054752Z
UID:45575-1776769200-1776790800@gercin.org
SUMMARY:OMB/RJT/15/2026-Admission Stage
DESCRIPTION:Settlement of solar generation
URL:https://gercin.org/hearing-schedule/omb-rjt-15-2026/
CATEGORIES:Ombudsman Hearing Schedule Rajkot
END:VEVENT
BEGIN:VEVENT
DTSTART;TZID=Asia/Kolkata:20260421T110000
DTEND;TZID=Asia/Kolkata:20260421T170000
DTSTAMP:20260423T163144
CREATED:20260408T055021Z
LAST-MODIFIED:20260408T055021Z
UID:45578-1776769200-1776790800@gercin.org
SUMMARY:OMB/RJT/16/2026
DESCRIPTION:Review of case no.31/2025
URL:https://gercin.org/hearing-schedule/omb-rjt-16-2026/
CATEGORIES:Ombudsman Hearing Schedule Rajkot
END:VEVENT
BEGIN:VEVENT
DTSTART;TZID=Asia/Kolkata:20260421T110000
DTEND;TZID=Asia/Kolkata:20260421T170000
DTSTAMP:20260423T163144
CREATED:20260408T055201Z
LAST-MODIFIED:20260408T055201Z
UID:45580-1776769200-1776790800@gercin.org
SUMMARY:OMB/RJT/17/2026
DESCRIPTION:Estimate Related
URL:https://gercin.org/hearing-schedule/omb-rjt-17-2026/
CATEGORIES:Ombudsman Hearing Schedule Rajkot
END:VEVENT
BEGIN:VEVENT
DTSTART;TZID=Asia/Kolkata:20260421T110000
DTEND;TZID=Asia/Kolkata:20260421T170000
DTSTAMP:20260423T163144
CREATED:20260408T055314Z
LAST-MODIFIED:20260408T055314Z
UID:45582-1776769200-1776790800@gercin.org
SUMMARY:OMB/RJT/18/2026
DESCRIPTION:Estimate related
URL:https://gercin.org/hearing-schedule/omb-rjt-18-2026/
CATEGORIES:Ombudsman Hearing Schedule Rajkot
END:VEVENT
BEGIN:VEVENT
DTSTART;TZID=Asia/Kolkata:20260421T113000
DTEND;TZID=Asia/Kolkata:20260421T170000
DTSTAMP:20260423T163144
CREATED:20260414T034315Z
LAST-MODIFIED:20260414T034315Z
UID:45647-1776771000-1776790800@gercin.org
SUMMARY:2599/2025
DESCRIPTION:Petition under Section 86(1)(f) of the Electricity Act\, 2003 read with Electricity (Promotion of Generation of Electricity from Must-Run Power Plant) Rules\, 2021 and the Power Purchase Agreement dated 26.08.2019.
URL:https://gercin.org/hearing-schedule/2599-2025/
CATEGORIES:Hearing Schedule
END:VEVENT
BEGIN:VEVENT
DTSTART;TZID=Asia/Kolkata:20260421T113000
DTEND;TZID=Asia/Kolkata:20260421T170000
DTSTAMP:20260423T163144
CREATED:20260414T034419Z
LAST-MODIFIED:20260414T034419Z
UID:45649-1776771000-1776790800@gercin.org
SUMMARY:2604/2026
DESCRIPTION:Petition under Electricity Act\, 2003 read with the GERC (Licensee’s Power to Recover Expenditure incurred in providing\nsupply and other Miscellaneous Charges) Regulations\, 2005 for approval of levy of 2.5% supervision charges instead of\n15% on the estimated cost towards erection of new Ring Main Unit (RMU)\, Compact Sub-Station (CSS)\, High Tension Metering Cubicle (HTMC)\, Vacuum Circuit Breaker (VCB)\, Resin Cast CTPT\, Sandwich Busbar Trunking System and LT underground cable & its associated equipment\, for LT/HT consumer/ applicant -laid/erected by the consumer/applicant as a special case.
URL:https://gercin.org/hearing-schedule/2604-2026/
CATEGORIES:Hearing Schedule
END:VEVENT
BEGIN:VEVENT
DTSTART;TZID=Asia/Kolkata:20260421T113000
DTEND;TZID=Asia/Kolkata:20260421T170000
DTSTAMP:20260423T163144
CREATED:20260414T034515Z
LAST-MODIFIED:20260414T034515Z
UID:45651-1776771000-1776790800@gercin.org
SUMMARY:2605/2026
DESCRIPTION:Petition under Section 86 (1) (c) (e) & (f) of EA\, 2003 read with Regulations 80 and 82 of the GERC (Conduct of Business)\nRegulations\, 2004 seeking directions for extension of time period for commissioning the entire evacuation infrastructure\nalong with commissioning of the project till 31.12.2026 due to occurrence of the unforeseen events and seeking extension of Period for commissioning the entire project under the “Tariff Framework for procurement of Power by Distribution\nLicensees and Others from Solar Energy Projects and Other Commercial Issues for the State of Gujarat\, 2024”\, by invoking\ninherent powers vested in the Hon’ble Commission for seeking extension.
URL:https://gercin.org/hearing-schedule/2605-2026/
CATEGORIES:Hearing Schedule
END:VEVENT
BEGIN:VEVENT
DTSTART;TZID=Asia/Kolkata:20260421T113000
DTEND;TZID=Asia/Kolkata:20260421T170000
DTSTAMP:20260423T163144
CREATED:20260414T034610Z
LAST-MODIFIED:20260417T105751Z
UID:45653-1776771000-1776790800@gercin.org
SUMMARY:2606/2026
DESCRIPTION:Petition under Section 86 (1) (c) (e) & (f) of EA\, 2003 read with Regulations 80 and 82 of the GERC (Conduct of Business)\nRegulations\, 2004 seeking directions for extension of time period for commissioning the entire evacuation infrastructure\nalong with commissioning of the project till 31.12.2026 due to occurrence of the unforeseen events and seeking extension of Period for commissioning the entire project under the “Tariff Framework for procurement of Power by Distribution\nLicensees and Others from Solar Energy Projects and Other Commercial Issues for the State of Gujarat\, 2024”\, by invoking\ninherent powers vested in the Hon’ble Commission for seeking extension.
URL:https://gercin.org/hearing-schedule/2576-2025-ias-no-108-2025-109-2025-2/
CATEGORIES:Hearing Schedule
END:VEVENT
BEGIN:VEVENT
DTSTART;TZID=Asia/Kolkata:20260421T113000
DTEND;TZID=Asia/Kolkata:20260421T170000
DTSTAMP:20260423T163144
CREATED:20260414T040200Z
LAST-MODIFIED:20260414T040200Z
UID:45655-1776771000-1776790800@gercin.org
SUMMARY:2607/2026
DESCRIPTION:Petition under Section 86 (1) (c)\, (e)\, (f) and other applicable provisions of EA\, 2003 r/w. Clause 2.9 of the GERC’ Order No. 06/2024 dated 31.08.2024\, seeking extension of Scheduled Date of Commissioning of infrastructure being developed by the Petitioner for 20 MW Solar Power Plant for captive use located at Village Nana Samdhiyala\, Taluka Gir Gadhda\, District Gir Somnath\, to be evacuated to GETCO 66 KV Luvari Mori Substation on account of unforeseen reasons.
URL:https://gercin.org/hearing-schedule/2607-2026/
CATEGORIES:Hearing Schedule
END:VEVENT
BEGIN:VEVENT
DTSTART;TZID=Asia/Kolkata:20260421T113000
DTEND;TZID=Asia/Kolkata:20260421T170000
DTSTAMP:20260423T163144
CREATED:20260414T040325Z
LAST-MODIFIED:20260414T040325Z
UID:45657-1776771000-1776790800@gercin.org
SUMMARY:2611/2026
DESCRIPTION:Petition under Section 86 (1) (f) and (e) of the Electricity Act\, 2003 read with Regulations 80 and 82 of the GERC (Conduct of Business) Regulations\, 2004 to adjudicate upon the disputes between the licensees and generating company and for set-off of 4\,47\,649 units to be given by the Respondent UGVCL to the Petitioner in the future energy bill with regard to units injected into the Grid during the period from March 2025 to August 2025.
URL:https://gercin.org/hearing-schedule/2611-2026/
CATEGORIES:Hearing Schedule
END:VEVENT
BEGIN:VEVENT
DTSTART;TZID=Asia/Kolkata:20260421T113000
DTEND;TZID=Asia/Kolkata:20260421T170000
DTSTAMP:20260423T163144
CREATED:20260414T040422Z
LAST-MODIFIED:20260414T040422Z
UID:45659-1776771000-1776790800@gercin.org
SUMMARY:2615/2026
DESCRIPTION:Petition under Sections 42\, 43\, 50\, 86 & other applicable provisions of the Electricity Act\, 2003 read with GERC (Electricity Supply Code and Related Matters) Regulations\, 2015\, GERC (Standard of Performance of Distribution Licensee) Regulations 2023 and other applicable Regulations of GERC to declare that time period of 180 days as per Clause 4.2 of GERC (SoP) Regulations\, 2023 read with Clause 4.33 of GERC Supply Code\, 2015 be reckoned from the date of payment of final estimate issued by UGVCL and consequently directing UGVCL to refund the excess amount recovered from the Petitioner towards minimum demand charges considering deemed release of 4200 KVA Power Demand.
URL:https://gercin.org/hearing-schedule/2615-2026/
CATEGORIES:Hearing Schedule
END:VEVENT
BEGIN:VEVENT
DTSTART;TZID=Asia/Kolkata:20260421T113000
DTEND;TZID=Asia/Kolkata:20260421T170000
DTSTAMP:20260423T163144
CREATED:20260414T040611Z
LAST-MODIFIED:20260414T040611Z
UID:45661-1776771000-1776790800@gercin.org
SUMMARY:2617/2026
DESCRIPTION:Petition under Sections (1) (e) and (f) and other applicable of EA\, 2003 read with Regulation 11.2 of GERC Notification No. 5 of 2016\, titled ‘Regulations for Net Metering Rooftop Solar PV Grid Interactive Systems’\, alongwith its subsequent\namendments\, and further read with the Interconnection Agreement (Provisional) executed between UGVCL and Solar PV\nProject Owner dated 24.05.2021\, seeking directions for execution of the final interconnection agreement\, application of the relevant Regulations and prevailing amendments thereto at the time of commissioning\, enforcement of the final agreement from the date of commissioning with the applicable tariff framework and refund of any differential amount\, if any\, alongwith the applicable interest.
URL:https://gercin.org/hearing-schedule/2617-2026/
CATEGORIES:Hearing Schedule
END:VEVENT
BEGIN:VEVENT
DTSTART;TZID=Asia/Kolkata:20260421T113000
DTEND;TZID=Asia/Kolkata:20260421T170000
DTSTAMP:20260423T163144
CREATED:20260414T040713Z
LAST-MODIFIED:20260414T040713Z
UID:45663-1776771000-1776790800@gercin.org
SUMMARY:2619/2026
DESCRIPTION:Petition under Sections (1) (e) and (f) and other applicable of the Electricity Act\, 2003 read with Regulation 11.2 of GERC Notification No. 5 of 2016\, titled ‘Regulations for Net Metering Rooftop Solar PV Grid Interactive Systems’\, alongwith its subsequent amendments\, and further read with the Interconnection Agreement (Provisional) executed between the Respondent UGVCL and the Solar PV Project Owner at Kadi dated 29.05.2021\, seeking directions for execution of the final interconnection agreement\, application of the relevant Regulations and prevailing amendments thereto at the time of\ncommissioning\, enforcement of the final agreement from the date of commissioning with the applicable tariff framework\nand refund of any differential amount\, if any\, alongwith the applicable interest.
URL:https://gercin.org/hearing-schedule/2619-2026/
CATEGORIES:Hearing Schedule
END:VEVENT
END:VCALENDAR